Workbook

Sheet ΔΕ
A1: ΠΙΝΑΚΑΣ ΚΑΤΑΤΑΞΗΣ 110 - ΔΕ ΠΡΟΣΩΠΙΚΟ ΑΣΦΑΛΕΙΑΣ
E2: (1) | F2: (2) | G2: (3) | H2: (4) | I2: (5) | J2: (6) | K2: (7) | L2: (8) | M2: (9) | N2: (10α) | O2: (10β) | P2: (11) | Q2: (12)
A3: A/A | B3: ΑΡ.ΠΡΩΤ. | C3: ΕΠΩΝΥΜΟ | D3: ΟΝΟΜΑ | E3: ΧΡΟΝΟΣ ΑΝΕΡΓΙΑΣ (σε μήνες) | F3: ΠΟΛΥΤΕΚΝΟΣ (αριθμ. τέκνων) | G3: ΤΕΚΝΟ ΠΟΛΥΤΕΚΝΗΣ ΟΙΚΟΓΕΝΕΙΑΣ (αρ. τέκνων) | H3: ΤΡΙΤΕΚΝΟΣΣ (αριθμ. Τεκνων) | I3: ΤΕΚΝΟ ΤΡΙΤΕΚΝΗΣ (αριθμ. Τέκνων) | J3: ΑΝΗΛΙΚΑ ΤΕΚΝΑ (αριθμ. ανήλικων τέκνων) | K3: ΓΟΝΕΑΣ ΜΟΝΟΓΟΝΕΙΚΗΣ ΟΙΚΟΓΕΝΕΙΑΣ (αριθμ. τέκνων) | L3: ΤΕΚΝΟ ΜΟΝΟΓΟΝΕΙΚΗΣ ΟΙΚΟΓΕΝΕΙΑΣ (αρ. τέκνων) | M3: ΤΙΛΟΣ ΣΠΟΥΔΩΝ (για ΔΕ κατηγορία) | N3: ΕΜΠΕΙΡΙΑ ΣΤΟ ΔΗΜΟΣΙΟ (μήνες) | O3: ΕΜΠΕΙΡΙΑ ΣΤΟΝ ΙΔΙΩΤΙΚΟ (μήνες) | P3: ΑΝΑΠΗΡΙΑ ΥΠΟΨΗΦΙΟΥ (ποσοστό) | Q3: ΑΝΑΠΗΡΙΑ ΓΟΝΕΑ, ΤΕΚΝΟΥ, ΑΔΕΛΦΟΥ ΣΥΖΥΓΟΥ (ποσοστό) | R3: ΜΟΝΑΔΕΣ (1) | S3: ΜΟΝΑΔΕΣ (2) | T3: ΜΟΝΑΔΕΣ (3) | U3: ΜΟΝΑΔΕΣ (4) | V3: ΜΟΝΑΔΕΣ (5) | W3: ΜΟΝΑΔΕΣ (6) | X3: ΜΟΝΑΔΕΣ (7) | Y3: ΜΟΝΑΔΕΣ (8) | Z3: ΜΟΝΑΔΕΣ (9) | AA3: ΜΟΝΑΔΕΣ (10α) | AB3: ΜΟΝΑΔΕΣ (10β) | AC3: ΜΟΝΑΔΕΣ (11) | AD3: ΜΟΝΑΔΕΣ (12) | AE3: ΣΥΝΟΛΟ ΜΟΝΑΔΩΝ
A4: ΚΩΔ.ΘΕΣΗΣ 110 - ΚΥΡΙΑ ΠΡΟΣΟΝΤΑ
A5: 1 | B5: 18899 | C5: ΜΠΑΣΤΑΣ | D5: ΔΙΟΝΥΣΙΟΣ | J5: 1 | M5: 18 | O5: 46 | R5: =VLOOKUP(E5,Παράμετροι!$A$4:$B$10,2) -> 0 | S5: =VLOOKUP(F5,Παράμετροι!$D$4:$E$19,2) -> 0 | T5: =VLOOKUP(G5,Παράμετροι!$D$4:$E$19,2) -> 0 | U5: =VLOOKUP(H5,Παράμετροι!$G$4:$H$7,2) -> 0 | V5: =VLOOKUP(I5,Παράμετροι!$G$4:$H$7,2) -> 0 | W5: =VLOOKUP(J5,Παράμετροι!$J$4:$K$7,2) -> 30 | X5: =VLOOKUP(K5,Παράμετροι!$M$4:$N$14,2) -> 0 | Y5: =VLOOKUP(L5,Παράμετροι!$M$4:$N$14,2) -> 0 | Z5: =VLOOKUP(M5,Παράμετροι!$P$4:$Q$1004,2) -> 360 | AA5: =VLOOKUP(N5,Παράμετροι!$S$4:$T$124,2) -> 0 | AB5: =VLOOKUP(O5,Παράμετροι!$V$4:$W$124,2) -> 322 | AC5: =VLOOKUP(P5,Παράμετροι!$Y$4:$Z$55,2) -> 0 | AD5: =VLOOKUP(Q5,Παράμετροι!$AB$4:$AC$55,2) -> 0 | AE5: =SUM(R5:AD5) -> 712
A6: 2 | B6: 17111 | C6: ΣΑΜΑΛΕΤΗΣ | D6: ΔΗΜΗΤΡΙΟΣ-ΜΑΡΙΟΣ | M6: 19 | N6: 20 | R6: =VLOOKUP(E6,Παράμετροι!$A$4:$B$10,2) -> 0 | S6: =VLOOKUP(F6,Παράμετροι!$D$4:$E$19,2) -> 0 | T6: =VLOOKUP(G6,Παράμετροι!$D$4:$E$19,2) -> 0 | U6: =VLOOKUP(H6,Παράμετροι!$G$4:$H$7,2) -> 0 | V6: =VLOOKUP(I6,Παράμετροι!$G$4:$H$7,2) -> 0 | W6: =VLOOKUP(J6,Παράμετροι!$J$4:$K$7,2) -> 0 | X6: =VLOOKUP(K6,Παράμετροι!$M$4:$N$14,2) -> 0 | Y6: =VLOOKUP(L6,Παράμετροι!$M$4:$N$14,2) -> 0 | Z6: =VLOOKUP(M6,Παράμετροι!$P$4:$Q$1004,2) -> 380 | AA6: =VLOOKUP(N6,Παράμετροι!$S$4:$T$124,2) -> 160 | AB6: =VLOOKUP(O6,Παράμετροι!$V$4:$W$124,2) -> 0 | AC6: =VLOOKUP(P6,Παράμετροι!$Y$4:$Z$55,2) -> 0 | AD6: =VLOOKUP(Q6,Παράμετροι!$AB$4:$AC$55,2) -> 0 | AE6: =SUM(R6:AD6) -> 540
A7: 3 | B7: 17137 | C7: ΧΟΥΣΕΪΝ | D7: ΡΑΓΚΑΜΠ | M7: 14 | N7: 18 | R7: =VLOOKUP(E7,Παράμετροι!$A$4:$B$10,2) -> 0 | S7: =VLOOKUP(F7,Παράμετροι!$D$4:$E$19,2) -> 0 | T7: =VLOOKUP(G7,Παράμετροι!$D$4:$E$19,2) -> 0 | U7: =VLOOKUP(H7,Παράμετροι!$G$4:$H$7,2) -> 0 | V7: =VLOOKUP(I7,Παράμετροι!$G$4:$H$7,2) -> 0 | W7: =VLOOKUP(J7,Παράμετροι!$J$4:$K$7,2) -> 0 | X7: =VLOOKUP(K7,Παράμετροι!$M$4:$N$14,2) -> 0 | Y7: =VLOOKUP(L7,Παράμετροι!$M$4:$N$14,2) -> 0 | Z7: =VLOOKUP(M7,Παράμετροι!$P$4:$Q$1004,2) -> 280 | AA7: =VLOOKUP(N7,Παράμετροι!$S$4:$T$124,2) -> 144 | AB7: =VLOOKUP(O7,Παράμετροι!$V$4:$W$124,2) -> 0 | AC7: =VLOOKUP(P7,Παράμετροι!$Y$4:$Z$55,2) -> 0 | AD7: =VLOOKUP(Q7,Παράμετροι!$AB$4:$AC$55,2) -> 0 | AE7: =SUM(R7:AD7) -> 424
A8: 4 | B8: 18847 | C8: ΚΟΛΟΒΟΣ | D8: ΑΘΑΝΑΣΙΟΣ | M8: 11 | N8: 10 | O8: 14 | R8: =VLOOKUP(E8,Παράμετροι!$A$4:$B$10,2) -> 0 | S8: =VLOOKUP(F8,Παράμετροι!$D$4:$E$19,2) -> 0 | T8: =VLOOKUP(G8,Παράμετροι!$D$4:$E$19,2) -> 0 | U8: =VLOOKUP(H8,Παράμετροι!$G$4:$H$7,2) -> 0 | V8: =VLOOKUP(I8,Παράμετροι!$G$4:$H$7,2) -> 0 | W8: =VLOOKUP(J8,Παράμετροι!$J$4:$K$7,2) -> 0 | X8: =VLOOKUP(K8,Παράμετροι!$M$4:$N$14,2) -> 0 | Y8: =VLOOKUP(L8,Παράμετροι!$M$4:$N$14,2) -> 0 | Z8: =VLOOKUP(M8,Παράμετροι!$P$4:$Q$1004,2) -> 220 | AA8: =VLOOKUP(N8,Παράμετροι!$S$4:$T$124,2) -> 80 | AB8: =VLOOKUP(O8,Παράμετροι!$V$4:$W$124,2) -> 98 | AC8: =VLOOKUP(P8,Παράμετροι!$Y$4:$Z$55,2) -> 0 | AD8: =VLOOKUP(Q8,Παράμετροι!$AB$4:$AC$55,2) -> 0 | AE8: =SUM(R8:AD8) -> 398
A9: 5 | B9: 17486 | C9: ΣΤΕΛΛΑΤΟΣ | D9: ΓΕΡΑΣΙΜΟΣ | E9: 2 | M9: 12 | R9: =VLOOKUP(E9,Παράμετροι!$A$4:$B$10,2) -> 0 | S9: =VLOOKUP(F9,Παράμετροι!$D$4:$E$19,2) -> 0 | T9: =VLOOKUP(G9,Παράμετροι!$D$4:$E$19,2) -> 0 | U9: =VLOOKUP(H9,Παράμετροι!$G$4:$H$7,2) -> 0 | V9: =VLOOKUP(I9,Παράμετροι!$G$4:$H$7,2) -> 0 | W9: =VLOOKUP(J9,Παράμετροι!$J$4:$K$7,2) -> 0 | X9: =VLOOKUP(K9,Παράμετροι!$M$4:$N$14,2) -> 0 | Y9: =VLOOKUP(L9,Παράμετροι!$M$4:$N$14,2) -> 0 | Z9: =VLOOKUP(M9,Παράμετροι!$P$4:$Q$1004,2) -> 240 | AA9: =VLOOKUP(N9,Παράμετροι!$S$4:$T$124,2) -> 0 | AB9: =VLOOKUP(O9,Παράμετροι!$V$4:$W$124,2) -> 0 | AC9: =VLOOKUP(P9,Παράμετροι!$Y$4:$Z$55,2) -> 0 | AD9: =VLOOKUP(Q9,Παράμετροι!$AB$4:$AC$55,2) -> 0 | AE9: =SUM(R9:AD9) -> 240
A10: 6 | B10: 17282 | C10: ΚΟΡΟΜΠΙΛΗΣ | D10: ΚΩΝ/ΝΟΣ-ΠΑΝΑΓΙΩΤΗΣ | M10: 11 | R10: =VLOOKUP(E10,Παράμετροι!$A$4:$B$10,2) -> 0 | S10: =VLOOKUP(F10,Παράμετροι!$D$4:$E$19,2) -> 0 | T10: =VLOOKUP(G10,Παράμετροι!$D$4:$E$19,2) -> 0 | U10: =VLOOKUP(H10,Παράμετροι!$G$4:$H$7,2) -> 0 | V10: =VLOOKUP(I10,Παράμετροι!$G$4:$H$7,2) -> 0 | W10: =VLOOKUP(J10,Παράμετροι!$J$4:$K$7,2) -> 0 | X10: =VLOOKUP(K10,Παράμετροι!$M$4:$N$14,2) -> 0 | Y10: =VLOOKUP(L10,Παράμετροι!$M$4:$N$14,2) -> 0 | Z10: =VLOOKUP(M10,Παράμετροι!$P$4:$Q$1004,2) -> 220 | AA10: =VLOOKUP(N10,Παράμετροι!$S$4:$T$124,2) -> 0 | AB10: =VLOOKUP(O10,Παράμετροι!$V$4:$W$124,2) -> 0 | AC10: =VLOOKUP(P10,Παράμετροι!$Y$4:$Z$55,2) -> 0 | AD10: =VLOOKUP(Q10,Παράμετροι!$AB$4:$AC$55,2) -> 0 | AE10: =SUM(R10:AD10) -> 220
A13: ΚΩΔ.ΘΕΣΗΣ 110 - ΠΡΟΣΟΝΤΑ Α ΈΠΙΚΟΥΡΙΑΣ
A14: 1 | B14: 15191 | C14: ΚΟΤΣΩΝΗΣ | D14: ΕΥΑΓΓΕΛΟΣ | E14: 7 | M14: 18.58 | N14: 50 | O14: 68 | R14: =VLOOKUP(E14,Παράμετροι!$A$4:$B$10,2) -> 300 | S14: =VLOOKUP(F14,Παράμετροι!$D$4:$E$19,2) -> 0 | T14: =VLOOKUP(G14,Παράμετροι!$D$4:$E$19,2) -> 0 | U14: =VLOOKUP(H14,Παράμετροι!$G$4:$H$7,2) -> 0 | V14: =VLOOKUP(I14,Παράμετροι!$G$4:$H$7,2) -> 0 | W14: =VLOOKUP(J14,Παράμετροι!$J$4:$K$7,2) -> 0 | X14: =VLOOKUP(K14,Παράμετροι!$M$4:$N$14,2) -> 0 | Y14: =VLOOKUP(L14,Παράμετροι!$M$4:$N$14,2) -> 0 | Z14: =VLOOKUP(M14,Παράμετροι!$P$4:$Q$1004,2) -> 371.6 | AA14: =VLOOKUP(N14,Παράμετροι!$S$4:$T$124,2) -> 400 | AB14: =VLOOKUP(O14,Παράμετροι!$V$4:$W$124,2) -> 476 | AC14: =VLOOKUP(P14,Παράμετροι!$Y$4:$Z$55,2) -> 0 | AD14: =VLOOKUP(Q14,Παράμετροι!$AB$4:$AC$55,2) -> 0 | AE14: =SUM(R14:AD14) -> 1547.6
A15: 2 | B15: 18860 | C15: ΜΑΝΤΟΥΒΑΛΟΣ | D15: ΓΕΩΡΓΙΟΣ | E15: 4 | M15: 14 | N15: 26 | O15: 120 | R15: =VLOOKUP(E15,Παράμετροι!$A$4:$B$10,2) -> 200 | S15: =VLOOKUP(F15,Παράμετροι!$D$4:$E$19,2) -> 0 | T15: =VLOOKUP(G15,Παράμετροι!$D$4:$E$19,2) -> 0 | U15: =VLOOKUP(H15,Παράμετροι!$G$4:$H$7,2) -> 0 | V15: =VLOOKUP(I15,Παράμετροι!$G$4:$H$7,2) -> 0 | W15: =VLOOKUP(J15,Παράμετροι!$J$4:$K$7,2) -> 0 | X15: =VLOOKUP(K15,Παράμετροι!$M$4:$N$14,2) -> 0 | Y15: =VLOOKUP(L15,Παράμετροι!$M$4:$N$14,2) -> 0 | Z15: =VLOOKUP(M15,Παράμετροι!$P$4:$Q$1004,2) -> 280 | AA15: =VLOOKUP(N15,Παράμετροι!$S$4:$T$124,2) -> 208 | AB15: =VLOOKUP(O15,Παράμετροι!$V$4:$W$124,2) -> 840 | AC15: =VLOOKUP(P15,Παράμετροι!$Y$4:$Z$55,2) -> 0 | AD15: =VLOOKUP(Q15,Παράμετροι!$AB$4:$AC$55,2) -> 0 | AE15: =SUM(R15:AD15) -> 1528
A16: 3 | B16: 16469 | C16: ΤΣΑΤΣΑΡΟΥΝΟΣ | D16: ΙΩΑΝΝΗΣ | J16: 1 | M16: 15 | N16: 14 | O16: 120 | R16: =VLOOKUP(E16,Παράμετροι!$A$4:$B$10,2) -> 0 | S16: =VLOOKUP(F16,Παράμετροι!$D$4:$E$19,2) -> 0 | T16: =VLOOKUP(G16,Παράμετροι!$D$4:$E$19,2) -> 0 | U16: =VLOOKUP(H16,Παράμετροι!$G$4:$H$7,2) -> 0 | V16: =VLOOKUP(I16,Παράμετροι!$G$4:$H$7,2) -> 0 | W16: =VLOOKUP(J16,Παράμετροι!$J$4:$K$7,2) -> 30 | X16: =VLOOKUP(K16,Παράμετροι!$M$4:$N$14,2) -> 0 | Y16: =VLOOKUP(L16,Παράμετροι!$M$4:$N$14,2) -> 0 | Z16: =VLOOKUP(M16,Παράμετροι!$P$4:$Q$1004,2) -> 300 | AA16: =VLOOKUP(N16,Παράμετροι!$S$4:$T$124,2) -> 112 | AB16: =VLOOKUP(O16,Παράμετροι!$V$4:$W$124,2) -> 840 | AC16: =VLOOKUP(P16,Παράμετροι!$Y$4:$Z$55,2) -> 0 | AD16: =VLOOKUP(Q16,Παράμετροι!$AB$4:$AC$55,2) -> 0 | AE16: =SUM(R16:AD16) -> 1282
A17: 4 | B17: 17751 | C17: ΤΡΙΑΝΤΑΦΥΛΛΟΥ | D17: ΠΑΝΤΕΛΗΣ | M17: 16.72 | N17: 13 | O17: 120 | R17: =VLOOKUP(E17,Παράμετροι!$A$4:$B$10,2) -> 0 | S17: =VLOOKUP(F17,Παράμετροι!$D$4:$E$19,2) -> 0 | T17: =VLOOKUP(G17,Παράμετροι!$D$4:$E$19,2) -> 0 | U17: =VLOOKUP(H17,Παράμετροι!$G$4:$H$7,2) -> 0 | V17: =VLOOKUP(I17,Παράμετροι!$G$4:$H$7,2) -> 0 | W17: =VLOOKUP(J17,Παράμετροι!$J$4:$K$7,2) -> 0 | X17: =VLOOKUP(K17,Παράμετροι!$M$4:$N$14,2) -> 0 | Y17: =VLOOKUP(L17,Παράμετροι!$M$4:$N$14,2) -> 0 | Z17: =VLOOKUP(M17,Παράμετροι!$P$4:$Q$1004,2) -> 334.4 | AA17: =VLOOKUP(N17,Παράμετροι!$S$4:$T$124,2) -> 104 | AB17: =VLOOKUP(O17,Παράμετροι!$V$4:$W$124,2) -> 840 | AC17: =VLOOKUP(P17,Παράμετροι!$Y$4:$Z$55,2) -> 0 | AD17: =VLOOKUP(Q17,Παράμετροι!$AB$4:$AC$55,2) -> 0 | AE17: =SUM(R17:AD17) -> 1278.4
A18: 5 | B18: 17381 | C18: ΛΟΥΚΑΣ | D18: ΘΕΟΔΩΡΟΣ | M18: 12.16 | N18: 24 | O18: 120 | R18: =VLOOKUP(E18,Παράμετροι!$A$4:$B$10,2) -> 0 | S18: =VLOOKUP(F18,Παράμετροι!$D$4:$E$19,2) -> 0 | T18: =VLOOKUP(G18,Παράμετροι!$D$4:$E$19,2) -> 0 | U18: =VLOOKUP(H18,Παράμετροι!$G$4:$H$7,2) -> 0 | V18: =VLOOKUP(I18,Παράμετροι!$G$4:$H$7,2) -> 0 | W18: =VLOOKUP(J18,Παράμετροι!$J$4:$K$7,2) -> 0 | X18: =VLOOKUP(K18,Παράμετροι!$M$4:$N$14,2) -> 0 | Y18: =VLOOKUP(L18,Παράμετροι!$M$4:$N$14,2) -> 0 | Z18: =VLOOKUP(M18,Παράμετροι!$P$4:$Q$1004,2) -> 243.2 | AA18: =VLOOKUP(N18,Παράμετροι!$S$4:$T$124,2) -> 192 | AB18: =VLOOKUP(O18,Παράμετροι!$V$4:$W$124,2) -> 840 | AC18: =VLOOKUP(P18,Παράμετροι!$Y$4:$Z$55,2) -> 0 | AD18: =VLOOKUP(Q18,Παράμετροι!$AB$4:$AC$55,2) -> 0 | AE18: =SUM(R18:AD18) -> 1275.2
A19: 6 | B19: 16971 | C19: ΠΕΤΡΟΠΟΥΛΟΣ | D19: ΔΗΜΗΤΡΙΟΣ | M19: 15.09 | N19: 120 | R19: =VLOOKUP(E19,Παράμετροι!$A$4:$B$10,2) -> 0 | S19: =VLOOKUP(F19,Παράμετροι!$D$4:$E$19,2) -> 0 | T19: =VLOOKUP(G19,Παράμετροι!$D$4:$E$19,2) -> 0 | U19: =VLOOKUP(H19,Παράμετροι!$G$4:$H$7,2) -> 0 | V19: =VLOOKUP(I19,Παράμετροι!$G$4:$H$7,2) -> 0 | W19: =VLOOKUP(J19,Παράμετροι!$J$4:$K$7,2) -> 0 | X19: =VLOOKUP(K19,Παράμετροι!$M$4:$N$14,2) -> 0 | Y19: =VLOOKUP(L19,Παράμετροι!$M$4:$N$14,2) -> 0 | Z19: =VLOOKUP(M19,Παράμετροι!$P$4:$Q$1004,2) -> 301.8 | AA19: =VLOOKUP(N19,Παράμετροι!$S$4:$T$124,2) -> 960 | AB19: =VLOOKUP(O19,Παράμετροι!$V$4:$W$124,2) -> 0 | AC19: =VLOOKUP(P19,Παράμετροι!$Y$4:$Z$55,2) -> 0 | AD19: =VLOOKUP(Q19,Παράμετροι!$AB$4:$AC$55,2) -> 0 | AE19: =SUM(R19:AD19) -> 1261.8
A20: 7 | B20: 16894 | C20: ΣΑΡΡΗ | D20: ΕΥΑΓΓΕΛΙΑ | G20: 4 | J20: 2 | M20: 13.7 | N20: 24 | O20: 76 | R20: =VLOOKUP(E20,Παράμετροι!$A$4:$B$10,2) -> 0 | S20: =VLOOKUP(F20,Παράμετροι!$D$4:$E$19,2) -> 0 | T20: =VLOOKUP(G20,Παράμετροι!$D$4:$E$19,2) -> 200 | U20: =VLOOKUP(H20,Παράμετροι!$G$4:$H$7,2) -> 0 | V20: =VLOOKUP(I20,Παράμετροι!$G$4:$H$7,2) -> 0 | W20: =VLOOKUP(J20,Παράμετροι!$J$4:$K$7,2) -> 60 | X20: =VLOOKUP(K20,Παράμετροι!$M$4:$N$14,2) -> 0 | Y20: =VLOOKUP(L20,Παράμετροι!$M$4:$N$14,2) -> 0 | Z20: =VLOOKUP(M20,Παράμετροι!$P$4:$Q$1004,2) -> 274 | AA20: =VLOOKUP(N20,Παράμετροι!$S$4:$T$124,2) -> 192 | AB20: =VLOOKUP(O20,Παράμετροι!$V$4:$W$124,2) -> 532 | AC20: =VLOOKUP(P20,Παράμετροι!$Y$4:$Z$55,2) -> 0 | AD20: =VLOOKUP(Q20,Παράμετροι!$AB$4:$AC$55,2) -> 0 | AE20: =SUM(R20:AD20) -> 1258
A21: 8 | B21: 18322 | C21: ΜΠΟΥΓΑΣ | D21: ΔΗΜΗΤΡΙΟΣ | J21: 1 | M21: 12.6 | N21: 13 | O21: 120 | R21: =VLOOKUP(E21,Παράμετροι!$A$4:$B$10,2) -> 0 | S21: =VLOOKUP(F21,Παράμετροι!$D$4:$E$19,2) -> 0 | T21: =VLOOKUP(G21,Παράμετροι!$D$4:$E$19,2) -> 0 | U21: =VLOOKUP(H21,Παράμετροι!$G$4:$H$7,2) -> 0 | V21: =VLOOKUP(I21,Παράμετροι!$G$4:$H$7,2) -> 0 | W21: =VLOOKUP(J21,Παράμετροι!$J$4:$K$7,2) -> 30 | X21: =VLOOKUP(K21,Παράμετροι!$M$4:$N$14,2) -> 0 | Y21: =VLOOKUP(L21,Παράμετροι!$M$4:$N$14,2) -> 0 | Z21: =VLOOKUP(M21,Παράμετροι!$P$4:$Q$1004,2) -> 252 | AA21: =VLOOKUP(N21,Παράμετροι!$S$4:$T$124,2) -> 104 | AB21: =VLOOKUP(O21,Παράμετροι!$V$4:$W$124,2) -> 840 | AC21: =VLOOKUP(P21,Παράμετροι!$Y$4:$Z$55,2) -> 0 | AD21: =VLOOKUP(Q21,Παράμετροι!$AB$4:$AC$55,2) -> 0 | AE21: =SUM(R21:AD21) -> 1226
A22: 9 | B22: 17458 | C22: ΚΑΡΑΓΙΑΝΝΗΣ | D22: ΣΩΚΡΑΤΗΣ | E22: 3 | M22: 13.93 | N22: 43 | O22: 82 | R22: =VLOOKUP(E22,Παράμετροι!$A$4:$B$10,2) -> 0 | S22: =VLOOKUP(F22,Παράμετροι!$D$4:$E$19,2) -> 0 | T22: =VLOOKUP(G22,Παράμετροι!$D$4:$E$19,2) -> 0 | U22: =VLOOKUP(H22,Παράμετροι!$G$4:$H$7,2) -> 0 | V22: =VLOOKUP(I22,Παράμετροι!$G$4:$H$7,2) -> 0 | W22: =VLOOKUP(J22,Παράμετροι!$J$4:$K$7,2) -> 0 | X22: =VLOOKUP(K22,Παράμετροι!$M$4:$N$14,2) -> 0 | Y22: =VLOOKUP(L22,Παράμετροι!$M$4:$N$14,2) -> 0 | Z22: =VLOOKUP(M22,Παράμετροι!$P$4:$Q$1004,2) -> 278.6 | AA22: =VLOOKUP(N22,Παράμετροι!$S$4:$T$124,2) -> 344 | AB22: =VLOOKUP(O22,Παράμετροι!$V$4:$W$124,2) -> 574 | AC22: =VLOOKUP(P22,Παράμετροι!$Y$4:$Z$55,2) -> 0 | AD22: =VLOOKUP(Q22,Παράμετροι!$AB$4:$AC$55,2) -> 0 | AE22: =SUM(R22:AD22) -> 1196.6
A23: 10 | B23: 15979-17760 | C23: ΚΥΡΙΤΣΗ | D23: ΣΠΥΡΙΔΟΥΛΑ | M23: 12.8 | N23: 12 | O23: 120 | R23: =VLOOKUP(E23,Παράμετροι!$A$4:$B$10,2) -> 0 | S23: =VLOOKUP(F23,Παράμετροι!$D$4:$E$19,2) -> 0 | T23: =VLOOKUP(G23,Παράμετροι!$D$4:$E$19,2) -> 0 | U23: =VLOOKUP(H23,Παράμετροι!$G$4:$H$7,2) -> 0 | V23: =VLOOKUP(I23,Παράμετροι!$G$4:$H$7,2) -> 0 | W23: =VLOOKUP(J23,Παράμετροι!$J$4:$K$7,2) -> 0 | X23: =VLOOKUP(K23,Παράμετροι!$M$4:$N$14,2) -> 0 | Y23: =VLOOKUP(L23,Παράμετροι!$M$4:$N$14,2) -> 0 | Z23: =VLOOKUP(M23,Παράμετροι!$P$4:$Q$1004,2) -> 256 | AA23: =VLOOKUP(N23,Παράμετροι!$S$4:$T$124,2) -> 96 | AB23: =VLOOKUP(O23,Παράμετροι!$V$4:$W$124,2) -> 840 | AC23: =VLOOKUP(P23,Παράμετροι!$Y$4:$Z$55,2) -> 0 | AD23: =VLOOKUP(Q23,Παράμετροι!$AB$4:$AC$55,2) -> 0 | AE23: =SUM(R23:AD23) -> 1192
A24: 11 | B24: 18406 | C24: ΣΤΥΛΙΑΝΟΠΟΥΛΟΣ | D24: ΑΘΑΝΑΣΙΟΣ | J24: 1 | M24: 13.4 | N24: 107 | R24: =VLOOKUP(E24,Παράμετροι!$A$4:$B$10,2) -> 0 | S24: =VLOOKUP(F24,Παράμετροι!$D$4:$E$19,2) -> 0 | T24: =VLOOKUP(G24,Παράμετροι!$D$4:$E$19,2) -> 0 | U24: =VLOOKUP(H24,Παράμετροι!$G$4:$H$7,2) -> 0 | V24: =VLOOKUP(I24,Παράμετροι!$G$4:$H$7,2) -> 0 | W24: =VLOOKUP(J24,Παράμετροι!$J$4:$K$7,2) -> 30 | X24: =VLOOKUP(K24,Παράμετροι!$M$4:$N$14,2) -> 0 | Y24: =VLOOKUP(L24,Παράμετροι!$M$4:$N$14,2) -> 0 | Z24: =VLOOKUP(M24,Παράμετροι!$P$4:$Q$1004,2) -> 268 | AA24: =VLOOKUP(N24,Παράμετροι!$S$4:$T$124,2) -> 856 | AB24: =VLOOKUP(O24,Παράμετροι!$V$4:$W$124,2) -> 0 | AC24: =VLOOKUP(P24,Παράμετροι!$Y$4:$Z$55,2) -> 0 | AD24: =VLOOKUP(Q24,Παράμετροι!$AB$4:$AC$55,2) -> 0 | AE24: =SUM(R24:AD24) -> 1154
A25: 12 | B25: 18104 | C25: ΧΡΙΣΤΟΠΟΥΛΟΣ | D25: ΓΕΩΡΓΙΟΣ | M25: 14.23 | N25: 24 | O25: 96 | R25: =VLOOKUP(E25,Παράμετροι!$A$4:$B$10,2) -> 0 | S25: =VLOOKUP(F25,Παράμετροι!$D$4:$E$19,2) -> 0 | T25: =VLOOKUP(G25,Παράμετροι!$D$4:$E$19,2) -> 0 | U25: =VLOOKUP(H25,Παράμετροι!$G$4:$H$7,2) -> 0 | V25: =VLOOKUP(I25,Παράμετροι!$G$4:$H$7,2) -> 0 | W25: =VLOOKUP(J25,Παράμετροι!$J$4:$K$7,2) -> 0 | X25: =VLOOKUP(K25,Παράμετροι!$M$4:$N$14,2) -> 0 | Y25: =VLOOKUP(L25,Παράμετροι!$M$4:$N$14,2) -> 0 | Z25: =VLOOKUP(M25,Παράμετροι!$P$4:$Q$1004,2) -> 284.6 | AA25: =VLOOKUP(N25,Παράμετροι!$S$4:$T$124,2) -> 192 | AB25: =VLOOKUP(O25,Παράμετροι!$V$4:$W$124,2) -> 672 | AC25: =VLOOKUP(P25,Παράμετροι!$Y$4:$Z$55,2) -> 0 | AD25: =VLOOKUP(Q25,Παράμετροι!$AB$4:$AC$55,2) -> 0 | AE25: =SUM(R25:AD25) -> 1148.6
A26: 13 | B26: 15815 | C26: ΔΙΚΑΙΟΥ | D26: ΒΑΣΙΛΙΚΗ | M26: 16 | N26: 44 | O26: 59 | R26: =VLOOKUP(E26,Παράμετροι!$A$4:$B$10,2) -> 0 | S26: =VLOOKUP(F26,Παράμετροι!$D$4:$E$19,2) -> 0 | T26: =VLOOKUP(G26,Παράμετροι!$D$4:$E$19,2) -> 0 | U26: =VLOOKUP(H26,Παράμετροι!$G$4:$H$7,2) -> 0 | V26: =VLOOKUP(I26,Παράμετροι!$G$4:$H$7,2) -> 0 | W26: =VLOOKUP(J26,Παράμετροι!$J$4:$K$7,2) -> 0 | X26: =VLOOKUP(K26,Παράμετροι!$M$4:$N$14,2) -> 0 | Y26: =VLOOKUP(L26,Παράμετροι!$M$4:$N$14,2) -> 0 | Z26: =VLOOKUP(M26,Παράμετροι!$P$4:$Q$1004,2) -> 320 | AA26: =VLOOKUP(N26,Παράμετροι!$S$4:$T$124,2) -> 352 | AB26: =VLOOKUP(O26,Παράμετροι!$V$4:$W$124,2) -> 413 | AC26: =VLOOKUP(P26,Παράμετροι!$Y$4:$Z$55,2) -> 0 | AD26: =VLOOKUP(Q26,Παράμετροι!$AB$4:$AC$55,2) -> 0 | AE26: =SUM(R26:AD26) -> 1085
A27: 14 | B27: 16081 | C27: ΒΑΣΙΛΕΙΟΥ | D27: ΧΡΗΣΤΟΣ | M27: 14 | N27: 21 | O27: 63 | Q27: 95 | R27: =VLOOKUP(E27,Παράμετροι!$A$4:$B$10,2) -> 0 | S27: =VLOOKUP(F27,Παράμετροι!$D$4:$E$19,2) -> 0 | T27: =VLOOKUP(G27,Παράμετροι!$D$4:$E$19,2) -> 0 | U27: =VLOOKUP(H27,Παράμετροι!$G$4:$H$7,2) -> 0 | V27: =VLOOKUP(I27,Παράμετροι!$G$4:$H$7,2) -> 0 | W27: =VLOOKUP(J27,Παράμετροι!$J$4:$K$7,2) -> 0 | X27: =VLOOKUP(K27,Παράμετροι!$M$4:$N$14,2) -> 0 | Y27: =VLOOKUP(L27,Παράμετροι!$M$4:$N$14,2) -> 0 | Z27: =VLOOKUP(M27,Παράμετροι!$P$4:$Q$1004,2) -> 280 | AA27: =VLOOKUP(N27,Παράμετροι!$S$4:$T$124,2) -> 168 | AB27: =VLOOKUP(O27,Παράμετροι!$V$4:$W$124,2) -> 441 | AC27: =VLOOKUP(P27,Παράμετροι!$Y$4:$Z$55,2) -> 0 | AD27: =VLOOKUP(Q27,Παράμετροι!$AB$4:$AC$55,2) -> 190 | AE27: =SUM(R27:AD27) -> 1079
A28: 15 | B28: 15783 | C28: ΠΟΥΛΙΑΣΗΣ | D28: ΝΙΚΟΛΑΟΣ | M28: 11 | O28: 117 | R28: =VLOOKUP(E28,Παράμετροι!$A$4:$B$10,2) -> 0 | S28: =VLOOKUP(F28,Παράμετροι!$D$4:$E$19,2) -> 0 | T28: =VLOOKUP(G28,Παράμετροι!$D$4:$E$19,2) -> 0 | U28: =VLOOKUP(H28,Παράμετροι!$G$4:$H$7,2) -> 0 | V28: =VLOOKUP(I28,Παράμετροι!$G$4:$H$7,2) -> 0 | W28: =VLOOKUP(J28,Παράμετροι!$J$4:$K$7,2) -> 0 | X28: =VLOOKUP(K28,Παράμετροι!$M$4:$N$14,2) -> 0 | Y28: =VLOOKUP(L28,Παράμετροι!$M$4:$N$14,2) -> 0 | Z28: =VLOOKUP(M28,Παράμετροι!$P$4:$Q$1004,2) -> 220 | AA28: =VLOOKUP(N28,Παράμετροι!$S$4:$T$124,2) -> 0 | AB28: =VLOOKUP(O28,Παράμετροι!$V$4:$W$124,2) -> 819 | AC28: =VLOOKUP(P28,Παράμετροι!$Y$4:$Z$55,2) -> 0 | AD28: =VLOOKUP(Q28,Παράμετροι!$AB$4:$AC$55,2) -> 0 | AE28: =SUM(R28:AD28) -> 1039
A29: 16 | B29: 16919 | C29: ΤΣΟΧΑΝΤΑΡΗ | D29: ΚΛΕΟΠΑΤΡΑ | H29: 3 | J29: 2 | M29: 18.3 | N29: 36 | Q29: 85 | R29: =VLOOKUP(E29,Παράμετροι!$A$4:$B$10,2) -> 0 | S29: =VLOOKUP(F29,Παράμετροι!$D$4:$E$19,2) -> 0 | T29: =VLOOKUP(G29,Παράμετροι!$D$4:$E$19,2) -> 0 | U29: =VLOOKUP(H29,Παράμετροι!$G$4:$H$7,2) -> 120 | V29: =VLOOKUP(I29,Παράμετροι!$G$4:$H$7,2) -> 0 | W29: =VLOOKUP(J29,Παράμετροι!$J$4:$K$7,2) -> 60 | X29: =VLOOKUP(K29,Παράμετροι!$M$4:$N$14,2) -> 0 | Y29: =VLOOKUP(L29,Παράμετροι!$M$4:$N$14,2) -> 0 | Z29: =VLOOKUP(M29,Παράμετροι!$P$4:$Q$1004,2) -> 366 | AA29: =VLOOKUP(N29,Παράμετροι!$S$4:$T$124,2) -> 288 | AB29: =VLOOKUP(O29,Παράμετροι!$V$4:$W$124,2) -> 0 | AC29: =VLOOKUP(P29,Παράμετροι!$Y$4:$Z$55,2) -> 0 | AD29: =VLOOKUP(Q29,Παράμετροι!$AB$4:$AC$55,2) -> 170 | AE29: =SUM(R29:AD29) -> 1004
A30: 17 | B30: 18371 | C30: ΔΗΜΗΤΡΙΑΔΟΥ | D30: ΣΟΦΙΑ | J30: 1 | M30: 18.6 | N30: 11 | O30: 68 | R30: =VLOOKUP(E30,Παράμετροι!$A$4:$B$10,2) -> 0 | S30: =VLOOKUP(F30,Παράμετροι!$D$4:$E$19,2) -> 0 | T30: =VLOOKUP(G30,Παράμετροι!$D$4:$E$19,2) -> 0 | U30: =VLOOKUP(H30,Παράμετροι!$G$4:$H$7,2) -> 0 | V30: =VLOOKUP(I30,Παράμετροι!$G$4:$H$7,2) -> 0 | W30: =VLOOKUP(J30,Παράμετροι!$J$4:$K$7,2) -> 30 | X30: =VLOOKUP(K30,Παράμετροι!$M$4:$N$14,2) -> 0 | Y30: =VLOOKUP(L30,Παράμετροι!$M$4:$N$14,2) -> 0 | Z30: =VLOOKUP(M30,Παράμετροι!$P$4:$Q$1004,2) -> 372 | AA30: =VLOOKUP(N30,Παράμετροι!$S$4:$T$124,2) -> 88 | AB30: =VLOOKUP(O30,Παράμετροι!$V$4:$W$124,2) -> 476 | AC30: =VLOOKUP(P30,Παράμετροι!$Y$4:$Z$55,2) -> 0 | AD30: =VLOOKUP(Q30,Παράμετροι!$AB$4:$AC$55,2) -> 0 | AE30: =SUM(R30:AD30) -> 966
A31: 18 | B31: 16099 | C31: ΔΕΡΤΟΥΖΟΥ | D31: ΑΙΚΑΤΕΡΙΝΗ | E31: 1 | J31: 1 | K31: 2 | M31: 16.3 | N31: 29 | O31: 39 | R31: =VLOOKUP(E31,Παράμετροι!$A$4:$B$10,2) -> 0 | S31: =VLOOKUP(F31,Παράμετροι!$D$4:$E$19,2) -> 0 | T31: =VLOOKUP(G31,Παράμετροι!$D$4:$E$19,2) -> 0 | U31: =VLOOKUP(H31,Παράμετροι!$G$4:$H$7,2) -> 0 | V31: =VLOOKUP(I31,Παράμετροι!$G$4:$H$7,2) -> 0 | W31: =VLOOKUP(J31,Παράμετροι!$J$4:$K$7,2) -> 30 | X31: =VLOOKUP(K31,Παράμετροι!$M$4:$N$14,2) -> 100 | Y31: =VLOOKUP(L31,Παράμετροι!$M$4:$N$14,2) -> 0 | Z31: =VLOOKUP(M31,Παράμετροι!$P$4:$Q$1004,2) -> 326 | AA31: =VLOOKUP(N31,Παράμετροι!$S$4:$T$124,2) -> 232 | AB31: =VLOOKUP(O31,Παράμετροι!$V$4:$W$124,2) -> 273 | AC31: =VLOOKUP(P31,Παράμετροι!$Y$4:$Z$55,2) -> 0 | AD31: =VLOOKUP(Q31,Παράμετροι!$AB$4:$AC$55,2) -> 0 | AE31: =SUM(R31:AD31) -> 961
A32: 19 | B32: 18824 | C32: ΝΤΟΥΝΙΑΣ | D32: ΧΑΡΑΛΑΜΠΟΣ | G32: 4 | M32: 12.46 | N32: 24 | O32: 41 | R32: =VLOOKUP(E32,Παράμετροι!$A$4:$B$10,2) -> 0 | S32: =VLOOKUP(F32,Παράμετροι!$D$4:$E$19,2) -> 0 | T32: =VLOOKUP(G32,Παράμετροι!$D$4:$E$19,2) -> 200 | U32: =VLOOKUP(H32,Παράμετροι!$G$4:$H$7,2) -> 0 | V32: =VLOOKUP(I32,Παράμετροι!$G$4:$H$7,2) -> 0 | W32: =VLOOKUP(J32,Παράμετροι!$J$4:$K$7,2) -> 0 | X32: =VLOOKUP(K32,Παράμετροι!$M$4:$N$14,2) -> 0 | Y32: =VLOOKUP(L32,Παράμετροι!$M$4:$N$14,2) -> 0 | Z32: =VLOOKUP(M32,Παράμετροι!$P$4:$Q$1004,2) -> 249.2 | AA32: =VLOOKUP(N32,Παράμετροι!$S$4:$T$124,2) -> 192 | AB32: =VLOOKUP(O32,Παράμετροι!$V$4:$W$124,2) -> 287 | AC32: =VLOOKUP(P32,Παράμετροι!$Y$4:$Z$55,2) -> 0 | AD32: =VLOOKUP(Q32,Παράμετροι!$AB$4:$AC$55,2) -> 0 | AE32: =SUM(R32:AD32) -> 928.2
A33: 20 | B33: 15195 | C33: ΚΑΪΣΑΣ | D33: ΙΩΑΝΝΗΣ | M33: 16 | O33: 80 | R33: =VLOOKUP(E33,Παράμετροι!$A$4:$B$10,2) -> 0 | S33: =VLOOKUP(F33,Παράμετροι!$D$4:$E$19,2) -> 0 | T33: =VLOOKUP(G33,Παράμετροι!$D$4:$E$19,2) -> 0 | U33: =VLOOKUP(H33,Παράμετροι!$G$4:$H$7,2) -> 0 | V33: =VLOOKUP(I33,Παράμετροι!$G$4:$H$7,2) -> 0 | W33: =VLOOKUP(J33,Παράμετροι!$J$4:$K$7,2) -> 0 | X33: =VLOOKUP(K33,Παράμετροι!$M$4:$N$14,2) -> 0 | Y33: =VLOOKUP(L33,Παράμετροι!$M$4:$N$14,2) -> 0 | Z33: =VLOOKUP(M33,Παράμετροι!$P$4:$Q$1004,2) -> 320 | AA33: =VLOOKUP(N33,Παράμετροι!$S$4:$T$124,2) -> 0 | AB33: =VLOOKUP(O33,Παράμετροι!$V$4:$W$124,2) -> 560 | AC33: =VLOOKUP(P33,Παράμετροι!$Y$4:$Z$55,2) -> 0 | AD33: =VLOOKUP(Q33,Παράμετροι!$AB$4:$AC$55,2) -> 0 | AE33: =SUM(R33:AD33) -> 880
A34: 21 | B34: 18831 | C34: ΛΕΥΤΕΡΗΣ | D34: ΚΩΝΣΤΑΝΤΙΝΟΣ | H34: 3 | J34: 3 | M34: 16.45 | N34: 23 | O34: 19 | R34: =VLOOKUP(E34,Παράμετροι!$A$4:$B$10,2) -> 0 | S34: =VLOOKUP(F34,Παράμετροι!$D$4:$E$19,2) -> 0 | T34: =VLOOKUP(G34,Παράμετροι!$D$4:$E$19,2) -> 0 | U34: =VLOOKUP(H34,Παράμετροι!$G$4:$H$7,2) -> 120 | V34: =VLOOKUP(I34,Παράμετροι!$G$4:$H$7,2) -> 0 | W34: =VLOOKUP(J34,Παράμετροι!$J$4:$K$7,2) -> 110 | X34: =VLOOKUP(K34,Παράμετροι!$M$4:$N$14,2) -> 0 | Y34: =VLOOKUP(L34,Παράμετροι!$M$4:$N$14,2) -> 0 | Z34: =VLOOKUP(M34,Παράμετροι!$P$4:$Q$1004,2) -> 329 | AA34: =VLOOKUP(N34,Παράμετροι!$S$4:$T$124,2) -> 184 | AB34: =VLOOKUP(O34,Παράμετροι!$V$4:$W$124,2) -> 133 | AC34: =VLOOKUP(P34,Παράμετροι!$Y$4:$Z$55,2) -> 0 | AD34: =VLOOKUP(Q34,Παράμετροι!$AB$4:$AC$55,2) -> 0 | AE34: =SUM(R34:AD34) -> 876
A35: 22 | B35: 16040 | C35: ΤΖΙΝΑΣ | D35: ΔΗΜΗΤΡΙΟΣ | G35: 4 | M35: 17.3 | N35: 22 | Q35: 72 | R35: =VLOOKUP(E35,Παράμετροι!$A$4:$B$10,2) -> 0 | S35: =VLOOKUP(F35,Παράμετροι!$D$4:$E$19,2) -> 0 | T35: =VLOOKUP(G35,Παράμετροι!$D$4:$E$19,2) -> 200 | U35: =VLOOKUP(H35,Παράμετροι!$G$4:$H$7,2) -> 0 | V35: =VLOOKUP(I35,Παράμετροι!$G$4:$H$7,2) -> 0 | W35: =VLOOKUP(J35,Παράμετροι!$J$4:$K$7,2) -> 0 | X35: =VLOOKUP(K35,Παράμετροι!$M$4:$N$14,2) -> 0 | Y35: =VLOOKUP(L35,Παράμετροι!$M$4:$N$14,2) -> 0 | Z35: =VLOOKUP(M35,Παράμετροι!$P$4:$Q$1004,2) -> 346 | AA35: =VLOOKUP(N35,Παράμετροι!$S$4:$T$124,2) -> 176 | AB35: =VLOOKUP(O35,Παράμετροι!$V$4:$W$124,2) -> 0 | AC35: =VLOOKUP(P35,Παράμετροι!$Y$4:$Z$55,2) -> 0 | AD35: =VLOOKUP(Q35,Παράμετροι!$AB$4:$AC$55,2) -> 144 | AE35: =SUM(R35:AD35) -> 866
A36: 23 | B36: 18378 | C36: ΚΑΡΚΑΤΖΟΥΛΗ | D36: ΑΠΟΣΤΟΛΙΑ | E36: 10 | M36: 12.4 | O36: 45 | R36: =VLOOKUP(E36,Παράμετροι!$A$4:$B$10,2) -> 300 | S36: =VLOOKUP(F36,Παράμετροι!$D$4:$E$19,2) -> 0 | T36: =VLOOKUP(G36,Παράμετροι!$D$4:$E$19,2) -> 0 | U36: =VLOOKUP(H36,Παράμετροι!$G$4:$H$7,2) -> 0 | V36: =VLOOKUP(I36,Παράμετροι!$G$4:$H$7,2) -> 0 | W36: =VLOOKUP(J36,Παράμετροι!$J$4:$K$7,2) -> 0 | X36: =VLOOKUP(K36,Παράμετροι!$M$4:$N$14,2) -> 0 | Y36: =VLOOKUP(L36,Παράμετροι!$M$4:$N$14,2) -> 0 | Z36: =VLOOKUP(M36,Παράμετροι!$P$4:$Q$1004,2) -> 248 | AA36: =VLOOKUP(N36,Παράμετροι!$S$4:$T$124,2) -> 0 | AB36: =VLOOKUP(O36,Παράμετροι!$V$4:$W$124,2) -> 315 | AC36: =VLOOKUP(P36,Παράμετροι!$Y$4:$Z$55,2) -> 0 | AD36: =VLOOKUP(Q36,Παράμετροι!$AB$4:$AC$55,2) -> 0 | AE36: =SUM(R36:AD36) -> 863
A37: 24 | B37: 17920 | C37: ΚΑΛΑΠΑΝΙΔΑΣ | D37: ΔΗΜΗΤΡΙΟΣ | J37: 1 | M37: 13.15 | N37: 69 | R37: =VLOOKUP(E37,Παράμετροι!$A$4:$B$10,2) -> 0 | S37: =VLOOKUP(F37,Παράμετροι!$D$4:$E$19,2) -> 0 | T37: =VLOOKUP(G37,Παράμετροι!$D$4:$E$19,2) -> 0 | U37: =VLOOKUP(H37,Παράμετροι!$G$4:$H$7,2) -> 0 | V37: =VLOOKUP(I37,Παράμετροι!$G$4:$H$7,2) -> 0 | W37: =VLOOKUP(J37,Παράμετροι!$J$4:$K$7,2) -> 30 | X37: =VLOOKUP(K37,Παράμετροι!$M$4:$N$14,2) -> 0 | Y37: =VLOOKUP(L37,Παράμετροι!$M$4:$N$14,2) -> 0 | Z37: =VLOOKUP(M37,Παράμετροι!$P$4:$Q$1004,2) -> 263 | AA37: =VLOOKUP(N37,Παράμετροι!$S$4:$T$124,2) -> 552 | AB37: =VLOOKUP(O37,Παράμετροι!$V$4:$W$124,2) -> 0 | AC37: =VLOOKUP(P37,Παράμετροι!$Y$4:$Z$55,2) -> 0 | AD37: =VLOOKUP(Q37,Παράμετροι!$AB$4:$AC$55,2) -> 0 | AE37: =SUM(R37:AD37) -> 845
A38: 25 | B38: 17428 | C38: ΝΙΚΟΛΙΔΑΚΗΣ | D38: ΔΗΜΗΤΡΙΟΣ | E38: 4 | M38: 15.7 | N38: 32 | O38: 7 | R38: =VLOOKUP(E38,Παράμετροι!$A$4:$B$10,2) -> 200 | S38: =VLOOKUP(F38,Παράμετροι!$D$4:$E$19,2) -> 0 | T38: =VLOOKUP(G38,Παράμετροι!$D$4:$E$19,2) -> 0 | U38: =VLOOKUP(H38,Παράμετροι!$G$4:$H$7,2) -> 0 | V38: =VLOOKUP(I38,Παράμετροι!$G$4:$H$7,2) -> 0 | W38: =VLOOKUP(J38,Παράμετροι!$J$4:$K$7,2) -> 0 | X38: =VLOOKUP(K38,Παράμετροι!$M$4:$N$14,2) -> 0 | Y38: =VLOOKUP(L38,Παράμετροι!$M$4:$N$14,2) -> 0 | Z38: =VLOOKUP(M38,Παράμετροι!$P$4:$Q$1004,2) -> 314 | AA38: =VLOOKUP(N38,Παράμετροι!$S$4:$T$124,2) -> 256 | AB38: =VLOOKUP(O38,Παράμετροι!$V$4:$W$124,2) -> 49 | AC38: =VLOOKUP(P38,Παράμετροι!$Y$4:$Z$55,2) -> 0 | AD38: =VLOOKUP(Q38,Παράμετροι!$AB$4:$AC$55,2) -> 0 | AE38: =SUM(R38:AD38) -> 819
A39: 26 | B39: 15583 | C39: ΓΕΩΡΓΙΟΥ | D39: ΠΑΝΑΓΙΩΤΗΣ | E39: 5 | M39: 14.4 | O39: 40 | R39: =VLOOKUP(E39,Παράμετροι!$A$4:$B$10,2) -> 250 | S39: =VLOOKUP(F39,Παράμετροι!$D$4:$E$19,2) -> 0 | T39: =VLOOKUP(G39,Παράμετροι!$D$4:$E$19,2) -> 0 | U39: =VLOOKUP(H39,Παράμετροι!$G$4:$H$7,2) -> 0 | V39: =VLOOKUP(I39,Παράμετροι!$G$4:$H$7,2) -> 0 | W39: =VLOOKUP(J39,Παράμετροι!$J$4:$K$7,2) -> 0 | X39: =VLOOKUP(K39,Παράμετροι!$M$4:$N$14,2) -> 0 | Y39: =VLOOKUP(L39,Παράμετροι!$M$4:$N$14,2) -> 0 | Z39: =VLOOKUP(M39,Παράμετροι!$P$4:$Q$1004,2) -> 288 | AA39: =VLOOKUP(N39,Παράμετροι!$S$4:$T$124,2) -> 0 | AB39: =VLOOKUP(O39,Παράμετροι!$V$4:$W$124,2) -> 280 | AC39: =VLOOKUP(P39,Παράμετροι!$Y$4:$Z$55,2) -> 0 | AD39: =VLOOKUP(Q39,Παράμετροι!$AB$4:$AC$55,2) -> 0 | AE39: =SUM(R39:AD39) -> 818
A40: 27 | B40: 19083 | C40: ΔΑΦΝΗ | D40: ΧΑΪΔΩ-ΑΓΓΕΛΙΚΗ | E40: 49 | G40: 4 | M40: 15.54 | R40: =VLOOKUP(E40,Παράμετροι!$A$4:$B$10,2) -> 300 | S40: =VLOOKUP(F40,Παράμετροι!$D$4:$E$19,2) -> 0 | T40: =VLOOKUP(G40,Παράμετροι!$D$4:$E$19,2) -> 200 | U40: =VLOOKUP(H40,Παράμετροι!$G$4:$H$7,2) -> 0 | V40: =VLOOKUP(I40,Παράμετροι!$G$4:$H$7,2) -> 0 | W40: =VLOOKUP(J40,Παράμετροι!$J$4:$K$7,2) -> 0 | X40: =VLOOKUP(K40,Παράμετροι!$M$4:$N$14,2) -> 0 | Y40: =VLOOKUP(L40,Παράμετροι!$M$4:$N$14,2) -> 0 | Z40: =VLOOKUP(M40,Παράμετροι!$P$4:$Q$1004,2) -> 310.8 | AA40: =VLOOKUP(N40,Παράμετροι!$S$4:$T$124,2) -> 0 | AB40: =VLOOKUP(O40,Παράμετροι!$V$4:$W$124,2) -> 0 | AC40: =VLOOKUP(P40,Παράμετροι!$Y$4:$Z$55,2) -> 0 | AD40: =VLOOKUP(Q40,Παράμετροι!$AB$4:$AC$55,2) -> 0 | AE40: =SUM(R40:AD40) -> 810.8
A41: 28 | B41: 18269 | C41: ΣΑΜΙΔΗΣ | D41: ΘΕΟΔΟΣΙΟΣ | M41: 19.36 | N41: 27 | Q41: 100 | R41: =VLOOKUP(E41,Παράμετροι!$A$4:$B$10,2) -> 0 | S41: =VLOOKUP(F41,Παράμετροι!$D$4:$E$19,2) -> 0 | T41: =VLOOKUP(G41,Παράμετροι!$D$4:$E$19,2) -> 0 | U41: =VLOOKUP(H41,Παράμετροι!$G$4:$H$7,2) -> 0 | V41: =VLOOKUP(I41,Παράμετροι!$G$4:$H$7,2) -> 0 | W41: =VLOOKUP(J41,Παράμετροι!$J$4:$K$7,2) -> 0 | X41: =VLOOKUP(K41,Παράμετροι!$M$4:$N$14,2) -> 0 | Y41: =VLOOKUP(L41,Παράμετροι!$M$4:$N$14,2) -> 0 | Z41: =VLOOKUP(M41,Παράμετροι!$P$4:$Q$1004,2) -> 387.2 | AA41: =VLOOKUP(N41,Παράμετροι!$S$4:$T$124,2) -> 216 | AB41: =VLOOKUP(O41,Παράμετροι!$V$4:$W$124,2) -> 0 | AC41: =VLOOKUP(P41,Παράμετροι!$Y$4:$Z$55,2) -> 0 | AD41: =VLOOKUP(Q41,Παράμετροι!$AB$4:$AC$55,2) -> 200 | AE41: =SUM(R41:AD41) -> 803.2
A42: 29 | B42: 16571 | C42: ΣΚΡΕΚΑΣ | D42: ΝΙΚΟΛΑΟΣ | E42: 7 | M42: 14.2 | N42: 8 | Q42: 67 | R42: =VLOOKUP(E42,Παράμετροι!$A$4:$B$10,2) -> 300 | S42: =VLOOKUP(F42,Παράμετροι!$D$4:$E$19,2) -> 0 | T42: =VLOOKUP(G42,Παράμετροι!$D$4:$E$19,2) -> 0 | U42: =VLOOKUP(H42,Παράμετροι!$G$4:$H$7,2) -> 0 | V42: =VLOOKUP(I42,Παράμετροι!$G$4:$H$7,2) -> 0 | W42: =VLOOKUP(J42,Παράμετροι!$J$4:$K$7,2) -> 0 | X42: =VLOOKUP(K42,Παράμετροι!$M$4:$N$14,2) -> 0 | Y42: =VLOOKUP(L42,Παράμετροι!$M$4:$N$14,2) -> 0 | Z42: =VLOOKUP(M42,Παράμετροι!$P$4:$Q$1004,2) -> 284 | AA42: =VLOOKUP(N42,Παράμετροι!$S$4:$T$124,2) -> 64 | AB42: =VLOOKUP(O42,Παράμετροι!$V$4:$W$124,2) -> 0 | AC42: =VLOOKUP(P42,Παράμετροι!$Y$4:$Z$55,2) -> 0 | AD42: =VLOOKUP(Q42,Παράμετροι!$AB$4:$AC$55,2) -> 134 | AE42: =SUM(R42:AD42) -> 782
A43: 30 | B43: 18941 | C43: ΚΑΡΑΓΙΑΝΝΗΣ | D43: ΙΩΑΝΝΗΣ | E43: 9 | M43: 15.1 | N43: 10 | O43: 14 | R43: =VLOOKUP(E43,Παράμετροι!$A$4:$B$10,2) -> 300 | S43: =VLOOKUP(F43,Παράμετροι!$D$4:$E$19,2) -> 0 | T43: =VLOOKUP(G43,Παράμετροι!$D$4:$E$19,2) -> 0 | U43: =VLOOKUP(H43,Παράμετροι!$G$4:$H$7,2) -> 0 | V43: =VLOOKUP(I43,Παράμετροι!$G$4:$H$7,2) -> 0 | W43: =VLOOKUP(J43,Παράμετροι!$J$4:$K$7,2) -> 0 | X43: =VLOOKUP(K43,Παράμετροι!$M$4:$N$14,2) -> 0 | Y43: =VLOOKUP(L43,Παράμετροι!$M$4:$N$14,2) -> 0 | Z43: =VLOOKUP(M43,Παράμετροι!$P$4:$Q$1004,2) -> 302 | AA43: =VLOOKUP(N43,Παράμετροι!$S$4:$T$124,2) -> 80 | AB43: =VLOOKUP(O43,Παράμετροι!$V$4:$W$124,2) -> 98 | AC43: =VLOOKUP(P43,Παράμετροι!$Y$4:$Z$55,2) -> 0 | AD43: =VLOOKUP(Q43,Παράμετροι!$AB$4:$AC$55,2) -> 0 | AE43: =SUM(R43:AD43) -> 780
A44: 31 | B44: 15596 | C44: ΜΠΕΖΟΣ | D44: ΠΑΣΧΑΛΗΣ | E44: 9 | M44: 17.71 | N44: 15 | R44: =VLOOKUP(E44,Παράμετροι!$A$4:$B$10,2) -> 300 | S44: =VLOOKUP(F44,Παράμετροι!$D$4:$E$19,2) -> 0 | T44: =VLOOKUP(G44,Παράμετροι!$D$4:$E$19,2) -> 0 | U44: =VLOOKUP(H44,Παράμετροι!$G$4:$H$7,2) -> 0 | V44: =VLOOKUP(I44,Παράμετροι!$G$4:$H$7,2) -> 0 | W44: =VLOOKUP(J44,Παράμετροι!$J$4:$K$7,2) -> 0 | X44: =VLOOKUP(K44,Παράμετροι!$M$4:$N$14,2) -> 0 | Y44: =VLOOKUP(L44,Παράμετροι!$M$4:$N$14,2) -> 0 | Z44: =VLOOKUP(M44,Παράμετροι!$P$4:$Q$1004,2) -> 354.2 | AA44: =VLOOKUP(N44,Παράμετροι!$S$4:$T$124,2) -> 120 | AB44: =VLOOKUP(O44,Παράμετροι!$V$4:$W$124,2) -> 0 | AC44: =VLOOKUP(P44,Παράμετροι!$Y$4:$Z$55,2) -> 0 | AD44: =VLOOKUP(Q44,Παράμετροι!$AB$4:$AC$55,2) -> 0 | AE44: =SUM(R44:AD44) -> 774.2
A45: 32 | B45: 16043 | C45: ΔΗΜΗΤΡΑΚΟΠΟΥΛΟΣ | D45: ΓΕΩΡΓΙΟΣ | G45: 4 | M45: 19 | N45: 24 | R45: =VLOOKUP(E45,Παράμετροι!$A$4:$B$10,2) -> 0 | S45: =VLOOKUP(F45,Παράμετροι!$D$4:$E$19,2) -> 0 | T45: =VLOOKUP(G45,Παράμετροι!$D$4:$E$19,2) -> 200 | U45: =VLOOKUP(H45,Παράμετροι!$G$4:$H$7,2) -> 0 | V45: =VLOOKUP(I45,Παράμετροι!$G$4:$H$7,2) -> 0 | W45: =VLOOKUP(J45,Παράμετροι!$J$4:$K$7,2) -> 0 | X45: =VLOOKUP(K45,Παράμετροι!$M$4:$N$14,2) -> 0 | Y45: =VLOOKUP(L45,Παράμετροι!$M$4:$N$14,2) -> 0 | Z45: =VLOOKUP(M45,Παράμετροι!$P$4:$Q$1004,2) -> 380 | AA45: =VLOOKUP(N45,Παράμετροι!$S$4:$T$124,2) -> 192 | AB45: =VLOOKUP(O45,Παράμετροι!$V$4:$W$124,2) -> 0 | AC45: =VLOOKUP(P45,Παράμετροι!$Y$4:$Z$55,2) -> 0 | AD45: =VLOOKUP(Q45,Παράμετροι!$AB$4:$AC$55,2) -> 0 | AE45: =SUM(R45:AD45) -> 772
A46: 33 | B46: 20702 | C46: ΣΙΓΚΟΥΝΑ | D46: ΜΑΡΙΑ | E46: 99 | H46: 3 | M46: 16.1 | R46: =VLOOKUP(E46,Παράμετροι!$A$4:$B$10,2) -> 300 | S46: =VLOOKUP(F46,Παράμετροι!$D$4:$E$19,2) -> 0 | T46: =VLOOKUP(G46,Παράμετροι!$D$4:$E$19,2) -> 0 | U46: =VLOOKUP(H46,Παράμετροι!$G$4:$H$7,2) -> 120 | V46: =VLOOKUP(I46,Παράμετροι!$G$4:$H$7,2) -> 0 | W46: =VLOOKUP(J46,Παράμετροι!$J$4:$K$7,2) -> 0 | X46: =VLOOKUP(K46,Παράμετροι!$M$4:$N$14,2) -> 0 | Y46: =VLOOKUP(L46,Παράμετροι!$M$4:$N$14,2) -> 0 | Z46: =VLOOKUP(M46,Παράμετροι!$P$4:$Q$1004,2) -> 322 | AA46: =VLOOKUP(N46,Παράμετροι!$S$4:$T$124,2) -> 0 | AB46: =VLOOKUP(O46,Παράμετροι!$V$4:$W$124,2) -> 0 | AC46: =VLOOKUP(P46,Παράμετροι!$Y$4:$Z$55,2) -> 0 | AD46: =VLOOKUP(Q46,Παράμετροι!$AB$4:$AC$55,2) -> 0 | AE46: =SUM(R46:AD46) -> 742
A47: 34 | B47: 15401 | C47: ΚΑΚΑΦΙΚΑΣ | D47: ΒΑΣΙΛΕΙΟΣ | M47: 18 | N47: 37 | O47: 7 | R47: =VLOOKUP(E47,Παράμετροι!$A$4:$B$10,2) -> 0 | S47: =VLOOKUP(F47,Παράμετροι!$D$4:$E$19,2) -> 0 | T47: =VLOOKUP(G47,Παράμετροι!$D$4:$E$19,2) -> 0 | U47: =VLOOKUP(H47,Παράμετροι!$G$4:$H$7,2) -> 0 | V47: =VLOOKUP(I47,Παράμετροι!$G$4:$H$7,2) -> 0 | W47: =VLOOKUP(J47,Παράμετροι!$J$4:$K$7,2) -> 0 | X47: =VLOOKUP(K47,Παράμετροι!$M$4:$N$14,2) -> 0 | Y47: =VLOOKUP(L47,Παράμετροι!$M$4:$N$14,2) -> 0 | Z47: =VLOOKUP(M47,Παράμετροι!$P$4:$Q$1004,2) -> 360 | AA47: =VLOOKUP(N47,Παράμετροι!$S$4:$T$124,2) -> 296 | AB47: =VLOOKUP(O47,Παράμετροι!$V$4:$W$124,2) -> 49 | AC47: =VLOOKUP(P47,Παράμετροι!$Y$4:$Z$55,2) -> 0 | AD47: =VLOOKUP(Q47,Παράμετροι!$AB$4:$AC$55,2) -> 0 | AE47: =SUM(R47:AD47) -> 705
A48: 35 | B48: 15388 | C48: ΣΦΟΝΔΥΛΗΣ | D48: ΔΗΜΗΤΡΙΟΣ | E48: 5 | M48: 12.3 | N48: 24 | R48: =VLOOKUP(E48,Παράμετροι!$A$4:$B$10,2) -> 250 | S48: =VLOOKUP(F48,Παράμετροι!$D$4:$E$19,2) -> 0 | T48: =VLOOKUP(G48,Παράμετροι!$D$4:$E$19,2) -> 0 | U48: =VLOOKUP(H48,Παράμετροι!$G$4:$H$7,2) -> 0 | V48: =VLOOKUP(I48,Παράμετροι!$G$4:$H$7,2) -> 0 | W48: =VLOOKUP(J48,Παράμετροι!$J$4:$K$7,2) -> 0 | X48: =VLOOKUP(K48,Παράμετροι!$M$4:$N$14,2) -> 0 | Y48: =VLOOKUP(L48,Παράμετροι!$M$4:$N$14,2) -> 0 | Z48: =VLOOKUP(M48,Παράμετροι!$P$4:$Q$1004,2) -> 246 | AA48: =VLOOKUP(N48,Παράμετροι!$S$4:$T$124,2) -> 192 | AB48: =VLOOKUP(O48,Παράμετροι!$V$4:$W$124,2) -> 0 | AC48: =VLOOKUP(P48,Παράμετροι!$Y$4:$Z$55,2) -> 0 | AD48: =VLOOKUP(Q48,Παράμετροι!$AB$4:$AC$55,2) -> 0 | AE48: =SUM(R48:AD48) -> 688
A49: 36 | B49: 18887 | C49: ΡΙΖΟΣ | D49: ΝΙΚΟΛΑΟΣ | E49: 2 | M49: 16.09 | N49: 4 | O49: 44 | R49: =VLOOKUP(E49,Παράμετροι!$A$4:$B$10,2) -> 0 | S49: =VLOOKUP(F49,Παράμετροι!$D$4:$E$19,2) -> 0 | T49: =VLOOKUP(G49,Παράμετροι!$D$4:$E$19,2) -> 0 | U49: =VLOOKUP(H49,Παράμετροι!$G$4:$H$7,2) -> 0 | V49: =VLOOKUP(I49,Παράμετροι!$G$4:$H$7,2) -> 0 | W49: =VLOOKUP(J49,Παράμετροι!$J$4:$K$7,2) -> 0 | X49: =VLOOKUP(K49,Παράμετροι!$M$4:$N$14,2) -> 0 | Y49: =VLOOKUP(L49,Παράμετροι!$M$4:$N$14,2) -> 0 | Z49: =VLOOKUP(M49,Παράμετροι!$P$4:$Q$1004,2) -> 321.8 | AA49: =VLOOKUP(N49,Παράμετροι!$S$4:$T$124,2) -> 32 | AB49: =VLOOKUP(O49,Παράμετροι!$V$4:$W$124,2) -> 308 | AC49: =VLOOKUP(P49,Παράμετροι!$Y$4:$Z$55,2) -> 0 | AD49: =VLOOKUP(Q49,Παράμετροι!$AB$4:$AC$55,2) -> 0 | AE49: =SUM(R49:AD49) -> 661.8
A50: 37 | B50: 18356 | C50: ΣΙΩΖΟΣ | D50: ΚΩΝΣΤΑΝΤΙΝΟΣ | E50: 2 | M50: 16.46 | N50: 24 | Q50: 67 | R50: =VLOOKUP(E50,Παράμετροι!$A$4:$B$10,2) -> 0 | S50: =VLOOKUP(F50,Παράμετροι!$D$4:$E$19,2) -> 0 | T50: =VLOOKUP(G50,Παράμετροι!$D$4:$E$19,2) -> 0 | U50: =VLOOKUP(H50,Παράμετροι!$G$4:$H$7,2) -> 0 | V50: =VLOOKUP(I50,Παράμετροι!$G$4:$H$7,2) -> 0 | W50: =VLOOKUP(J50,Παράμετροι!$J$4:$K$7,2) -> 0 | X50: =VLOOKUP(K50,Παράμετροι!$M$4:$N$14,2) -> 0 | Y50: =VLOOKUP(L50,Παράμετροι!$M$4:$N$14,2) -> 0 | Z50: =VLOOKUP(M50,Παράμετροι!$P$4:$Q$1004,2) -> 329.2 | AA50: =VLOOKUP(N50,Παράμετροι!$S$4:$T$124,2) -> 192 | AB50: =VLOOKUP(O50,Παράμετροι!$V$4:$W$124,2) -> 0 | AC50: =VLOOKUP(P50,Παράμετροι!$Y$4:$Z$55,2) -> 0 | AD50: =VLOOKUP(Q50,Παράμετροι!$AB$4:$AC$55,2) -> 134 | AE50: =SUM(R50:AD50) -> 655.2
A51: 38 | B51: 17651 | C51: ΔΕΛΗΓΙΑΝΝΗΣ | D51: ΕΥΑΓΓΕΛΟΣ | M51: 13 | N51: 30 | P51: 50 | R51: =VLOOKUP(E51,Παράμετροι!$A$4:$B$10,2) -> 0 | S51: =VLOOKUP(F51,Παράμετροι!$D$4:$E$19,2) -> 0 | T51: =VLOOKUP(G51,Παράμετροι!$D$4:$E$19,2) -> 0 | U51: =VLOOKUP(H51,Παράμετροι!$G$4:$H$7,2) -> 0 | V51: =VLOOKUP(I51,Παράμετροι!$G$4:$H$7,2) -> 0 | W51: =VLOOKUP(J51,Παράμετροι!$J$4:$K$7,2) -> 0 | X51: =VLOOKUP(K51,Παράμετροι!$M$4:$N$14,2) -> 0 | Y51: =VLOOKUP(L51,Παράμετροι!$M$4:$N$14,2) -> 0 | Z51: =VLOOKUP(M51,Παράμετροι!$P$4:$Q$1004,2) -> 260 | AA51: =VLOOKUP(N51,Παράμετροι!$S$4:$T$124,2) -> 240 | AB51: =VLOOKUP(O51,Παράμετροι!$V$4:$W$124,2) -> 0 | AC51: =VLOOKUP(P51,Παράμετροι!$Y$4:$Z$55,2) -> 150 | AD51: =VLOOKUP(Q51,Παράμετροι!$AB$4:$AC$55,2) -> 0 | AE51: =SUM(R51:AD51) -> 650
A52: 39 | B52: 18317 | C52: ΓΟΥΡΝΑΚΗΣ | D52: ΠΑΝΑΓΙΩΤΗΣ | M52: 12.66 | O52: 55 | R52: =VLOOKUP(E52,Παράμετροι!$A$4:$B$10,2) -> 0 | S52: =VLOOKUP(F52,Παράμετροι!$D$4:$E$19,2) -> 0 | T52: =VLOOKUP(G52,Παράμετροι!$D$4:$E$19,2) -> 0 | U52: =VLOOKUP(H52,Παράμετροι!$G$4:$H$7,2) -> 0 | V52: =VLOOKUP(I52,Παράμετροι!$G$4:$H$7,2) -> 0 | W52: =VLOOKUP(J52,Παράμετροι!$J$4:$K$7,2) -> 0 | X52: =VLOOKUP(K52,Παράμετροι!$M$4:$N$14,2) -> 0 | Y52: =VLOOKUP(L52,Παράμετροι!$M$4:$N$14,2) -> 0 | Z52: =VLOOKUP(M52,Παράμετροι!$P$4:$Q$1004,2) -> 253.2 | AA52: =VLOOKUP(N52,Παράμετροι!$S$4:$T$124,2) -> 0 | AB52: =VLOOKUP(O52,Παράμετροι!$V$4:$W$124,2) -> 385 | AC52: =VLOOKUP(P52,Παράμετροι!$Y$4:$Z$55,2) -> 0 | AD52: =VLOOKUP(Q52,Παράμετροι!$AB$4:$AC$55,2) -> 0 | AE52: =SUM(R52:AD52) -> 638.2
A53: 40 | B53: 17946 | C53: ΘΕΟΔΩΡΟΥ | D53: ΣΩΤΗΡΙΟΣ | E53: 4 | M53: 19 | N53: 7 | R53: =VLOOKUP(E53,Παράμετροι!$A$4:$B$10,2) -> 200 | S53: =VLOOKUP(F53,Παράμετροι!$D$4:$E$19,2) -> 0 | T53: =VLOOKUP(G53,Παράμετροι!$D$4:$E$19,2) -> 0 | U53: =VLOOKUP(H53,Παράμετροι!$G$4:$H$7,2) -> 0 | V53: =VLOOKUP(I53,Παράμετροι!$G$4:$H$7,2) -> 0 | W53: =VLOOKUP(J53,Παράμετροι!$J$4:$K$7,2) -> 0 | X53: =VLOOKUP(K53,Παράμετροι!$M$4:$N$14,2) -> 0 | Y53: =VLOOKUP(L53,Παράμετροι!$M$4:$N$14,2) -> 0 | Z53: =VLOOKUP(M53,Παράμετροι!$P$4:$Q$1004,2) -> 380 | AA53: =VLOOKUP(N53,Παράμετροι!$S$4:$T$124,2) -> 56 | AB53: =VLOOKUP(O53,Παράμετροι!$V$4:$W$124,2) -> 0 | AC53: =VLOOKUP(P53,Παράμετροι!$Y$4:$Z$55,2) -> 0 | AD53: =VLOOKUP(Q53,Παράμετροι!$AB$4:$AC$55,2) -> 0 | AE53: =SUM(R53:AD53) -> 636
A54: 41 | B54: 16578 | C54: ΦΑΝΗΣ | D54: ΗΛΙΑΣ | E54: 9 | M54: 14.11 | O54: 4 | R54: =VLOOKUP(E54,Παράμετροι!$A$4:$B$10,2) -> 300 | S54: =VLOOKUP(F54,Παράμετροι!$D$4:$E$19,2) -> 0 | T54: =VLOOKUP(G54,Παράμετροι!$D$4:$E$19,2) -> 0 | U54: =VLOOKUP(H54,Παράμετροι!$G$4:$H$7,2) -> 0 | V54: =VLOOKUP(I54,Παράμετροι!$G$4:$H$7,2) -> 0 | W54: =VLOOKUP(J54,Παράμετροι!$J$4:$K$7,2) -> 0 | X54: =VLOOKUP(K54,Παράμετροι!$M$4:$N$14,2) -> 0 | Y54: =VLOOKUP(L54,Παράμετροι!$M$4:$N$14,2) -> 0 | Z54: =VLOOKUP(M54,Παράμετροι!$P$4:$Q$1004,2) -> 282.2 | AA54: =VLOOKUP(N54,Παράμετροι!$S$4:$T$124,2) -> 0 | AB54: =VLOOKUP(O54,Παράμετροι!$V$4:$W$124,2) -> 28 | AC54: =VLOOKUP(P54,Παράμετροι!$Y$4:$Z$55,2) -> 0 | AD54: =VLOOKUP(Q54,Παράμετροι!$AB$4:$AC$55,2) -> 0 | AE54: =SUM(R54:AD54) -> 610.2
A55: 42 | B55: 15581 | C55: ΓΑΒΑΛΑ | D55: ΠΑΡΑΣΚΕΥΗ | E55: 19 | J55: 1 | M55: 14 | R55: =VLOOKUP(E55,Παράμετροι!$A$4:$B$10,2) -> 300 | S55: =VLOOKUP(F55,Παράμετροι!$D$4:$E$19,2) -> 0 | T55: =VLOOKUP(G55,Παράμετροι!$D$4:$E$19,2) -> 0 | U55: =VLOOKUP(H55,Παράμετροι!$G$4:$H$7,2) -> 0 | V55: =VLOOKUP(I55,Παράμετροι!$G$4:$H$7,2) -> 0 | W55: =VLOOKUP(J55,Παράμετροι!$J$4:$K$7,2) -> 30 | X55: =VLOOKUP(K55,Παράμετροι!$M$4:$N$14,2) -> 0 | Y55: =VLOOKUP(L55,Παράμετροι!$M$4:$N$14,2) -> 0 | Z55: =VLOOKUP(M55,Παράμετροι!$P$4:$Q$1004,2) -> 280 | AA55: =VLOOKUP(N55,Παράμετροι!$S$4:$T$124,2) -> 0 | AB55: =VLOOKUP(O55,Παράμετροι!$V$4:$W$124,2) -> 0 | AC55: =VLOOKUP(P55,Παράμετροι!$Y$4:$Z$55,2) -> 0 | AD55: =VLOOKUP(Q55,Παράμετροι!$AB$4:$AC$55,2) -> 0 | AE55: =SUM(R55:AD55) -> 610
A56: 43 | B56: 19090 | C56: ΠΑΛΑΙΟΠΑΝΟΣ | D56: ΑΓΓΕΛΟΣ | E56: 11 | J56: 2 | M56: 11.72 | R56: =VLOOKUP(E56,Παράμετροι!$A$4:$B$10,2) -> 300 | S56: =VLOOKUP(F56,Παράμετροι!$D$4:$E$19,2) -> 0 | T56: =VLOOKUP(G56,Παράμετροι!$D$4:$E$19,2) -> 0 | U56: =VLOOKUP(H56,Παράμετροι!$G$4:$H$7,2) -> 0 | V56: =VLOOKUP(I56,Παράμετροι!$G$4:$H$7,2) -> 0 | W56: =VLOOKUP(J56,Παράμετροι!$J$4:$K$7,2) -> 60 | X56: =VLOOKUP(K56,Παράμετροι!$M$4:$N$14,2) -> 0 | Y56: =VLOOKUP(L56,Παράμετροι!$M$4:$N$14,2) -> 0 | Z56: =VLOOKUP(M56,Παράμετροι!$P$4:$Q$1004,2) -> 234.4 | AA56: =VLOOKUP(N56,Παράμετροι!$S$4:$T$124,2) -> 0 | AB56: =VLOOKUP(O56,Παράμετροι!$V$4:$W$124,2) -> 0 | AC56: =VLOOKUP(P56,Παράμετροι!$Y$4:$Z$55,2) -> 0 | AD56: =VLOOKUP(Q56,Παράμετροι!$AB$4:$AC$55,2) -> 0 | AE56: =SUM(R56:AD56) -> 594.4
A57: 44 | B57: 16049 | C57: ΤΣΑΟΥΣΗΣ | D57: ΒΑΣΙΛΕΙΟΣ | E57: 5 | M57: 16.72 | R57: =VLOOKUP(E57,Παράμετροι!$A$4:$B$10,2) -> 250 | S57: =VLOOKUP(F57,Παράμετροι!$D$4:$E$19,2) -> 0 | T57: =VLOOKUP(G57,Παράμετροι!$D$4:$E$19,2) -> 0 | U57: =VLOOKUP(H57,Παράμετροι!$G$4:$H$7,2) -> 0 | V57: =VLOOKUP(I57,Παράμετροι!$G$4:$H$7,2) -> 0 | W57: =VLOOKUP(J57,Παράμετροι!$J$4:$K$7,2) -> 0 | X57: =VLOOKUP(K57,Παράμετροι!$M$4:$N$14,2) -> 0 | Y57: =VLOOKUP(L57,Παράμετροι!$M$4:$N$14,2) -> 0 | Z57: =VLOOKUP(M57,Παράμετροι!$P$4:$Q$1004,2) -> 334.4 | AA57: =VLOOKUP(N57,Παράμετροι!$S$4:$T$124,2) -> 0 | AB57: =VLOOKUP(O57,Παράμετροι!$V$4:$W$124,2) -> 0 | AC57: =VLOOKUP(P57,Παράμετροι!$Y$4:$Z$55,2) -> 0 | AD57: =VLOOKUP(Q57,Παράμετροι!$AB$4:$AC$55,2) -> 0 | AE57: =SUM(R57:AD57) -> 584.4
A58: 45 | B58: 18079 | C58: ΜΠΑΡΔΟ | D58: ΜΑΡΙΟ | E58: 4 | M58: 15.66 | O58: 10 | R58: =VLOOKUP(E58,Παράμετροι!$A$4:$B$10,2) -> 200 | S58: =VLOOKUP(F58,Παράμετροι!$D$4:$E$19,2) -> 0 | T58: =VLOOKUP(G58,Παράμετροι!$D$4:$E$19,2) -> 0 | U58: =VLOOKUP(H58,Παράμετροι!$G$4:$H$7,2) -> 0 | V58: =VLOOKUP(I58,Παράμετροι!$G$4:$H$7,2) -> 0 | W58: =VLOOKUP(J58,Παράμετροι!$J$4:$K$7,2) -> 0 | X58: =VLOOKUP(K58,Παράμετροι!$M$4:$N$14,2) -> 0 | Y58: =VLOOKUP(L58,Παράμετροι!$M$4:$N$14,2) -> 0 | Z58: =VLOOKUP(M58,Παράμετροι!$P$4:$Q$1004,2) -> 313.2 | AA58: =VLOOKUP(N58,Παράμετροι!$S$4:$T$124,2) -> 0 | AB58: =VLOOKUP(O58,Παράμετροι!$V$4:$W$124,2) -> 70 | AC58: =VLOOKUP(P58,Παράμετροι!$Y$4:$Z$55,2) -> 0 | AD58: =VLOOKUP(Q58,Παράμετροι!$AB$4:$AC$55,2) -> 0 | AE58: =SUM(R58:AD58) -> 583.2
A59: 46 | B59: 16057 | C59: ΜΠΡΟΖΙΟΥΤΗΣ | D59: ΓΕΩΡΓΙΟΣ | E59: 26 | M59: 13.9 | R59: =VLOOKUP(E59,Παράμετροι!$A$4:$B$10,2) -> 300 | S59: =VLOOKUP(F59,Παράμετροι!$D$4:$E$19,2) -> 0 | T59: =VLOOKUP(G59,Παράμετροι!$D$4:$E$19,2) -> 0 | U59: =VLOOKUP(H59,Παράμετροι!$G$4:$H$7,2) -> 0 | V59: =VLOOKUP(I59,Παράμετροι!$G$4:$H$7,2) -> 0 | W59: =VLOOKUP(J59,Παράμετροι!$J$4:$K$7,2) -> 0 | X59: =VLOOKUP(K59,Παράμετροι!$M$4:$N$14,2) -> 0 | Y59: =VLOOKUP(L59,Παράμετροι!$M$4:$N$14,2) -> 0 | Z59: =VLOOKUP(M59,Παράμετροι!$P$4:$Q$1004,2) -> 278 | AA59: =VLOOKUP(N59,Παράμετροι!$S$4:$T$124,2) -> 0 | AB59: =VLOOKUP(O59,Παράμετροι!$V$4:$W$124,2) -> 0 | AC59: =VLOOKUP(P59,Παράμετροι!$Y$4:$Z$55,2) -> 0 | AD59: =VLOOKUP(Q59,Παράμετροι!$AB$4:$AC$55,2) -> 0 | AE59: =SUM(R59:AD59) -> 578
A60: 47 | B60: 17010 | C60: ΚΡΑΛΛΗ | D60: ΕΙΡΗΝΗ | E60: 14 | M60: 13.36 | R60: =VLOOKUP(E60,Παράμετροι!$A$4:$B$10,2) -> 300 | S60: =VLOOKUP(F60,Παράμετροι!$D$4:$E$19,2) -> 0 | T60: =VLOOKUP(G60,Παράμετροι!$D$4:$E$19,2) -> 0 | U60: =VLOOKUP(H60,Παράμετροι!$G$4:$H$7,2) -> 0 | V60: =VLOOKUP(I60,Παράμετροι!$G$4:$H$7,2) -> 0 | W60: =VLOOKUP(J60,Παράμετροι!$J$4:$K$7,2) -> 0 | X60: =VLOOKUP(K60,Παράμετροι!$M$4:$N$14,2) -> 0 | Y60: =VLOOKUP(L60,Παράμετροι!$M$4:$N$14,2) -> 0 | Z60: =VLOOKUP(M60,Παράμετροι!$P$4:$Q$1004,2) -> 267.2 | AA60: =VLOOKUP(N60,Παράμετροι!$S$4:$T$124,2) -> 0 | AB60: =VLOOKUP(O60,Παράμετροι!$V$4:$W$124,2) -> 0 | AC60: =VLOOKUP(P60,Παράμετροι!$Y$4:$Z$55,2) -> 0 | AD60: =VLOOKUP(Q60,Παράμετροι!$AB$4:$AC$55,2) -> 0 | AE60: =SUM(R60:AD60) -> 567.2
A61: 48 | B61: 16060 | C61: ΚΟΜΠΟΛΙΤΗΣ | D61: ΑΛΕΞΑΝΔΡΟΣ | M61: 17.83 | N61: 18 | O61: 9 | R61: =VLOOKUP(E61,Παράμετροι!$A$4:$B$10,2) -> 0 | S61: =VLOOKUP(F61,Παράμετροι!$D$4:$E$19,2) -> 0 | T61: =VLOOKUP(G61,Παράμετροι!$D$4:$E$19,2) -> 0 | U61: =VLOOKUP(H61,Παράμετροι!$G$4:$H$7,2) -> 0 | V61: =VLOOKUP(I61,Παράμετροι!$G$4:$H$7,2) -> 0 | W61: =VLOOKUP(J61,Παράμετροι!$J$4:$K$7,2) -> 0 | X61: =VLOOKUP(K61,Παράμετροι!$M$4:$N$14,2) -> 0 | Y61: =VLOOKUP(L61,Παράμετροι!$M$4:$N$14,2) -> 0 | Z61: =VLOOKUP(M61,Παράμετροι!$P$4:$Q$1004,2) -> 356.6 | AA61: =VLOOKUP(N61,Παράμετροι!$S$4:$T$124,2) -> 144 | AB61: =VLOOKUP(O61,Παράμετροι!$V$4:$W$124,2) -> 63 | AC61: =VLOOKUP(P61,Παράμετροι!$Y$4:$Z$55,2) -> 0 | AD61: =VLOOKUP(Q61,Παράμετροι!$AB$4:$AC$55,2) -> 0 | AE61: =SUM(R61:AD61) -> 563.6
A62: 49 | B62: 18313 | C62: ΚΑΝΕΛΛΟΥ | D62: ΑΓΛΑΪΑ | M62: 14 | O62: 39 | R62: =VLOOKUP(E62,Παράμετροι!$A$4:$B$10,2) -> 0 | S62: =VLOOKUP(F62,Παράμετροι!$D$4:$E$19,2) -> 0 | T62: =VLOOKUP(G62,Παράμετροι!$D$4:$E$19,2) -> 0 | U62: =VLOOKUP(H62,Παράμετροι!$G$4:$H$7,2) -> 0 | V62: =VLOOKUP(I62,Παράμετροι!$G$4:$H$7,2) -> 0 | W62: =VLOOKUP(J62,Παράμετροι!$J$4:$K$7,2) -> 0 | X62: =VLOOKUP(K62,Παράμετροι!$M$4:$N$14,2) -> 0 | Y62: =VLOOKUP(L62,Παράμετροι!$M$4:$N$14,2) -> 0 | Z62: =VLOOKUP(M62,Παράμετροι!$P$4:$Q$1004,2) -> 280 | AA62: =VLOOKUP(N62,Παράμετροι!$S$4:$T$124,2) -> 0 | AB62: =VLOOKUP(O62,Παράμετροι!$V$4:$W$124,2) -> 273 | AC62: =VLOOKUP(P62,Παράμετροι!$Y$4:$Z$55,2) -> 0 | AD62: =VLOOKUP(Q62,Παράμετροι!$AB$4:$AC$55,2) -> 0 | AE62: =SUM(R62:AD62) -> 553
A63: 50 | B63: 16463 | C63: ΚΟΥΦΟΥΛΗΣ | D63: ΣΥΝΕΦΑΚΗΣ | M63: 18 | N63: 7 | Q63: 67 | R63: =VLOOKUP(E63,Παράμετροι!$A$4:$B$10,2) -> 0 | S63: =VLOOKUP(F63,Παράμετροι!$D$4:$E$19,2) -> 0 | T63: =VLOOKUP(G63,Παράμετροι!$D$4:$E$19,2) -> 0 | U63: =VLOOKUP(H63,Παράμετροι!$G$4:$H$7,2) -> 0 | V63: =VLOOKUP(I63,Παράμετροι!$G$4:$H$7,2) -> 0 | W63: =VLOOKUP(J63,Παράμετροι!$J$4:$K$7,2) -> 0 | X63: =VLOOKUP(K63,Παράμετροι!$M$4:$N$14,2) -> 0 | Y63: =VLOOKUP(L63,Παράμετροι!$M$4:$N$14,2) -> 0 | Z63: =VLOOKUP(M63,Παράμετροι!$P$4:$Q$1004,2) -> 360 | AA63: =VLOOKUP(N63,Παράμετροι!$S$4:$T$124,2) -> 56 | AB63: =VLOOKUP(O63,Παράμετροι!$V$4:$W$124,2) -> 0 | AC63: =VLOOKUP(P63,Παράμετροι!$Y$4:$Z$55,2) -> 0 | AD63: =VLOOKUP(Q63,Παράμετροι!$AB$4:$AC$55,2) -> 134 | AE63: =SUM(R63:AD63) -> 550
A64: 51 | B64: 16945 | C64: ΚΩΣΤΟΠΟΥΛΟΣ | D64: ΗΛΙΑΣ | M64: 14 | N64: 33 | R64: =VLOOKUP(E64,Παράμετροι!$A$4:$B$10,2) -> 0 | S64: =VLOOKUP(F64,Παράμετροι!$D$4:$E$19,2) -> 0 | T64: =VLOOKUP(G64,Παράμετροι!$D$4:$E$19,2) -> 0 | U64: =VLOOKUP(H64,Παράμετροι!$G$4:$H$7,2) -> 0 | V64: =VLOOKUP(I64,Παράμετροι!$G$4:$H$7,2) -> 0 | W64: =VLOOKUP(J64,Παράμετροι!$J$4:$K$7,2) -> 0 | X64: =VLOOKUP(K64,Παράμετροι!$M$4:$N$14,2) -> 0 | Y64: =VLOOKUP(L64,Παράμετροι!$M$4:$N$14,2) -> 0 | Z64: =VLOOKUP(M64,Παράμετροι!$P$4:$Q$1004,2) -> 280 | AA64: =VLOOKUP(N64,Παράμετροι!$S$4:$T$124,2) -> 264 | AB64: =VLOOKUP(O64,Παράμετροι!$V$4:$W$124,2) -> 0 | AC64: =VLOOKUP(P64,Παράμετροι!$Y$4:$Z$55,2) -> 0 | AD64: =VLOOKUP(Q64,Παράμετροι!$AB$4:$AC$55,2) -> 0 | AE64: =SUM(R64:AD64) -> 544
A65: 52 | B65: 17319 | C65: ΣΕΛΤΣΙΩΤΗΣ | D65: ΧΡΗΣΤΟΣ | E65: 26 | M65: 12.09 | R65: =VLOOKUP(E65,Παράμετροι!$A$4:$B$10,2) -> 300 | S65: =VLOOKUP(F65,Παράμετροι!$D$4:$E$19,2) -> 0 | T65: =VLOOKUP(G65,Παράμετροι!$D$4:$E$19,2) -> 0 | U65: =VLOOKUP(H65,Παράμετροι!$G$4:$H$7,2) -> 0 | V65: =VLOOKUP(I65,Παράμετροι!$G$4:$H$7,2) -> 0 | W65: =VLOOKUP(J65,Παράμετροι!$J$4:$K$7,2) -> 0 | X65: =VLOOKUP(K65,Παράμετροι!$M$4:$N$14,2) -> 0 | Y65: =VLOOKUP(L65,Παράμετροι!$M$4:$N$14,2) -> 0 | Z65: =VLOOKUP(M65,Παράμετροι!$P$4:$Q$1004,2) -> 241.8 | AA65: =VLOOKUP(N65,Παράμετροι!$S$4:$T$124,2) -> 0 | AB65: =VLOOKUP(O65,Παράμετροι!$V$4:$W$124,2) -> 0 | AC65: =VLOOKUP(P65,Παράμετροι!$Y$4:$Z$55,2) -> 0 | AD65: =VLOOKUP(Q65,Παράμετροι!$AB$4:$AC$55,2) -> 0 | AE65: =SUM(R65:AD65) -> 541.8
A66: 53 | B66: 17832 | C66: ΛΟΗΣ | D66: ΣΠΥΡΙΔΩΝ | M66: 18 | N66: 22 | R66: =VLOOKUP(E66,Παράμετροι!$A$4:$B$10,2) -> 0 | S66: =VLOOKUP(F66,Παράμετροι!$D$4:$E$19,2) -> 0 | T66: =VLOOKUP(G66,Παράμετροι!$D$4:$E$19,2) -> 0 | U66: =VLOOKUP(H66,Παράμετροι!$G$4:$H$7,2) -> 0 | V66: =VLOOKUP(I66,Παράμετροι!$G$4:$H$7,2) -> 0 | W66: =VLOOKUP(J66,Παράμετροι!$J$4:$K$7,2) -> 0 | X66: =VLOOKUP(K66,Παράμετροι!$M$4:$N$14,2) -> 0 | Y66: =VLOOKUP(L66,Παράμετροι!$M$4:$N$14,2) -> 0 | Z66: =VLOOKUP(M66,Παράμετροι!$P$4:$Q$1004,2) -> 360 | AA66: =VLOOKUP(N66,Παράμετροι!$S$4:$T$124,2) -> 176 | AB66: =VLOOKUP(O66,Παράμετροι!$V$4:$W$124,2) -> 0 | AC66: =VLOOKUP(P66,Παράμετροι!$Y$4:$Z$55,2) -> 0 | AD66: =VLOOKUP(Q66,Παράμετροι!$AB$4:$AC$55,2) -> 0 | AE66: =SUM(R66:AD66) -> 536
A67: 54 | B67: 18263 | C67: ΚΥΒΕΛΟΦ | D67: ΓΕΩΡΓΙΟΣ | M67: 12.5 | N67: 23 | O67: 14 | R67: =VLOOKUP(E67,Παράμετροι!$A$4:$B$10,2) -> 0 | S67: =VLOOKUP(F67,Παράμετροι!$D$4:$E$19,2) -> 0 | T67: =VLOOKUP(G67,Παράμετροι!$D$4:$E$19,2) -> 0 | U67: =VLOOKUP(H67,Παράμετροι!$G$4:$H$7,2) -> 0 | V67: =VLOOKUP(I67,Παράμετροι!$G$4:$H$7,2) -> 0 | W67: =VLOOKUP(J67,Παράμετροι!$J$4:$K$7,2) -> 0 | X67: =VLOOKUP(K67,Παράμετροι!$M$4:$N$14,2) -> 0 | Y67: =VLOOKUP(L67,Παράμετροι!$M$4:$N$14,2) -> 0 | Z67: =VLOOKUP(M67,Παράμετροι!$P$4:$Q$1004,2) -> 250 | AA67: =VLOOKUP(N67,Παράμετροι!$S$4:$T$124,2) -> 184 | AB67: =VLOOKUP(O67,Παράμετροι!$V$4:$W$124,2) -> 98 | AC67: =VLOOKUP(P67,Παράμετροι!$Y$4:$Z$55,2) -> 0 | AD67: =VLOOKUP(Q67,Παράμετροι!$AB$4:$AC$55,2) -> 0 | AE67: =SUM(R67:AD67) -> 532
A68: 55 | B68: 17862 | C68: ΜΙΧΑΛΑΚΗ | D68: ΙΩΑΝΝΑ | E68: 4 | M68: 16.5 | R68: =VLOOKUP(E68,Παράμετροι!$A$4:$B$10,2) -> 200 | S68: =VLOOKUP(F68,Παράμετροι!$D$4:$E$19,2) -> 0 | T68: =VLOOKUP(G68,Παράμετροι!$D$4:$E$19,2) -> 0 | U68: =VLOOKUP(H68,Παράμετροι!$G$4:$H$7,2) -> 0 | V68: =VLOOKUP(I68,Παράμετροι!$G$4:$H$7,2) -> 0 | W68: =VLOOKUP(J68,Παράμετροι!$J$4:$K$7,2) -> 0 | X68: =VLOOKUP(K68,Παράμετροι!$M$4:$N$14,2) -> 0 | Y68: =VLOOKUP(L68,Παράμετροι!$M$4:$N$14,2) -> 0 | Z68: =VLOOKUP(M68,Παράμετροι!$P$4:$Q$1004,2) -> 330 | AA68: =VLOOKUP(N68,Παράμετροι!$S$4:$T$124,2) -> 0 | AB68: =VLOOKUP(O68,Παράμετροι!$V$4:$W$124,2) -> 0 | AC68: =VLOOKUP(P68,Παράμετροι!$Y$4:$Z$55,2) -> 0 | AD68: =VLOOKUP(Q68,Παράμετροι!$AB$4:$AC$55,2) -> 0 | AE68: =SUM(R68:AD68) -> 530
A69: 56 | B69: 16885 | C69: ΑΓΓΕΛΟΠΟΥΛΟΣ | D69: ΓΕΩΡΓΙΟΣ | J69: 1 | M69: 14.27 | N69: 24 | R69: =VLOOKUP(E69,Παράμετροι!$A$4:$B$10,2) -> 0 | S69: =VLOOKUP(F69,Παράμετροι!$D$4:$E$19,2) -> 0 | T69: =VLOOKUP(G69,Παράμετροι!$D$4:$E$19,2) -> 0 | U69: =VLOOKUP(H69,Παράμετροι!$G$4:$H$7,2) -> 0 | V69: =VLOOKUP(I69,Παράμετροι!$G$4:$H$7,2) -> 0 | W69: =VLOOKUP(J69,Παράμετροι!$J$4:$K$7,2) -> 30 | X69: =VLOOKUP(K69,Παράμετροι!$M$4:$N$14,2) -> 0 | Y69: =VLOOKUP(L69,Παράμετροι!$M$4:$N$14,2) -> 0 | Z69: =VLOOKUP(M69,Παράμετροι!$P$4:$Q$1004,2) -> 285.4 | AA69: =VLOOKUP(N69,Παράμετροι!$S$4:$T$124,2) -> 192 | AB69: =VLOOKUP(O69,Παράμετροι!$V$4:$W$124,2) -> 0 | AC69: =VLOOKUP(P69,Παράμετροι!$Y$4:$Z$55,2) -> 0 | AD69: =VLOOKUP(Q69,Παράμετροι!$AB$4:$AC$55,2) -> 0 | AE69: =SUM(R69:AD69) -> 507.4
A70: 57 | B70: 15588 | C70: ΚΙΤΣΙΟΣ | D70: ΔΗΜΗΤΡΙΟΣ | M70: 12.9 | N70: 18 | O70: 15 | R70: =VLOOKUP(E70,Παράμετροι!$A$4:$B$10,2) -> 0 | S70: =VLOOKUP(F70,Παράμετροι!$D$4:$E$19,2) -> 0 | T70: =VLOOKUP(G70,Παράμετροι!$D$4:$E$19,2) -> 0 | U70: =VLOOKUP(H70,Παράμετροι!$G$4:$H$7,2) -> 0 | V70: =VLOOKUP(I70,Παράμετροι!$G$4:$H$7,2) -> 0 | W70: =VLOOKUP(J70,Παράμετροι!$J$4:$K$7,2) -> 0 | X70: =VLOOKUP(K70,Παράμετροι!$M$4:$N$14,2) -> 0 | Y70: =VLOOKUP(L70,Παράμετροι!$M$4:$N$14,2) -> 0 | Z70: =VLOOKUP(M70,Παράμετροι!$P$4:$Q$1004,2) -> 258 | AA70: =VLOOKUP(N70,Παράμετροι!$S$4:$T$124,2) -> 144 | AB70: =VLOOKUP(O70,Παράμετροι!$V$4:$W$124,2) -> 105 | AC70: =VLOOKUP(P70,Παράμετροι!$Y$4:$Z$55,2) -> 0 | AD70: =VLOOKUP(Q70,Παράμετροι!$AB$4:$AC$55,2) -> 0 | AE70: =SUM(R70:AD70) -> 507
A71: 58 | B71: 17287 | C71: ΠΕΤΑΝΙΔΗΣ | D71: ΚΩΝΣΤΑΝΤΙΝΟΣ | M71: 15.28 | N71: 24 | R71: =VLOOKUP(E71,Παράμετροι!$A$4:$B$10,2) -> 0 | S71: =VLOOKUP(F71,Παράμετροι!$D$4:$E$19,2) -> 0 | T71: =VLOOKUP(G71,Παράμετροι!$D$4:$E$19,2) -> 0 | U71: =VLOOKUP(H71,Παράμετροι!$G$4:$H$7,2) -> 0 | V71: =VLOOKUP(I71,Παράμετροι!$G$4:$H$7,2) -> 0 | W71: =VLOOKUP(J71,Παράμετροι!$J$4:$K$7,2) -> 0 | X71: =VLOOKUP(K71,Παράμετροι!$M$4:$N$14,2) -> 0 | Y71: =VLOOKUP(L71,Παράμετροι!$M$4:$N$14,2) -> 0 | Z71: =VLOOKUP(M71,Παράμετροι!$P$4:$Q$1004,2) -> 305.6 | AA71: =VLOOKUP(N71,Παράμετροι!$S$4:$T$124,2) -> 192 | AB71: =VLOOKUP(O71,Παράμετροι!$V$4:$W$124,2) -> 0 | AC71: =VLOOKUP(P71,Παράμετροι!$Y$4:$Z$55,2) -> 0 | AD71: =VLOOKUP(Q71,Παράμετροι!$AB$4:$AC$55,2) -> 0 | AE71: =SUM(R71:AD71) -> 497.6
A72: 59 | B72: 16080 | C72: ΤΖΩΡΑΣ | D72: ΑΝΑΣΤΑΣΙΟΣ | M72: 13.9 | N72: 25 | R72: =VLOOKUP(E72,Παράμετροι!$A$4:$B$10,2) -> 0 | S72: =VLOOKUP(F72,Παράμετροι!$D$4:$E$19,2) -> 0 | T72: =VLOOKUP(G72,Παράμετροι!$D$4:$E$19,2) -> 0 | U72: =VLOOKUP(H72,Παράμετροι!$G$4:$H$7,2) -> 0 | V72: =VLOOKUP(I72,Παράμετροι!$G$4:$H$7,2) -> 0 | W72: =VLOOKUP(J72,Παράμετροι!$J$4:$K$7,2) -> 0 | X72: =VLOOKUP(K72,Παράμετροι!$M$4:$N$14,2) -> 0 | Y72: =VLOOKUP(L72,Παράμετροι!$M$4:$N$14,2) -> 0 | Z72: =VLOOKUP(M72,Παράμετροι!$P$4:$Q$1004,2) -> 278 | AA72: =VLOOKUP(N72,Παράμετροι!$S$4:$T$124,2) -> 200 | AB72: =VLOOKUP(O72,Παράμετροι!$V$4:$W$124,2) -> 0 | AC72: =VLOOKUP(P72,Παράμετροι!$Y$4:$Z$55,2) -> 0 | AD72: =VLOOKUP(Q72,Παράμετροι!$AB$4:$AC$55,2) -> 0 | AE72: =SUM(R72:AD72) -> 478
A73: 60 | B73: 16401 | C73: ΤΣΙΓΓΕΛΗΣ | D73: ΜΙΧΑΗΛ | M73: 15.5 | N73: 21 | R73: =VLOOKUP(E73,Παράμετροι!$A$4:$B$10,2) -> 0 | S73: =VLOOKUP(F73,Παράμετροι!$D$4:$E$19,2) -> 0 | T73: =VLOOKUP(G73,Παράμετροι!$D$4:$E$19,2) -> 0 | U73: =VLOOKUP(H73,Παράμετροι!$G$4:$H$7,2) -> 0 | V73: =VLOOKUP(I73,Παράμετροι!$G$4:$H$7,2) -> 0 | W73: =VLOOKUP(J73,Παράμετροι!$J$4:$K$7,2) -> 0 | X73: =VLOOKUP(K73,Παράμετροι!$M$4:$N$14,2) -> 0 | Y73: =VLOOKUP(L73,Παράμετροι!$M$4:$N$14,2) -> 0 | Z73: =VLOOKUP(M73,Παράμετροι!$P$4:$Q$1004,2) -> 310 | AA73: =VLOOKUP(N73,Παράμετροι!$S$4:$T$124,2) -> 168 | AB73: =VLOOKUP(O73,Παράμετροι!$V$4:$W$124,2) -> 0 | AC73: =VLOOKUP(P73,Παράμετροι!$Y$4:$Z$55,2) -> 0 | AD73: =VLOOKUP(Q73,Παράμετροι!$AB$4:$AC$55,2) -> 0 | AE73: =SUM(R73:AD73) -> 478
A74: 61 | B74: 15585 | C74: ΦΙΣΚΑΤΟΡΗΣ | D74: ΚΩΝΣΤΑΝΤΙΝΟΣ | M74: 13.3 | O74: 30 | R74: =VLOOKUP(E74,Παράμετροι!$A$4:$B$10,2) -> 0 | S74: =VLOOKUP(F74,Παράμετροι!$D$4:$E$19,2) -> 0 | T74: =VLOOKUP(G74,Παράμετροι!$D$4:$E$19,2) -> 0 | U74: =VLOOKUP(H74,Παράμετροι!$G$4:$H$7,2) -> 0 | V74: =VLOOKUP(I74,Παράμετροι!$G$4:$H$7,2) -> 0 | W74: =VLOOKUP(J74,Παράμετροι!$J$4:$K$7,2) -> 0 | X74: =VLOOKUP(K74,Παράμετροι!$M$4:$N$14,2) -> 0 | Y74: =VLOOKUP(L74,Παράμετροι!$M$4:$N$14,2) -> 0 | Z74: =VLOOKUP(M74,Παράμετροι!$P$4:$Q$1004,2) -> 266 | AA74: =VLOOKUP(N74,Παράμετροι!$S$4:$T$124,2) -> 0 | AB74: =VLOOKUP(O74,Παράμετροι!$V$4:$W$124,2) -> 210 | AC74: =VLOOKUP(P74,Παράμετροι!$Y$4:$Z$55,2) -> 0 | AD74: =VLOOKUP(Q74,Παράμετροι!$AB$4:$AC$55,2) -> 0 | AE74: =SUM(R74:AD74) -> 476
A75: 62 | B75: 17201 | C75: ΜΟΔΙΑΤΗ | D75: ΕΛΕΝΗ | E75: 2 | H75: 3 | J75: 2 | M75: 14.72 | R75: =VLOOKUP(E75,Παράμετροι!$A$4:$B$10,2) -> 0 | S75: =VLOOKUP(F75,Παράμετροι!$D$4:$E$19,2) -> 0 | T75: =VLOOKUP(G75,Παράμετροι!$D$4:$E$19,2) -> 0 | U75: =VLOOKUP(H75,Παράμετροι!$G$4:$H$7,2) -> 120 | V75: =VLOOKUP(I75,Παράμετροι!$G$4:$H$7,2) -> 0 | W75: =VLOOKUP(J75,Παράμετροι!$J$4:$K$7,2) -> 60 | X75: =VLOOKUP(K75,Παράμετροι!$M$4:$N$14,2) -> 0 | Y75: =VLOOKUP(L75,Παράμετροι!$M$4:$N$14,2) -> 0 | Z75: =VLOOKUP(M75,Παράμετροι!$P$4:$Q$1004,2) -> 294.4 | AA75: =VLOOKUP(N75,Παράμετροι!$S$4:$T$124,2) -> 0 | AB75: =VLOOKUP(O75,Παράμετροι!$V$4:$W$124,2) -> 0 | AC75: =VLOOKUP(P75,Παράμετροι!$Y$4:$Z$55,2) -> 0 | AD75: =VLOOKUP(Q75,Παράμετροι!$AB$4:$AC$55,2) -> 0 | AE75: =SUM(R75:AD75) -> 474.4
A76: 63 | B76: 17398 | C76: ΣΤΑΥΡΟΠΟΥΛΟΣ | D76: ΚΩΝΣΤΑΝΤΙΝΟΣ | M76: 14 | N76: 24 | R76: =VLOOKUP(E76,Παράμετροι!$A$4:$B$10,2) -> 0 | S76: =VLOOKUP(F76,Παράμετροι!$D$4:$E$19,2) -> 0 | T76: =VLOOKUP(G76,Παράμετροι!$D$4:$E$19,2) -> 0 | U76: =VLOOKUP(H76,Παράμετροι!$G$4:$H$7,2) -> 0 | V76: =VLOOKUP(I76,Παράμετροι!$G$4:$H$7,2) -> 0 | W76: =VLOOKUP(J76,Παράμετροι!$J$4:$K$7,2) -> 0 | X76: =VLOOKUP(K76,Παράμετροι!$M$4:$N$14,2) -> 0 | Y76: =VLOOKUP(L76,Παράμετροι!$M$4:$N$14,2) -> 0 | Z76: =VLOOKUP(M76,Παράμετροι!$P$4:$Q$1004,2) -> 280 | AA76: =VLOOKUP(N76,Παράμετροι!$S$4:$T$124,2) -> 192 | AB76: =VLOOKUP(O76,Παράμετροι!$V$4:$W$124,2) -> 0 | AC76: =VLOOKUP(P76,Παράμετροι!$Y$4:$Z$55,2) -> 0 | AD76: =VLOOKUP(Q76,Παράμετροι!$AB$4:$AC$55,2) -> 0 | AE76: =SUM(R76:AD76) -> 472
A77: 64 | B77: 16881 | C77: ΚΡΙΜΙΤΖΑΣ | D77: ΝΙΚΟΛΑΟΣ | M77: 15.7 | N77: 19 | R77: =VLOOKUP(E77,Παράμετροι!$A$4:$B$10,2) -> 0 | S77: =VLOOKUP(F77,Παράμετροι!$D$4:$E$19,2) -> 0 | T77: =VLOOKUP(G77,Παράμετροι!$D$4:$E$19,2) -> 0 | U77: =VLOOKUP(H77,Παράμετροι!$G$4:$H$7,2) -> 0 | V77: =VLOOKUP(I77,Παράμετροι!$G$4:$H$7,2) -> 0 | W77: =VLOOKUP(J77,Παράμετροι!$J$4:$K$7,2) -> 0 | X77: =VLOOKUP(K77,Παράμετροι!$M$4:$N$14,2) -> 0 | Y77: =VLOOKUP(L77,Παράμετροι!$M$4:$N$14,2) -> 0 | Z77: =VLOOKUP(M77,Παράμετροι!$P$4:$Q$1004,2) -> 314 | AA77: =VLOOKUP(N77,Παράμετροι!$S$4:$T$124,2) -> 152 | AB77: =VLOOKUP(O77,Παράμετροι!$V$4:$W$124,2) -> 0 | AC77: =VLOOKUP(P77,Παράμετροι!$Y$4:$Z$55,2) -> 0 | AD77: =VLOOKUP(Q77,Παράμετροι!$AB$4:$AC$55,2) -> 0 | AE77: =SUM(R77:AD77) -> 466
A78: 65 | B78: 16899 | C78: ΓΑΛΑΝΗ | D78: ΓΕΩΡΓΙΑ | M78: 13.5 | N78: 24 | R78: =VLOOKUP(E78,Παράμετροι!$A$4:$B$10,2) -> 0 | S78: =VLOOKUP(F78,Παράμετροι!$D$4:$E$19,2) -> 0 | T78: =VLOOKUP(G78,Παράμετροι!$D$4:$E$19,2) -> 0 | U78: =VLOOKUP(H78,Παράμετροι!$G$4:$H$7,2) -> 0 | V78: =VLOOKUP(I78,Παράμετροι!$G$4:$H$7,2) -> 0 | W78: =VLOOKUP(J78,Παράμετροι!$J$4:$K$7,2) -> 0 | X78: =VLOOKUP(K78,Παράμετροι!$M$4:$N$14,2) -> 0 | Y78: =VLOOKUP(L78,Παράμετροι!$M$4:$N$14,2) -> 0 | Z78: =VLOOKUP(M78,Παράμετροι!$P$4:$Q$1004,2) -> 270 | AA78: =VLOOKUP(N78,Παράμετροι!$S$4:$T$124,2) -> 192 | AB78: =VLOOKUP(O78,Παράμετροι!$V$4:$W$124,2) -> 0 | AC78: =VLOOKUP(P78,Παράμετροι!$Y$4:$Z$55,2) -> 0 | AD78: =VLOOKUP(Q78,Παράμετροι!$AB$4:$AC$55,2) -> 0 | AE78: =SUM(R78:AD78) -> 462
A79: 66 | B79: 17141 | C79: ΒΑΡΔΑΚΗΣ | D79: ΓΕΩΡΓΙΟΣ | M79: 14.36 | N79: 21 | R79: =VLOOKUP(E79,Παράμετροι!$A$4:$B$10,2) -> 0 | S79: =VLOOKUP(F79,Παράμετροι!$D$4:$E$19,2) -> 0 | T79: =VLOOKUP(G79,Παράμετροι!$D$4:$E$19,2) -> 0 | U79: =VLOOKUP(H79,Παράμετροι!$G$4:$H$7,2) -> 0 | V79: =VLOOKUP(I79,Παράμετροι!$G$4:$H$7,2) -> 0 | W79: =VLOOKUP(J79,Παράμετροι!$J$4:$K$7,2) -> 0 | X79: =VLOOKUP(K79,Παράμετροι!$M$4:$N$14,2) -> 0 | Y79: =VLOOKUP(L79,Παράμετροι!$M$4:$N$14,2) -> 0 | Z79: =VLOOKUP(M79,Παράμετροι!$P$4:$Q$1004,2) -> 287.2 | AA79: =VLOOKUP(N79,Παράμετροι!$S$4:$T$124,2) -> 168 | AB79: =VLOOKUP(O79,Παράμετροι!$V$4:$W$124,2) -> 0 | AC79: =VLOOKUP(P79,Παράμετροι!$Y$4:$Z$55,2) -> 0 | AD79: =VLOOKUP(Q79,Παράμετροι!$AB$4:$AC$55,2) -> 0 | AE79: =SUM(R79:AD79) -> 455.2
A80: 67 | B80: 18094 | C80: CAMARUT | D80: TUDOR-LUCIAN | E80: 2 | M80: 13.6 | N80: 8 | O80: 16 | R80: =VLOOKUP(E80,Παράμετροι!$A$4:$B$10,2) -> 0 | S80: =VLOOKUP(F80,Παράμετροι!$D$4:$E$19,2) -> 0 | T80: =VLOOKUP(G80,Παράμετροι!$D$4:$E$19,2) -> 0 | U80: =VLOOKUP(H80,Παράμετροι!$G$4:$H$7,2) -> 0 | V80: =VLOOKUP(I80,Παράμετροι!$G$4:$H$7,2) -> 0 | W80: =VLOOKUP(J80,Παράμετροι!$J$4:$K$7,2) -> 0 | X80: =VLOOKUP(K80,Παράμετροι!$M$4:$N$14,2) -> 0 | Y80: =VLOOKUP(L80,Παράμετροι!$M$4:$N$14,2) -> 0 | Z80: =VLOOKUP(M80,Παράμετροι!$P$4:$Q$1004,2) -> 272 | AA80: =VLOOKUP(N80,Παράμετροι!$S$4:$T$124,2) -> 64 | AB80: =VLOOKUP(O80,Παράμετροι!$V$4:$W$124,2) -> 112 | AC80: =VLOOKUP(P80,Παράμετροι!$Y$4:$Z$55,2) -> 0 | AD80: =VLOOKUP(Q80,Παράμετροι!$AB$4:$AC$55,2) -> 0 | AE80: =SUM(R80:AD80) -> 448
A81: 68 | B81: 18322 | C81: ΜΠΟΚΟΥ | D81: ΘΕΟΔΩΡΑ | E81: 2 | J81: 1 | M81: 17 | N81: 8 | R81: =VLOOKUP(E81,Παράμετροι!$A$4:$B$10,2) -> 0 | S81: =VLOOKUP(F81,Παράμετροι!$D$4:$E$19,2) -> 0 | T81: =VLOOKUP(G81,Παράμετροι!$D$4:$E$19,2) -> 0 | U81: =VLOOKUP(H81,Παράμετροι!$G$4:$H$7,2) -> 0 | V81: =VLOOKUP(I81,Παράμετροι!$G$4:$H$7,2) -> 0 | W81: =VLOOKUP(J81,Παράμετροι!$J$4:$K$7,2) -> 30 | X81: =VLOOKUP(K81,Παράμετροι!$M$4:$N$14,2) -> 0 | Y81: =VLOOKUP(L81,Παράμετροι!$M$4:$N$14,2) -> 0 | Z81: =VLOOKUP(M81,Παράμετροι!$P$4:$Q$1004,2) -> 340 | AA81: =VLOOKUP(N81,Παράμετροι!$S$4:$T$124,2) -> 64 | AB81: =VLOOKUP(O81,Παράμετροι!$V$4:$W$124,2) -> 0 | AC81: =VLOOKUP(P81,Παράμετροι!$Y$4:$Z$55,2) -> 0 | AD81: =VLOOKUP(Q81,Παράμετροι!$AB$4:$AC$55,2) -> 0 | AE81: =SUM(R81:AD81) -> 434
A82: 69 | B82: 15686 | C82: ΚΩΤΣΑΚΗΣ | D82: ΘΕΟΔΩΡΟΣ | G82: 3 | M82: 14.18 | R82: =VLOOKUP(E82,Παράμετροι!$A$4:$B$10,2) -> 0 | S82: =VLOOKUP(F82,Παράμετροι!$D$4:$E$19,2) -> 0 | T82: =VLOOKUP(G82,Παράμετροι!$D$4:$E$19,2) -> 150 | U82: =VLOOKUP(H82,Παράμετροι!$G$4:$H$7,2) -> 0 | V82: =VLOOKUP(I82,Παράμετροι!$G$4:$H$7,2) -> 0 | W82: =VLOOKUP(J82,Παράμετροι!$J$4:$K$7,2) -> 0 | X82: =VLOOKUP(K82,Παράμετροι!$M$4:$N$14,2) -> 0 | Y82: =VLOOKUP(L82,Παράμετροι!$M$4:$N$14,2) -> 0 | Z82: =VLOOKUP(M82,Παράμετροι!$P$4:$Q$1004,2) -> 283.6 | AA82: =VLOOKUP(N82,Παράμετροι!$S$4:$T$124,2) -> 0 | AB82: =VLOOKUP(O82,Παράμετροι!$V$4:$W$124,2) -> 0 | AC82: =VLOOKUP(P82,Παράμετροι!$Y$4:$Z$55,2) -> 0 | AD82: =VLOOKUP(Q82,Παράμετροι!$AB$4:$AC$55,2) -> 0 | AE82: =SUM(R82:AD82) -> 433.6
A83: 70 | B83: 15145 | C83: ΑΛΙΦΕΡΗΣ | D83: ΦΑΙΔΩΝ | M83: 15 | N83: 16 | R83: =VLOOKUP(E83,Παράμετροι!$A$4:$B$10,2) -> 0 | S83: =VLOOKUP(F83,Παράμετροι!$D$4:$E$19,2) -> 0 | T83: =VLOOKUP(G83,Παράμετροι!$D$4:$E$19,2) -> 0 | U83: =VLOOKUP(H83,Παράμετροι!$G$4:$H$7,2) -> 0 | V83: =VLOOKUP(I83,Παράμετροι!$G$4:$H$7,2) -> 0 | W83: =VLOOKUP(J83,Παράμετροι!$J$4:$K$7,2) -> 0 | X83: =VLOOKUP(K83,Παράμετροι!$M$4:$N$14,2) -> 0 | Y83: =VLOOKUP(L83,Παράμετροι!$M$4:$N$14,2) -> 0 | Z83: =VLOOKUP(M83,Παράμετροι!$P$4:$Q$1004,2) -> 300 | AA83: =VLOOKUP(N83,Παράμετροι!$S$4:$T$124,2) -> 128 | AB83: =VLOOKUP(O83,Παράμετροι!$V$4:$W$124,2) -> 0 | AC83: =VLOOKUP(P83,Παράμετροι!$Y$4:$Z$55,2) -> 0 | AD83: =VLOOKUP(Q83,Παράμετροι!$AB$4:$AC$55,2) -> 0 | AE83: =SUM(R83:AD83) -> 428
A84: 71 | B84: 19075 | C84: ΚΟΓΙΟΥ | D84: ΕΛΕΝΗ | E84: 3 | M84: 18 | N84: 8 | R84: =VLOOKUP(E84,Παράμετροι!$A$4:$B$10,2) -> 0 | S84: =VLOOKUP(F84,Παράμετροι!$D$4:$E$19,2) -> 0 | T84: =VLOOKUP(G84,Παράμετροι!$D$4:$E$19,2) -> 0 | U84: =VLOOKUP(H84,Παράμετροι!$G$4:$H$7,2) -> 0 | V84: =VLOOKUP(I84,Παράμετροι!$G$4:$H$7,2) -> 0 | W84: =VLOOKUP(J84,Παράμετροι!$J$4:$K$7,2) -> 0 | X84: =VLOOKUP(K84,Παράμετροι!$M$4:$N$14,2) -> 0 | Y84: =VLOOKUP(L84,Παράμετροι!$M$4:$N$14,2) -> 0 | Z84: =VLOOKUP(M84,Παράμετροι!$P$4:$Q$1004,2) -> 360 | AA84: =VLOOKUP(N84,Παράμετροι!$S$4:$T$124,2) -> 64 | AB84: =VLOOKUP(O84,Παράμετροι!$V$4:$W$124,2) -> 0 | AC84: =VLOOKUP(P84,Παράμετροι!$Y$4:$Z$55,2) -> 0 | AD84: =VLOOKUP(Q84,Παράμετροι!$AB$4:$AC$55,2) -> 0 | AE84: =SUM(R84:AD84) -> 424
A85: 72 | B85: 18279 | C85: ΣΜΥΡΝΗ | D85: ΓΕΩΡΓΙΑ | E85: 3 | J85: 2 | M85: 15 | N85: 7 | R85: =VLOOKUP(E85,Παράμετροι!$A$4:$B$10,2) -> 0 | S85: =VLOOKUP(F85,Παράμετροι!$D$4:$E$19,2) -> 0 | T85: =VLOOKUP(G85,Παράμετροι!$D$4:$E$19,2) -> 0 | U85: =VLOOKUP(H85,Παράμετροι!$G$4:$H$7,2) -> 0 | V85: =VLOOKUP(I85,Παράμετροι!$G$4:$H$7,2) -> 0 | W85: =VLOOKUP(J85,Παράμετροι!$J$4:$K$7,2) -> 60 | X85: =VLOOKUP(K85,Παράμετροι!$M$4:$N$14,2) -> 0 | Y85: =VLOOKUP(L85,Παράμετροι!$M$4:$N$14,2) -> 0 | Z85: =VLOOKUP(M85,Παράμετροι!$P$4:$Q$1004,2) -> 300 | AA85: =VLOOKUP(N85,Παράμετροι!$S$4:$T$124,2) -> 56 | AB85: =VLOOKUP(O85,Παράμετροι!$V$4:$W$124,2) -> 0 | AC85: =VLOOKUP(P85,Παράμετροι!$Y$4:$Z$55,2) -> 0 | AD85: =VLOOKUP(Q85,Παράμετροι!$AB$4:$AC$55,2) -> 0 | AE85: =SUM(R85:AD85) -> 416
A86: 73 | B86: 17790 | C86: ΜΑΡΙΔΑΚΗ | D86: ΑΡΤΕΜΗΣΙΑ | E86: 3 | M86: 15.57 | N86: 12 | R86: =VLOOKUP(E86,Παράμετροι!$A$4:$B$10,2) -> 0 | S86: =VLOOKUP(F86,Παράμετροι!$D$4:$E$19,2) -> 0 | T86: =VLOOKUP(G86,Παράμετροι!$D$4:$E$19,2) -> 0 | U86: =VLOOKUP(H86,Παράμετροι!$G$4:$H$7,2) -> 0 | V86: =VLOOKUP(I86,Παράμετροι!$G$4:$H$7,2) -> 0 | W86: =VLOOKUP(J86,Παράμετροι!$J$4:$K$7,2) -> 0 | X86: =VLOOKUP(K86,Παράμετροι!$M$4:$N$14,2) -> 0 | Y86: =VLOOKUP(L86,Παράμετροι!$M$4:$N$14,2) -> 0 | Z86: =VLOOKUP(M86,Παράμετροι!$P$4:$Q$1004,2) -> 311.4 | AA86: =VLOOKUP(N86,Παράμετροι!$S$4:$T$124,2) -> 96 | AB86: =VLOOKUP(O86,Παράμετροι!$V$4:$W$124,2) -> 0 | AC86: =VLOOKUP(P86,Παράμετροι!$Y$4:$Z$55,2) -> 0 | AD86: =VLOOKUP(Q86,Παράμετροι!$AB$4:$AC$55,2) -> 0 | AE86: =SUM(R86:AD86) -> 407.4
A87: 74 | B87: 18362 | C87: ΓΙΑΝΝΟΠΟΥΛΟΣ | D87: ΓΕΩΡΓΙΟΣ | M87: 14 | O87: 18 | R87: =VLOOKUP(E87,Παράμετροι!$A$4:$B$10,2) -> 0 | S87: =VLOOKUP(F87,Παράμετροι!$D$4:$E$19,2) -> 0 | T87: =VLOOKUP(G87,Παράμετροι!$D$4:$E$19,2) -> 0 | U87: =VLOOKUP(H87,Παράμετροι!$G$4:$H$7,2) -> 0 | V87: =VLOOKUP(I87,Παράμετροι!$G$4:$H$7,2) -> 0 | W87: =VLOOKUP(J87,Παράμετροι!$J$4:$K$7,2) -> 0 | X87: =VLOOKUP(K87,Παράμετροι!$M$4:$N$14,2) -> 0 | Y87: =VLOOKUP(L87,Παράμετροι!$M$4:$N$14,2) -> 0 | Z87: =VLOOKUP(M87,Παράμετροι!$P$4:$Q$1004,2) -> 280 | AA87: =VLOOKUP(N87,Παράμετροι!$S$4:$T$124,2) -> 0 | AB87: =VLOOKUP(O87,Παράμετροι!$V$4:$W$124,2) -> 126 | AC87: =VLOOKUP(P87,Παράμετροι!$Y$4:$Z$55,2) -> 0 | AD87: =VLOOKUP(Q87,Παράμετροι!$AB$4:$AC$55,2) -> 0 | AE87: =SUM(R87:AD87) -> 406
A88: 75 | B88: 17945 | C88: ΜΕΤΑΞΩΤΗ | D88: ΕΙΡΗΝΗ | E88: 3 | M88: 17 | N88: 8 | R88: =VLOOKUP(E88,Παράμετροι!$A$4:$B$10,2) -> 0 | S88: =VLOOKUP(F88,Παράμετροι!$D$4:$E$19,2) -> 0 | T88: =VLOOKUP(G88,Παράμετροι!$D$4:$E$19,2) -> 0 | U88: =VLOOKUP(H88,Παράμετροι!$G$4:$H$7,2) -> 0 | V88: =VLOOKUP(I88,Παράμετροι!$G$4:$H$7,2) -> 0 | W88: =VLOOKUP(J88,Παράμετροι!$J$4:$K$7,2) -> 0 | X88: =VLOOKUP(K88,Παράμετροι!$M$4:$N$14,2) -> 0 | Y88: =VLOOKUP(L88,Παράμετροι!$M$4:$N$14,2) -> 0 | Z88: =VLOOKUP(M88,Παράμετροι!$P$4:$Q$1004,2) -> 340 | AA88: =VLOOKUP(N88,Παράμετροι!$S$4:$T$124,2) -> 64 | AB88: =VLOOKUP(O88,Παράμετροι!$V$4:$W$124,2) -> 0 | AC88: =VLOOKUP(P88,Παράμετροι!$Y$4:$Z$55,2) -> 0 | AD88: =VLOOKUP(Q88,Παράμετροι!$AB$4:$AC$55,2) -> 0 | AE88: =SUM(R88:AD88) -> 404
A89: 76 | B89: 15273 | C89: ΜΕΤΣΗ | D89: ΚΑΤΕΡΙΝΑ | M89: 13.8 | N89: 14 | R89: =VLOOKUP(E89,Παράμετροι!$A$4:$B$10,2) -> 0 | S89: =VLOOKUP(F89,Παράμετροι!$D$4:$E$19,2) -> 0 | T89: =VLOOKUP(G89,Παράμετροι!$D$4:$E$19,2) -> 0 | U89: =VLOOKUP(H89,Παράμετροι!$G$4:$H$7,2) -> 0 | V89: =VLOOKUP(I89,Παράμετροι!$G$4:$H$7,2) -> 0 | W89: =VLOOKUP(J89,Παράμετροι!$J$4:$K$7,2) -> 0 | X89: =VLOOKUP(K89,Παράμετροι!$M$4:$N$14,2) -> 0 | Y89: =VLOOKUP(L89,Παράμετροι!$M$4:$N$14,2) -> 0 | Z89: =VLOOKUP(M89,Παράμετροι!$P$4:$Q$1004,2) -> 276 | AA89: =VLOOKUP(N89,Παράμετροι!$S$4:$T$124,2) -> 112 | AB89: =VLOOKUP(O89,Παράμετροι!$V$4:$W$124,2) -> 0 | AC89: =VLOOKUP(P89,Παράμετροι!$Y$4:$Z$55,2) -> 0 | AD89: =VLOOKUP(Q89,Παράμετροι!$AB$4:$AC$55,2) -> 0 | AE89: =SUM(R89:AD89) -> 388
A90: 77 | B90: 19031 | C90: ΧΡΙΣΤΟΛΗ | D90: ΣΤΑΥΡΟΥΛΑ-ΕΛΕΝΗ | M90: 17.8 | N90: 4 | R90: =VLOOKUP(E90,Παράμετροι!$A$4:$B$10,2) -> 0 | S90: =VLOOKUP(F90,Παράμετροι!$D$4:$E$19,2) -> 0 | T90: =VLOOKUP(G90,Παράμετροι!$D$4:$E$19,2) -> 0 | U90: =VLOOKUP(H90,Παράμετροι!$G$4:$H$7,2) -> 0 | V90: =VLOOKUP(I90,Παράμετροι!$G$4:$H$7,2) -> 0 | W90: =VLOOKUP(J90,Παράμετροι!$J$4:$K$7,2) -> 0 | X90: =VLOOKUP(K90,Παράμετροι!$M$4:$N$14,2) -> 0 | Y90: =VLOOKUP(L90,Παράμετροι!$M$4:$N$14,2) -> 0 | Z90: =VLOOKUP(M90,Παράμετροι!$P$4:$Q$1004,2) -> 356 | AA90: =VLOOKUP(N90,Παράμετροι!$S$4:$T$124,2) -> 32 | AB90: =VLOOKUP(O90,Παράμετροι!$V$4:$W$124,2) -> 0 | AC90: =VLOOKUP(P90,Παράμετροι!$Y$4:$Z$55,2) -> 0 | AD90: =VLOOKUP(Q90,Παράμετροι!$AB$4:$AC$55,2) -> 0 | AE90: =SUM(R90:AD90) -> 388
A91: 78 | B91: 18301 | C91: ΚΑΤΣΗ | D91: ΒΑΣΙΛΙΚΗ | J91: 2 | M91: 16 | R91: =VLOOKUP(E91,Παράμετροι!$A$4:$B$10,2) -> 0 | S91: =VLOOKUP(F91,Παράμετροι!$D$4:$E$19,2) -> 0 | T91: =VLOOKUP(G91,Παράμετροι!$D$4:$E$19,2) -> 0 | U91: =VLOOKUP(H91,Παράμετροι!$G$4:$H$7,2) -> 0 | V91: =VLOOKUP(I91,Παράμετροι!$G$4:$H$7,2) -> 0 | W91: =VLOOKUP(J91,Παράμετροι!$J$4:$K$7,2) -> 60 | X91: =VLOOKUP(K91,Παράμετροι!$M$4:$N$14,2) -> 0 | Y91: =VLOOKUP(L91,Παράμετροι!$M$4:$N$14,2) -> 0 | Z91: =VLOOKUP(M91,Παράμετροι!$P$4:$Q$1004,2) -> 320 | AA91: =VLOOKUP(N91,Παράμετροι!$S$4:$T$124,2) -> 0 | AB91: =VLOOKUP(O91,Παράμετροι!$V$4:$W$124,2) -> 0 | AC91: =VLOOKUP(P91,Παράμετροι!$Y$4:$Z$55,2) -> 0 | AD91: =VLOOKUP(Q91,Παράμετροι!$AB$4:$AC$55,2) -> 0 | AE91: =SUM(R91:AD91) -> 380
A92: 79 | B92: 18814 | C92: ΠΑΝΤΑΖΗ | D92: ΕΥΣΤΑΘΙΑ | E92: 3 | M92: 18.7 | R92: =VLOOKUP(E92,Παράμετροι!$A$4:$B$10,2) -> 0 | S92: =VLOOKUP(F92,Παράμετροι!$D$4:$E$19,2) -> 0 | T92: =VLOOKUP(G92,Παράμετροι!$D$4:$E$19,2) -> 0 | U92: =VLOOKUP(H92,Παράμετροι!$G$4:$H$7,2) -> 0 | V92: =VLOOKUP(I92,Παράμετροι!$G$4:$H$7,2) -> 0 | W92: =VLOOKUP(J92,Παράμετροι!$J$4:$K$7,2) -> 0 | X92: =VLOOKUP(K92,Παράμετροι!$M$4:$N$14,2) -> 0 | Y92: =VLOOKUP(L92,Παράμετροι!$M$4:$N$14,2) -> 0 | Z92: =VLOOKUP(M92,Παράμετροι!$P$4:$Q$1004,2) -> 374 | AA92: =VLOOKUP(N92,Παράμετροι!$S$4:$T$124,2) -> 0 | AB92: =VLOOKUP(O92,Παράμετροι!$V$4:$W$124,2) -> 0 | AC92: =VLOOKUP(P92,Παράμετροι!$Y$4:$Z$55,2) -> 0 | AD92: =VLOOKUP(Q92,Παράμετροι!$AB$4:$AC$55,2) -> 0 | AE92: =SUM(R92:AD92) -> 374
A93: 80 | B93: 18932 | C93: ΒΑΣΙΛΑΚΗΣ | D93: ΕΜΜΑΝΟΥΗΛ | E93: 2 | M93: 15.54 | N93: 7 | R93: =VLOOKUP(E93,Παράμετροι!$A$4:$B$10,2) -> 0 | S93: =VLOOKUP(F93,Παράμετροι!$D$4:$E$19,2) -> 0 | T93: =VLOOKUP(G93,Παράμετροι!$D$4:$E$19,2) -> 0 | U93: =VLOOKUP(H93,Παράμετροι!$G$4:$H$7,2) -> 0 | V93: =VLOOKUP(I93,Παράμετροι!$G$4:$H$7,2) -> 0 | W93: =VLOOKUP(J93,Παράμετροι!$J$4:$K$7,2) -> 0 | X93: =VLOOKUP(K93,Παράμετροι!$M$4:$N$14,2) -> 0 | Y93: =VLOOKUP(L93,Παράμετροι!$M$4:$N$14,2) -> 0 | Z93: =VLOOKUP(M93,Παράμετροι!$P$4:$Q$1004,2) -> 310.8 | AA93: =VLOOKUP(N93,Παράμετροι!$S$4:$T$124,2) -> 56 | AB93: =VLOOKUP(O93,Παράμετροι!$V$4:$W$124,2) -> 0 | AC93: =VLOOKUP(P93,Παράμετροι!$Y$4:$Z$55,2) -> 0 | AD93: =VLOOKUP(Q93,Παράμετροι!$AB$4:$AC$55,2) -> 0 | AE93: =SUM(R93:AD93) -> 366.8
A94: 81 | B94: 17465 | C94: ΜΠΟΪΝΤΑΣ | D94: ΙΩΑΝΝΗΣ | M94: 18 | R94: =VLOOKUP(E94,Παράμετροι!$A$4:$B$10,2) -> 0 | S94: =VLOOKUP(F94,Παράμετροι!$D$4:$E$19,2) -> 0 | T94: =VLOOKUP(G94,Παράμετροι!$D$4:$E$19,2) -> 0 | U94: =VLOOKUP(H94,Παράμετροι!$G$4:$H$7,2) -> 0 | V94: =VLOOKUP(I94,Παράμετροι!$G$4:$H$7,2) -> 0 | W94: =VLOOKUP(J94,Παράμετροι!$J$4:$K$7,2) -> 0 | X94: =VLOOKUP(K94,Παράμετροι!$M$4:$N$14,2) -> 0 | Y94: =VLOOKUP(L94,Παράμετροι!$M$4:$N$14,2) -> 0 | Z94: =VLOOKUP(M94,Παράμετροι!$P$4:$Q$1004,2) -> 360 | AA94: =VLOOKUP(N94,Παράμετροι!$S$4:$T$124,2) -> 0 | AB94: =VLOOKUP(O94,Παράμετροι!$V$4:$W$124,2) -> 0 | AC94: =VLOOKUP(P94,Παράμετροι!$Y$4:$Z$55,2) -> 0 | AD94: =VLOOKUP(Q94,Παράμετροι!$AB$4:$AC$55,2) -> 0 | AE94: =SUM(R94:AD94) -> 360
A95: 82 | B95: 17754 | C95: ΠΛΩΤΑ | D95: ΕΥΘΥΜΙΑ | M95: 17.3 | N95: 1 | R95: =VLOOKUP(E95,Παράμετροι!$A$4:$B$10,2) -> 0 | S95: =VLOOKUP(F95,Παράμετροι!$D$4:$E$19,2) -> 0 | T95: =VLOOKUP(G95,Παράμετροι!$D$4:$E$19,2) -> 0 | U95: =VLOOKUP(H95,Παράμετροι!$G$4:$H$7,2) -> 0 | V95: =VLOOKUP(I95,Παράμετροι!$G$4:$H$7,2) -> 0 | W95: =VLOOKUP(J95,Παράμετροι!$J$4:$K$7,2) -> 0 | X95: =VLOOKUP(K95,Παράμετροι!$M$4:$N$14,2) -> 0 | Y95: =VLOOKUP(L95,Παράμετροι!$M$4:$N$14,2) -> 0 | Z95: =VLOOKUP(M95,Παράμετροι!$P$4:$Q$1004,2) -> 346 | AA95: =VLOOKUP(N95,Παράμετροι!$S$4:$T$124,2) -> 8 | AB95: =VLOOKUP(O95,Παράμετροι!$V$4:$W$124,2) -> 0 | AC95: =VLOOKUP(P95,Παράμετροι!$Y$4:$Z$55,2) -> 0 | AD95: =VLOOKUP(Q95,Παράμετροι!$AB$4:$AC$55,2) -> 0 | AE95: =SUM(R95:AD95) -> 354
A96: 83 | B96: 17459 | C96: ΛΙΒΑΝΟΥ | D96: ΣΤΑΜΑΤΙΝΑ | E96: 2 | M96: 13 | N96: 8 | R96: =VLOOKUP(E96,Παράμετροι!$A$4:$B$10,2) -> 0 | S96: =VLOOKUP(F96,Παράμετροι!$D$4:$E$19,2) -> 0 | T96: =VLOOKUP(G96,Παράμετροι!$D$4:$E$19,2) -> 0 | U96: =VLOOKUP(H96,Παράμετροι!$G$4:$H$7,2) -> 0 | V96: =VLOOKUP(I96,Παράμετροι!$G$4:$H$7,2) -> 0 | W96: =VLOOKUP(J96,Παράμετροι!$J$4:$K$7,2) -> 0 | X96: =VLOOKUP(K96,Παράμετροι!$M$4:$N$14,2) -> 0 | Y96: =VLOOKUP(L96,Παράμετροι!$M$4:$N$14,2) -> 0 | Z96: =VLOOKUP(M96,Παράμετροι!$P$4:$Q$1004,2) -> 260 | AA96: =VLOOKUP(N96,Παράμετροι!$S$4:$T$124,2) -> 64 | AB96: =VLOOKUP(O96,Παράμετροι!$V$4:$W$124,2) -> 0 | AC96: =VLOOKUP(P96,Παράμετροι!$Y$4:$Z$55,2) -> 0 | AD96: =VLOOKUP(Q96,Παράμετροι!$AB$4:$AC$55,2) -> 0 | AE96: =SUM(R96:AD96) -> 324
A97: 84 | B97: 15208 | C97: ΓΕΩΡΓΟΠΟΥΛΟΣ | D97: ΙΩΑΝΝΗΣ | M97: 15.91 | R97: =VLOOKUP(E97,Παράμετροι!$A$4:$B$10,2) -> 0 | S97: =VLOOKUP(F97,Παράμετροι!$D$4:$E$19,2) -> 0 | T97: =VLOOKUP(G97,Παράμετροι!$D$4:$E$19,2) -> 0 | U97: =VLOOKUP(H97,Παράμετροι!$G$4:$H$7,2) -> 0 | V97: =VLOOKUP(I97,Παράμετροι!$G$4:$H$7,2) -> 0 | W97: =VLOOKUP(J97,Παράμετροι!$J$4:$K$7,2) -> 0 | X97: =VLOOKUP(K97,Παράμετροι!$M$4:$N$14,2) -> 0 | Y97: =VLOOKUP(L97,Παράμετροι!$M$4:$N$14,2) -> 0 | Z97: =VLOOKUP(M97,Παράμετροι!$P$4:$Q$1004,2) -> 318.2 | AA97: =VLOOKUP(N97,Παράμετροι!$S$4:$T$124,2) -> 0 | AB97: =VLOOKUP(O97,Παράμετροι!$V$4:$W$124,2) -> 0 | AC97: =VLOOKUP(P97,Παράμετροι!$Y$4:$Z$55,2) -> 0 | AD97: =VLOOKUP(Q97,Παράμετροι!$AB$4:$AC$55,2) -> 0 | AE97: =SUM(R97:AD97) -> 318.2
A98: 85 | B98: 17460 | C98: ΚΑΡΔΑΣΗΣ | D98: ΙΩΑΝΝΗΣ | E98: 2 | M98: 14.7 | N98: 3 | R98: =VLOOKUP(E98,Παράμετροι!$A$4:$B$10,2) -> 0 | S98: =VLOOKUP(F98,Παράμετροι!$D$4:$E$19,2) -> 0 | T98: =VLOOKUP(G98,Παράμετροι!$D$4:$E$19,2) -> 0 | U98: =VLOOKUP(H98,Παράμετροι!$G$4:$H$7,2) -> 0 | V98: =VLOOKUP(I98,Παράμετροι!$G$4:$H$7,2) -> 0 | W98: =VLOOKUP(J98,Παράμετροι!$J$4:$K$7,2) -> 0 | X98: =VLOOKUP(K98,Παράμετροι!$M$4:$N$14,2) -> 0 | Y98: =VLOOKUP(L98,Παράμετροι!$M$4:$N$14,2) -> 0 | Z98: =VLOOKUP(M98,Παράμετροι!$P$4:$Q$1004,2) -> 294 | AA98: =VLOOKUP(N98,Παράμετροι!$S$4:$T$124,2) -> 24 | AB98: =VLOOKUP(O98,Παράμετροι!$V$4:$W$124,2) -> 0 | AC98: =VLOOKUP(P98,Παράμετροι!$Y$4:$Z$55,2) -> 0 | AD98: =VLOOKUP(Q98,Παράμετροι!$AB$4:$AC$55,2) -> 0 | AE98: =SUM(R98:AD98) -> 318
A99: 86 | B99: 17835 | C99: ΝΤΟΥΒΛΗ | D99: ΑΘΗΝΑ | M99: 15.5 | R99: =VLOOKUP(E99,Παράμετροι!$A$4:$B$10,2) -> 0 | S99: =VLOOKUP(F99,Παράμετροι!$D$4:$E$19,2) -> 0 | T99: =VLOOKUP(G99,Παράμετροι!$D$4:$E$19,2) -> 0 | U99: =VLOOKUP(H99,Παράμετροι!$G$4:$H$7,2) -> 0 | V99: =VLOOKUP(I99,Παράμετροι!$G$4:$H$7,2) -> 0 | W99: =VLOOKUP(J99,Παράμετροι!$J$4:$K$7,2) -> 0 | X99: =VLOOKUP(K99,Παράμετροι!$M$4:$N$14,2) -> 0 | Y99: =VLOOKUP(L99,Παράμετροι!$M$4:$N$14,2) -> 0 | Z99: =VLOOKUP(M99,Παράμετροι!$P$4:$Q$1004,2) -> 310 | AA99: =VLOOKUP(N99,Παράμετροι!$S$4:$T$124,2) -> 0 | AB99: =VLOOKUP(O99,Παράμετροι!$V$4:$W$124,2) -> 0 | AC99: =VLOOKUP(P99,Παράμετροι!$Y$4:$Z$55,2) -> 0 | AD99: =VLOOKUP(Q99,Παράμετροι!$AB$4:$AC$55,2) -> 0 | AE99: =SUM(R99:AD99) -> 310
A100: 87 | B100: 16922 | C100: ΠΑΠΠΑΣ | D100: ΑΝΔΡΕΑΣ | M100: 15.27 | R100: =VLOOKUP(E100,Παράμετροι!$A$4:$B$10,2) -> 0 | S100: =VLOOKUP(F100,Παράμετροι!$D$4:$E$19,2) -> 0 | T100: =VLOOKUP(G100,Παράμετροι!$D$4:$E$19,2) -> 0 | U100: =VLOOKUP(H100,Παράμετροι!$G$4:$H$7,2) -> 0 | V100: =VLOOKUP(I100,Παράμετροι!$G$4:$H$7,2) -> 0 | W100: =VLOOKUP(J100,Παράμετροι!$J$4:$K$7,2) -> 0 | X100: =VLOOKUP(K100,Παράμετροι!$M$4:$N$14,2) -> 0 | Y100: =VLOOKUP(L100,Παράμετροι!$M$4:$N$14,2) -> 0 | Z100: =VLOOKUP(M100,Παράμετροι!$P$4:$Q$1004,2) -> 305.4 | AA100: =VLOOKUP(N100,Παράμετροι!$S$4:$T$124,2) -> 0 | AB100: =VLOOKUP(O100,Παράμετροι!$V$4:$W$124,2) -> 0 | AC100: =VLOOKUP(P100,Παράμετροι!$Y$4:$Z$55,2) -> 0 | AD100: =VLOOKUP(Q100,Παράμετροι!$AB$4:$AC$55,2) -> 0 | AE100: =SUM(R100:AD100) -> 305.4
A101: 88 | B101: 16680 | C101: ΠΑΠΑΧΑΡΑΛΑΜΠΟΥΣ | D101: ΒΑΣΙΛΙΚΗ | M101: 15.23 | R101: =VLOOKUP(E101,Παράμετροι!$A$4:$B$10,2) -> 0 | S101: =VLOOKUP(F101,Παράμετροι!$D$4:$E$19,2) -> 0 | T101: =VLOOKUP(G101,Παράμετροι!$D$4:$E$19,2) -> 0 | U101: =VLOOKUP(H101,Παράμετροι!$G$4:$H$7,2) -> 0 | V101: =VLOOKUP(I101,Παράμετροι!$G$4:$H$7,2) -> 0 | W101: =VLOOKUP(J101,Παράμετροι!$J$4:$K$7,2) -> 0 | X101: =VLOOKUP(K101,Παράμετροι!$M$4:$N$14,2) -> 0 | Y101: =VLOOKUP(L101,Παράμετροι!$M$4:$N$14,2) -> 0 | Z101: =VLOOKUP(M101,Παράμετροι!$P$4:$Q$1004,2) -> 304.6 | AA101: =VLOOKUP(N101,Παράμετροι!$S$4:$T$124,2) -> 0 | AB101: =VLOOKUP(O101,Παράμετροι!$V$4:$W$124,2) -> 0 | AC101: =VLOOKUP(P101,Παράμετροι!$Y$4:$Z$55,2) -> 0 | AD101: =VLOOKUP(Q101,Παράμετροι!$AB$4:$AC$55,2) -> 0 | AE101: =SUM(R101:AD101) -> 304.6
A102: 89 | B102: 17790 | C102: ΠΙΠΕΡΙΔΗΣ | D102: ΔΗΜΗΤΡΙΟΣ | M102: 14.77 | R102: =VLOOKUP(E102,Παράμετροι!$A$4:$B$10,2) -> 0 | S102: =VLOOKUP(F102,Παράμετροι!$D$4:$E$19,2) -> 0 | T102: =VLOOKUP(G102,Παράμετροι!$D$4:$E$19,2) -> 0 | U102: =VLOOKUP(H102,Παράμετροι!$G$4:$H$7,2) -> 0 | V102: =VLOOKUP(I102,Παράμετροι!$G$4:$H$7,2) -> 0 | W102: =VLOOKUP(J102,Παράμετροι!$J$4:$K$7,2) -> 0 | X102: =VLOOKUP(K102,Παράμετροι!$M$4:$N$14,2) -> 0 | Y102: =VLOOKUP(L102,Παράμετροι!$M$4:$N$14,2) -> 0 | Z102: =VLOOKUP(M102,Παράμετροι!$P$4:$Q$1004,2) -> 295.4 | AA102: =VLOOKUP(N102,Παράμετροι!$S$4:$T$124,2) -> 0 | AB102: =VLOOKUP(O102,Παράμετροι!$V$4:$W$124,2) -> 0 | AC102: =VLOOKUP(P102,Παράμετροι!$Y$4:$Z$55,2) -> 0 | AD102: =VLOOKUP(Q102,Παράμετροι!$AB$4:$AC$55,2) -> 0 | AE102: =SUM(R102:AD102) -> 295.4
...

Sheet Παράμετροι
A1: 1. ΧΡΟΝΟΣ ΑΝΕΡΓΙΑΣ (200 μονάδες για 4 μήνες ανεργίας και 50 μονάδες ανά μήνα ανεργίας άνω των 4 μηνών, με ανώτατο όριο τους 6 μήνες) | D1: 2 ή 3. ΠΟΛΥΤΕΚΝΟΣ Ή ΤΕΚΝΟ ΠΟΛΥΤΕΚΝΗΣ ΟΙΚΟΓΕΝΕΙΑΣ (50 μονάδες για κάθε τέκνο) | G1: 4 ή 5. ΤΡΙΤΕΚΝΟΣ Ή ΤΕΚΝΟ ΤΡΙΤΕΚΝΗΣ ΟΙΚΟΓΕΝΕΙΑΣ (40 μονάδες για κάθε τέκνο) | J1: 6. ΑΝΗΛΙΚΑ ΤΕΚΝΑ (30 μονάδες για καθένα από τα δύο πρώτα τέκνα και 50 μονάδες για το τρίτο) | M1: 7 ή 8. ΓΟΝΕΑΣ Ή ΤΕΚΝΟ ΜΟΝΟΓΟΝΕΪΚΗΣ ΟΙΚΟΓΕΝΕΙΑΣ (50 μονάδες για κάθε τέκνο) | P1: 9. ΒΑΘΜΟΣ ΒΑΣΙΚΟΥ ΤΙΤΛΟΥ (οι μονάδες του βασικού τίτλου σπουδών με 2 δεκαδικά ψηφία για τη ΔΕ πολλαπλασιάζονται με το 20) | S1: 10α. ΕΜΠΕΙΡΙΑ ΚΤΗΘΕΙΣΑ σε κτίρια ή Υπηρεσίες του ΔΗΜΟΣΙΟΥ ΤΟΜΕΑ (8 μονάδες ανά μήνα και έως 120 μήνες) | V1: 10β. ΕΜΠΕΙΡΙΑ ΚΤΗΘΕΙΣΑ ΣΤΟΝ ΙΔΙΩΤΙΚΟ ΤΟΜΕΑ (7 μονάδες ανά μήνα και έως 12 μήνες) | Y1: 11. ΑΝΑΠΗΡΙΑ ΥΠΟΨΗΦΙΟΥ ΜΕ ΠΟΣΟΣΤΟ ΤΟΥΛΑΧΙΣΤΟΝ 50% (το ποσοστό αναπηρίας πολ/ζεται με το συντελεστη "3") | AB1: 12. ΑΝΑΠΗΡΙΑ ΓΟΝΕΑ, ΤΕΚΝΟΥ, ΑΔΕΛΦΟΥ Ή ΣΥΖΥΓΟΥ (το ποσοστό αναπηρίας πολ/ζεται με το συντελεστή "2")
A3: μήνες | B3: μονάδες | D3: αριθμός τεκνών | E3: μονάδες | G3: αριθμός τέκνων | H3: μονάδες | J3: αριθμός τέκνων | K3: μονάδες | M3: αριθμός τέκνων | N3: μονάδες | P3: κατηγορία ΔΕ | Q3: μονάδες | S3: μήνες εμπειρίας | T3: μονάδες | V3: μήνες εμπειρίας | W3: μονάδες | Y3: ποσοστό αναπηρίας | Z3: μονάδες | AB3: ποσοστό αναπηρίας | AC3: μονάδες
A4: 0 | B4: 0 | D4: 0 | E4: 0 | G4: 0 | H4: 0 | J4: 0 | K4: 0 | M4: 0 | N4: 0 | P4: 10 | Q4: 200 | S4: 0 | T4: 0 | V4: 0 | W4: 0 | Y4: 0 | Z4: 0 | AB4: 0 | AC4: 0
A5: 1 | B5: 0 | D5: 1 | E5: 0 | G5: 1 | H5: 40 | J5: 1 | K5: 30 | M5: 1 | N5: 50 | P5: 10.01 | Q5: 200.2 | S5: 1 | T5: 8 | V5: 1 | W5: 7 | Y5: 50 | Z5: 150 | AB5: 50 | AC5: 100
A6: 2 | B6: 0 | D6: 2 | E6: 0 | G6: 2 | H6: 80 | J6: 2 | K6: 60 | M6: 2 | N6: 100 | P6: 10.02 | Q6: 200.4 | S6: 2 | T6: 16 | V6: 2 | W6: 14 | Y6: 51 | Z6: 153 | AB6: 51 | AC6: 102
A7: 3 | B7: 0 | D7: 3 | E7: 150 | G7: 3 | H7: 120 | J7: 3 | K7: 110 | M7: 3 | N7: 150 | P7: 10.03 | Q7: 200.6 | S7: 3 | T7: 24 | V7: 3 | W7: 21 | Y7: 52 | Z7: 156 | AB7: 52 | AC7: 104
A8: 4 | B8: 200 | D8: 4 | E8: 200 | M8: 4 | N8: 200 | P8: 10.04 | Q8: 200.8 | S8: 4 | T8: 32 | V8: 4 | W8: 28 | Y8: 53 | Z8: 159 | AB8: 53 | AC8: 106
A9: 5 | B9: 250 | D9: 5 | E9: 250 | M9: 5 | N9: 250 | P9: 10.05 | Q9: 201 | S9: 5 | T9: 40 | V9: 5 | W9: 35 | Y9: 54 | Z9: 162 | AB9: 54 | AC9: 108
A10: 6 | B10: 300 | D10: 6 | E10: 300 | M10: 6 | N10: 300 | P10: 10.06 | Q10: 201.2 | S10: 6 | T10: 48 | V10: 6 | W10: 42 | Y10: 55 | Z10: 165 | AB10: 55 | AC10: 110
D11: 7 | E11: 350 | M11: 7 | N11: 350 | P11: 10.07 | Q11: 201.4 | S11: 7 | T11: 56 | V11: 7 | W11: 49 | Y11: 56 | Z11: 168 | AB11: 56 | AC11: 112
D12: 8 | E12: 400 | M12: 8 | N12: 400 | P12: 10.08 | Q12: 201.6 | S12: 8 | T12: 64 | V12: 8 | W12: 56 | Y12: 57 | Z12: 171 | AB12: 57 | AC12: 114
D13: 9 | E13: 450 | M13: 9 | N13: 450 | P13: 10.09 | Q13: 201.8 | S13: 9 | T13: 72 | V13: 9 | W13: 63 | Y13: 58 | Z13: 174 | AB13: 58 | AC13: 116
D14: 10 | E14: 500 | M14: 10 | N14: 500 | P14: 10.1 | Q14: 202 | S14: 10 | T14: 80 | V14: 10 | W14: 70 | Y14: 59 | Z14: 177 | AB14: 59 | AC14: 118
D15: 11 | E15: 550 | P15: 10.11 | Q15: 202.2 | S15: 11 | T15: 88 | V15: 11 | W15: 77 | Y15: 60 | Z15: 180 | AB15: 60 | AC15: 120
D16: 12 | E16: 600 | P16: 10.12 | Q16: 202.4 | S16: 12 | T16: 96 | V16: 12 | W16: 84 | Y16: 61 | Z16: 183 | AB16: 61 | AC16: 122
D17: 13 | E17: 650 | P17: 10.13 | Q17: 202.6 | S17: 13 | T17: 104 | V17: 13 | W17: 91 | Y17: 62 | Z17: 186 | AB17: 62 | AC17: 124
D18: 14 | E18: 700 | P18: 10.14 | Q18: 202.8 | S18: 14 | T18: 112 | V18: 14 | W18: 98 | Y18: 63 | Z18: 189 | AB18: 63 | AC18: 126
D19: 15 | E19: 750 | P19: 10.15 | Q19: 203 | S19: 15 | T19: 120 | V19: 15 | W19: 105 | Y19: 64 | Z19: 192 | AB19: 64 | AC19: 128
P20: 10.16 | Q20: 203.2 | S20: 16 | T20: 128 | V20: 16 | W20: 112 | Y20: 65 | Z20: 195 | AB20: 65 | AC20: 130
P21: 10.17 | Q21: 203.4 | S21: 17 | T21: 136 | V21: 17 | W21: 119 | Y21: 66 | Z21: 198 | AB21: 66 | AC21: 132
P22: 10.18 | Q22: 203.6 | S22: 18 | T22: 144 | V22: 18 | W22: 126 | Y22: 67 | Z22: 201 | AB22: 67 | AC22: 134
P23: 10.19 | Q23: 203.8 | S23: 19 | T23: 152 | V23: 19 | W23: 133 | Y23: 68 | Z23: 204 | AB23: 68 | AC23: 136
P24: 10.2 | Q24: 204 | S24: 20 | T24: 160 | V24: 20 | W24: 140 | Y24: 69 | Z24: 207 | AB24: 69 | AC24: 138
P25: 10.21 | Q25: 204.2 | S25: 21 | T25: 168 | V25: 21 | W25: 147 | Y25: 70 | Z25: 210 | AB25: 70 | AC25: 140
P26: 10.22 | Q26: 204.4 | S26: 22 | T26: 176 | V26: 22 | W26: 154 | Y26: 71 | Z26: 213 | AB26: 71 | AC26: 142
P27: 10.23 | Q27: 204.6 | S27: 23 | T27: 184 | V27: 23 | W27: 161 | Y27: 72 | Z27: 216 | AB27: 72 | AC27: 144
P28: 10.24 | Q28: 204.8 | S28: 24 | T28: 192 | V28: 24 | W28: 168 | Y28: 73 | Z28: 219 | AB28: 73 | AC28: 146
P29: 10.25 | Q29: 205 | S29: 25 | T29: 200 | V29: 25 | W29: 175 | Y29: 74 | Z29: 222 | AB29: 74 | AC29: 148
P30: 10.26 | Q30: 205.2 | S30: 26 | T30: 208 | V30: 26 | W30: 182 | Y30: 75 | Z30: 225 | AB30: 75 | AC30: 150
P31: 10.27 | Q31: 205.4 | S31: 27 | T31: 216 | V31: 27 | W31: 189 | Y31: 76 | Z31: 228 | AB31: 76 | AC31: 152
... P55: 10.51 | Q55: 210.2 | S55: 51 | T55: 408 | V55: 51 | W55: 357 | Y55: 100 | Z55: 300 | AB55: 100 | AC55: 200
P56: 10.52 | Q56: 210.4 | S56: 52 | T56: 416 | V56: 52 | W56: 364
P57: 10.53 | Q57: 210.6 | S57: 53 | T57: 424 | V57: 53 | W57: 371
P58: 10.54 | Q58: 210.8 | S58: 54 | T58: 432 | V58: 54 | W58: 378
P59: 10.55 | Q59: 211 | S59: 55 | T59: 440 | V59: 55 | W59: 385
P60: 10.56 | Q60: 211.2 | S60: 56 | T60: 448 | V60: 56 | W60: 392
P61: 10.57 | Q61: 211.4 | S61: 57 | T61: 456 | V61: 57 | W61: 399
P62: 10.58 | Q62: 211.6 | S62: 58 | T62: 464 | V62: 58 | W62: 406
P63: 10.59 | Q63: 211.8 | S63: 59 | T63: 472 | V63: 59 | W63: 413
P64: 10.6 | Q64: 212 | S64: 60 | T64: 480 | V64: 60 | W64: 420
P65: 10.61 | Q65: 212.2 | S65: 61 | T65: 488 | V65: 61 | W65: 427
P66: 10.62 | Q66: 212.4 | S66: 62 | T66: 496 | V66: 62 | W66: 434
P67: 10.63 | Q67: 212.6 | S67: 63 | T67: 504 | V67: 63 | W67: 441
... P124: 11.2 | Q124: 224 | S124: 120 | T124: 960 | V124: 120 | W124: 840
P125: 11.21 | Q125: 224.2
P126: 11.22 | Q126: 224.4
P127: 11.23 | Q127: 224.6
P128: 11.24 | Q128: 224.8
P129: 11.25 | Q129: 225
P130: 11.26 | Q130: 225.2
P131: 11.27 | Q131: 225.4
P132: 11.28 | Q132: 225.6
P133: 11.29 | Q133: 225.8
P134: 11.3 | Q134: 226
P135: 11.31 | Q135: 226.2
P136: 11.32 | Q136: 226.4
... P1004: 20 | Q1004: 400
