Workbook

Sheet ΔΕ
A1: ΠΙΝΑΚΑΣ ΚΑΤΑΤΑΞΗΣ 110 - ΔΕ ΠΡΟΣΩΠΙΚΟ ΑΣΦΑΛΕΙΑΣ
E2: (1) | F2: (2) | G2: (3) | H2: (4) | I2: (5) | J2: (6) | K2: (7) | L2: (8) | M2: (9) | N2: (10α) | O2: (10β) | P2: (11) | Q2: (12)
A3: A/A | B3: ΑΡ.ΠΡΩΤ. | C3: ΕΠΩΝΥΜΟ | D3: ΟΝΟΜΑ | E3: ΧΡΟΝΟΣ ΑΝΕΡΓΙΑΣ (σε μήνες) | F3: ΠΟΛΥΤΕΚΝΟΣ (αριθμ. τέκνων) | G3: ΤΕΚΝΟ ΠΟΛΥΤΕΚΝΗΣ ΟΙΚΟΓΕΝΕΙΑΣ (αρ. τέκνων) | H3: ΤΡΙΤΕΚΝΟΣΣ (αριθμ. Τεκνων) | I3: ΤΕΚΝΟ ΤΡΙΤΕΚΝΗΣ (αριθμ. Τέκνων) | J3: ΑΝΗΛΙΚΑ ΤΕΚΝΑ (αριθμ. ανήλικων τέκνων) | K3: ΓΟΝΕΑΣ ΜΟΝΟΓΟΝΕΙΚΗΣ ΟΙΚΟΓΕΝΕΙΑΣ (αριθμ. τέκνων) | L3: ΤΕΚΝΟ ΜΟΝΟΓΟΝΕΙΚΗΣ ΟΙΚΟΓΕΝΕΙΑΣ (αρ. τέκνων) | M3: ΤΙΛΟΣ ΣΠΟΥΔΩΝ (για ΔΕ κατηγορία) | N3: ΕΜΠΕΙΡΙΑ ΣΤΟ ΔΗΜΟΣΙΟ (μήνες) | O3: ΕΜΠΕΙΡΙΑ ΣΤΟΝ ΙΔΙΩΤΙΚΟ (μήνες) | P3: ΑΝΑΠΗΡΙΑ ΥΠΟΨΗΦΙΟΥ (ποσοστό) | Q3: ΑΝΑΠΗΡΙΑ ΓΟΝΕΑ, ΤΕΚΝΟΥ, ΑΔΕΛΦΟΥ ΣΥΖΥΓΟΥ (ποσοστό) | R3: ΜΟΝΑΔΕΣ (1) | S3: ΜΟΝΑΔΕΣ (2) | T3: ΜΟΝΑΔΕΣ (3) | U3: ΜΟΝΑΔΕΣ (4) | V3: ΜΟΝΑΔΕΣ (5) | W3: ΜΟΝΑΔΕΣ (6) | X3: ΜΟΝΑΔΕΣ (7) | Y3: ΜΟΝΑΔΕΣ (8) | Z3: ΜΟΝΑΔΕΣ (9) | AA3: ΜΟΝΑΔΕΣ (10α) | AB3: ΜΟΝΑΔΕΣ (10β) | AC3: ΜΟΝΑΔΕΣ (11) | AD3: ΜΟΝΑΔΕΣ (12) | AE3: ΣΥΝΟΛΟ ΜΟΝΑΔΩΝ
A4: ΚΩΔ.ΘΕΣΗΣ 110 - ΚΥΡΙΑ ΠΡΟΣΟΝΤΑ
A5: 1 | B5: 18899 | C5: ΜΠΑΣΤΑΣ | D5: ΔΙΟΝΥΣΙΟΣ | J5: 1 | M5: 18 | O5: 46 | R5: =VLOOKUP(E5,Παράμετροι!$A$4:$B$10,2) -> 0 | S5: =VLOOKUP(F5,Παράμετροι!$D$4:$E$19,2) -> 0 | T5: =VLOOKUP(G5,Παράμετροι!$D$4:$E$19,2) -> 0 | U5: =VLOOKUP(H5,Παράμετροι!$G$4:$H$7,2) -> 0 | V5: =VLOOKUP(I5,Παράμετροι!$G$4:$H$7,2) -> 0 | W5: =VLOOKUP(J5,Παράμετροι!$J$4:$K$7,2) -> 30 | X5: =VLOOKUP(K5,Παράμετροι!$M$4:$N$14,2) -> 0 | Y5: =VLOOKUP(L5,Παράμετροι!$M$4:$N$14,2) -> 0 | Z5: =VLOOKUP(M5,Παράμετροι!$P$4:$Q$1004,2) -> 360 | AA5: =VLOOKUP(N5,Παράμετροι!$S$4:$T$124,2) -> 0 | AB5: =VLOOKUP(O5,Παράμετροι!$V$4:$W$124,2) -> 322 | AC5: =VLOOKUP(P5,Παράμετροι!$Y$4:$Z$55,2) -> 0 | AD5: =VLOOKUP(Q5,Παράμετροι!$AB$4:$AC$55,2) -> 0 | AE5: =SUM(R5:AD5) -> 712
A6: 2 | B6: 17111 | C6: ΣΑΜΑΛΕΤΗΣ | D6: ΔΗΜΗΤΡΙΟΣ-ΜΑΡΙΟΣ | M6: 19 | N6: 20 | R6: =VLOOKUP(E6,Παράμετροι!$A$4:$B$10,2) -> 0 | S6: =VLOOKUP(F6,Παράμετροι!$D$4:$E$19,2) -> 0 | T6: =VLOOKUP(G6,Παράμετροι!$D$4:$E$19,2) -> 0 | U6: =VLOOKUP(H6,Παράμετροι!$G$4:$H$7,2) -> 0 | V6: =VLOOKUP(I6,Παράμετροι!$G$4:$H$7,2) -> 0 | W6: =VLOOKUP(J6,Παράμετροι!$J$4:$K$7,2) -> 0 | X6: =VLOOKUP(K6,Παράμετροι!$M$4:$N$14,2) -> 0 | Y6: =VLOOKUP(L6,Παράμετροι!$M$4:$N$14,2) -> 0 | Z6: =VLOOKUP(M6,Παράμετροι!$P$4:$Q$1004,2) -> 380 | AA6: =VLOOKUP(N6,Παράμετροι!$S$4:$T$124,2) -> 160 | AB6: =VLOOKUP(O6,Παράμετροι!$V$4:$W$124,2) -> 0 | AC6: =VLOOKUP(P6,Παράμετροι!$Y$4:$Z$55,2) -> 0 | AD6: =VLOOKUP(Q6,Παράμετροι!$AB$4:$AC$55,2) -> 0 | AE6: =SUM(R6:AD6) -> 540
A7: 3 | B7: 17137 | C7: ΧΟΥΣΕΪΝ | D7: ΡΑΓΚΑΜΠ | M7: 14 | N7: 18 | R7: =VLOOKUP(E7,Παράμετροι!$A$4:$B$10,2) -> 0 | S7: =VLOOKUP(F7,Παράμετροι!$D$4:$E$19,2) -> 0 | T7: =VLOOKUP(G7,Παράμετροι!$D$4:$E$19,2) -> 0 | U7: =VLOOKUP(H7,Παράμετροι!$G$4:$H$7,2) -> 0 | V7: =VLOOKUP(I7,Παράμετροι!$G$4:$H$7,2) -> 0 | W7: =VLOOKUP(J7,Παράμετροι!$J$4:$K$7,2) -> 0 | X7: =VLOOKUP(K7,Παράμετροι!$M$4:$N$14,2) -> 0 | Y7: =VLOOKUP(L7,Παράμετροι!$M$4:$N$14,2) -> 0 | Z7: =VLOOKUP(M7,Παράμετροι!$P$4:$Q$1004,2) -> 280 | AA7: =VLOOKUP(N7,Παράμετροι!$S$4:$T$124,2) -> 144 | AB7: =VLOOKUP(O7,Παράμετροι!$V$4:$W$124,2) -> 0 | AC7: =VLOOKUP(P7,Παράμετροι!$Y$4:$Z$55,2) -> 0 | AD7: =VLOOKUP(Q7,Παράμετροι!$AB$4:$AC$55,2) -> 0 | AE7: =SUM(R7:AD7) -> 424
A8: 4 | B8: 18847 | C8: ΚΟΛΟΒΟΣ | D8: ΑΘΑΝΑΣΙΟΣ | M8: 11 | N8: 10 | O8: 14 | R8: =VLOOKUP(E8,Παράμετροι!$A$4:$B$10,2) -> 0 | S8: =VLOOKUP(F8,Παράμετροι!$D$4:$E$19,2) -> 0 | T8: =VLOOKUP(G8,Παράμετροι!$D$4:$E$19,2) -> 0 | U8: =VLOOKUP(H8,Παράμετροι!$G$4:$H$7,2) -> 0 | V8: =VLOOKUP(I8,Παράμετροι!$G$4:$H$7,2) -> 0 | W8: =VLOOKUP(J8,Παράμετροι!$J$4:$K$7,2) -> 0 | X8: =VLOOKUP(K8,Παράμετροι!$M$4:$N$14,2) -> 0 | Y8: =VLOOKUP(L8,Παράμετροι!$M$4:$N$14,2) -> 0 | Z8: =VLOOKUP(M8,Παράμετροι!$P$4:$Q$1004,2) -> 220 | AA8: =VLOOKUP(N8,Παράμετροι!$S$4:$T$124,2) -> 80 | AB8: =VLOOKUP(O8,Παράμετροι!$V$4:$W$124,2) -> 98 | AC8: =VLOOKUP(P8,Παράμετροι!$Y$4:$Z$55,2) -> 0 | AD8: =VLOOKUP(Q8,Παράμετροι!$AB$4:$AC$55,2) -> 0 | AE8: =SUM(R8:AD8) -> 398
A9: 5 | B9: 17486 | C9: ΣΤΕΛΛΑΤΟΣ | D9: ΓΕΡΑΣΙΜΟΣ | E9: 2 | M9: 12 | R9: =VLOOKUP(E9,Παράμετροι!$A$4:$B$10,2) -> 0 | S9: =VLOOKUP(F9,Παράμετροι!$D$4:$E$19,2) -> 0 | T9: =VLOOKUP(G9,Παράμετροι!$D$4:$E$19,2) -> 0 | U9: =VLOOKUP(H9,Παράμετροι!$G$4:$H$7,2) -> 0 | V9: =VLOOKUP(I9,Παράμετροι!$G$4:$H$7,2) -> 0 | W9: =VLOOKUP(J9,Παράμετροι!$J$4:$K$7,2) -> 0 | X9: =VLOOKUP(K9,Παράμετροι!$M$4:$N$14,2) -> 0 | Y9: =VLOOKUP(L9,Παράμετροι!$M$4:$N$14,2) -> 0 | Z9: =VLOOKUP(M9,Παράμετροι!$P$4:$Q$1004,2) -> 240 | AA9: =VLOOKUP(N9,Παράμετροι!$S$4:$T$124,2) -> 0 | AB9: =VLOOKUP(O9,Παράμετροι!$V$4:$W$124,2) -> 0 | AC9: =VLOOKUP(P9,Παράμετροι!$Y$4:$Z$55,2) -> 0 | AD9: =VLOOKUP(Q9,Παράμετροι!$AB$4:$AC$55,2) -> 0 | AE9: =SUM(R9:AD9) -> 240
A10: 6 | B10: 17282 | C10: ΚΟΡΟΜΠΙΛΗΣ | D10: ΚΩΝ/ΝΟΣ-ΠΑΝΑΓΙΩΤΗΣ | M10: 11 | R10: =VLOOKUP(E10,Παράμετροι!$A$4:$B$10,2) -> 0 | S10: =VLOOKUP(F10,Παράμετροι!$D$4:$E$19,2) -> 0 | T10: =VLOOKUP(G10,Παράμετροι!$D$4:$E$19,2) -> 0 | U10: =VLOOKUP(H10,Παράμετροι!$G$4:$H$7,2) -> 0 | V10: =VLOOKUP(I10,Παράμετροι!$G$4:$H$7,2) -> 0 | W10: =VLOOKUP(J10,Παράμετροι!$J$4:$K$7,2) -> 0 | X10: =VLOOKUP(K10,Παράμετροι!$M$4:$N$14,2) -> 0 | Y10: =VLOOKUP(L10,Παράμετροι!$M$4:$N$14,2) -> 0 | Z10: =VLOOKUP(M10,Παράμετροι!$P$4:$Q$1004,2) -> 220 | AA10: =VLOOKUP(N10,Παράμετροι!$S$4:$T$124,2) -> 0 | AB10: =VLOOKUP(O10,Παράμετροι!$V$4:$W$124,2) -> 0 | AC10: =VLOOKUP(P10,Παράμετροι!$Y$4:$Z$55,2) -> 0 | AD10: =VLOOKUP(Q10,Παράμετροι!$AB$4:$AC$55,2) -> 0 | AE10: =SUM(R10:AD10) -> 220
A13: ΚΩΔ.ΘΕΣΗΣ 110 - ΠΡΟΣΟΝΤΑ Α ΈΠΙΚΟΥΡΙΑΣ
A14: 1 | B14: 15191 | C14: ΚΟΤΣΩΝΗΣ | D14: ΕΥΑΓΓΕΛΟΣ | E14: 7 | M14: 18.58 | N14: 50 | O14: 68 | R14: =VLOOKUP(E14,Παράμετροι!$A$4:$B$10,2) -> 300 | S14: =VLOOKUP(F14,Παράμετροι!$D$4:$E$19,2) -> 0 | T14: =VLOOKUP(G14,Παράμετροι!$D$4:$E$19,2) -> 0 | U14: =VLOOKUP(H14,Παράμετροι!$G$4:$H$7,2) -> 0 | V14: =VLOOKUP(I14,Παράμετροι!$G$4:$H$7,2) -> 0 | W14: =VLOOKUP(J14,Παράμετροι!$J$4:$K$7,2) -> 0 | X14: =VLOOKUP(K14,Παράμετροι!$M$4:$N$14,2) -> 0 | Y14: =VLOOKUP(L14,Παράμετροι!$M$4:$N$14,2) -> 0 | Z14: =VLOOKUP(M14,Παράμετροι!$P$4:$Q$1004,2) -> 371.6 | AA14: =VLOOKUP(N14,Παράμετροι!$S$4:$T$124,2) -> 400 | AB14: =VLOOKUP(O14,Παράμετροι!$V$4:$W$124,2) -> 476 | AC14: =VLOOKUP(P14,Παράμετροι!$Y$4:$Z$55,2) -> 0 | AD14: =VLOOKUP(Q14,Παράμετροι!$AB$4:$AC$55,2) -> 0 | AE14: =SUM(R14:AD14) -> 1547.6
A15: 2 | B15: 18860 | C15: ΜΑΝΤΟΥΒΑΛΟΣ | D15: ΓΕΩΡΓΙΟΣ | E15: 4 | M15: 14 | N15: 26 | O15: 120 | R15: =VLOOKUP(E15,Παράμετροι!$A$4:$B$10,2) -> 200 | S15: =VLOOKUP(F15,Παράμετροι!$D$4:$E$19,2) -> 0 | T15: =VLOOKUP(G15,Παράμετροι!$D$4:$E$19,2) -> 0 | U15: =VLOOKUP(H15,Παράμετροι!$G$4:$H$7,2) -> 0 | V15: =VLOOKUP(I15,Παράμετροι!$G$4:$H$7,2) -> 0 | W15: =VLOOKUP(J15,Παράμετροι!$J$4:$K$7,2) -> 0 | X15: =VLOOKUP(K15,Παράμετροι!$M$4:$N$14,2) -> 0 | Y15: =VLOOKUP(L15,Παράμετροι!$M$4:$N$14,2) -> 0 | Z15: =VLOOKUP(M15,Παράμετροι!$P$4:$Q$1004,2) -> 280 | AA15: =VLOOKUP(N15,Παράμετροι!$S$4:$T$124,2) -> 208 | AB15: =VLOOKUP(O15,Παράμετροι!$V$4:$W$124,2) -> 840 | AC15: =VLOOKUP(P15,Παράμετροι!$Y$4:$Z$55,2) -> 0 | AD15: =VLOOKUP(Q15,Παράμετροι!$AB$4:$AC$55,2) -> 0 | AE15: =SUM(R15:AD15) -> 1528
A16: 3 | B16: 16469 | C16: ΤΣΑΤΣΑΡΟΥΝΟΣ | D16: ΙΩΑΝΝΗΣ | J16: 1 | M16: 15 | N16: 14 | O16: 120 | R16: =VLOOKUP(E16,Παράμετροι!$A$4:$B$10,2) -> 0 | S16: =VLOOKUP(F16,Παράμετροι!$D$4:$E$19,2) -> 0 | T16: =VLOOKUP(G16,Παράμετροι!$D$4:$E$19,2) -> 0 | U16: =VLOOKUP(H16,Παράμετροι!$G$4:$H$7,2) -> 0 | V16: =VLOOKUP(I16,Παράμετροι!$G$4:$H$7,2) -> 0 | W16: =VLOOKUP(J16,Παράμετροι!$J$4:$K$7,2) -> 30 | X16: =VLOOKUP(K16,Παράμετροι!$M$4:$N$14,2) -> 0 | Y16: =VLOOKUP(L16,Παράμετροι!$M$4:$N$14,2) -> 0 | Z16: =VLOOKUP(M16,Παράμετροι!$P$4:$Q$1004,2) -> 300 | AA16: =VLOOKUP(N16,Παράμετροι!$S$4:$T$124,2) -> 112 | AB16: =VLOOKUP(O16,Παράμετροι!$V$4:$W$124,2) -> 840 | AC16: =VLOOKUP(P16,Παράμετροι!$Y$4:$Z$55,2) -> 0 | AD16: =VLOOKUP(Q16,Παράμετροι!$AB$4:$AC$55,2) -> 0 | AE16: =SUM(R16:AD16) -> 1282
A17: 4 | B17: 17751 | C17: ΤΡΙΑΝΤΑΦΥΛΛΟΥ | D17: ΠΑΝΤΕΛΗΣ | M17: 16.72 | N17: 13 | O17: 120 | R17: =VLOOKUP(E17,Παράμετροι!$A$4:$B$10,2) -> 0 | S17: =VLOOKUP(F17,Παράμετροι!$D$4:$E$19,2) -> 0 | T17: =VLOOKUP(G17,Παράμετροι!$D$4:$E$19,2) -> 0 | U17: =VLOOKUP(H17,Παράμετροι!$G$4:$H$7,2) -> 0 | V17: =VLOOKUP(I17,Παράμετροι!$G$4:$H$7,2) -> 0 | W17: =VLOOKUP(J17,Παράμετροι!$J$4:$K$7,2) -> 0 | X17: =VLOOKUP(K17,Παράμετροι!$M$4:$N$14,2) -> 0 | Y17: =VLOOKUP(L17,Παράμετροι!$M$4:$N$14,2) -> 0 | Z17: =VLOOKUP(M17,Παράμετροι!$P$4:$Q$1004,2) -> 334.4 | AA17: =VLOOKUP(N17,Παράμετροι!$S$4:$T$124,2) -> 104 | AB17: =VLOOKUP(O17,Παράμετροι!$V$4:$W$124,2) -> 840 | AC17: =VLOOKUP(P17,Παράμετροι!$Y$4:$Z$55,2) -> 0 | AD17: =VLOOKUP(Q17,Παράμετροι!$AB$4:$AC$55,2) -> 0 | AE17: =SUM(R17:AD17) -> 1278.4
A18: 5 | B18: 17381 | C18: ΛΟΥΚΑΣ | D18: ΘΕΟΔΩΡΟΣ | M18: 12.16 | N18: 24 | O18: 120 | R18: =VLOOKUP(E18,Παράμετροι!$A$4:$B$10,2) -> 0 | S18: =VLOOKUP(F18,Παράμετροι!$D$4:$E$19,2) -> 0 | T18: =VLOOKUP(G18,Παράμετροι!$D$4:$E$19,2) -> 0 | U18: =VLOOKUP(H18,Παράμετροι!$G$4:$H$7,2) -> 0 | V18: =VLOOKUP(I18,Παράμετροι!$G$4:$H$7,2) -> 0 | W18: =VLOOKUP(J18,Παράμετροι!$J$4:$K$7,2) -> 0 | X18: =VLOOKUP(K18,Παράμετροι!$M$4:$N$14,2) -> 0 | Y18: =VLOOKUP(L18,Παράμετροι!$M$4:$N$14,2) -> 0 | Z18: =VLOOKUP(M18,Παράμετροι!$P$4:$Q$1004,2) -> 243.2 | AA18: =VLOOKUP(N18,Παράμετροι!$S$4:$T$124,2) -> 192 | AB18: =VLOOKUP(O18,Παράμετροι!$V$4:$W$124,2) -> 840 | AC18: =VLOOKUP(P18,Παράμετροι!$Y$4:$Z$55,2) -> 0 | AD18: =VLOOKUP(Q18,Παράμετροι!$AB$4:$AC$55,2) -> 0 | AE18: =SUM(R18:AD18) -> 1275.2
A19: 6 | B19: 16971 | C19: ΠΕΤΡΟΠΟΥΛΟΣ | D19: ΔΗΜΗΤΡΙΟΣ | M19: 15.09 | N19: 120 | R19: =VLOOKUP(E19,Παράμετροι!$A$4:$B$10,2) -> 0 | S19: =VLOOKUP(F19,Παράμετροι!$D$4:$E$19,2) -> 0 | T19: =VLOOKUP(G19,Παράμετροι!$D$4:$E$19,2) -> 0 | U19: =VLOOKUP(H19,Παράμετροι!$G$4:$H$7,2) -> 0 | V19: =VLOOKUP(I19,Παράμετροι!$G$4:$H$7,2) -> 0 | W19: =VLOOKUP(J19,Παράμετροι!$J$4:$K$7,2) -> 0 | X19: =VLOOKUP(K19,Παράμετροι!$M$4:$N$14,2) -> 0 | Y19: =VLOOKUP(L19,Παράμετροι!$M$4:$N$14,2) -> 0 | Z19: =VLOOKUP(M19,Παράμετροι!$P$4:$Q$1004,2) -> 301.8 | AA19: =VLOOKUP(N19,Παράμετροι!$S$4:$T$124,2) -> 960 | AB19: =VLOOKUP(O19,Παράμετροι!$V$4:$W$124,2) -> 0 | AC19: =VLOOKUP(P19,Παράμετροι!$Y$4:$Z$55,2) -> 0 | AD19: =VLOOKUP(Q19,Παράμετροι!$AB$4:$AC$55,2) -> 0 | AE19: =SUM(R19:AD19) -> 1261.8
A20: 7 | B20: 16894 | C20: ΣΑΡΡΗ | D20: ΕΥΑΓΓΕΛΙΑ | G20: 4 | J20: 2 | M20: 13.7 | N20: 24 | O20: 76 | R20: =VLOOKUP(E20,Παράμετροι!$A$4:$B$10,2) -> 0 | S20: =VLOOKUP(F20,Παράμετροι!$D$4:$E$19,2) -> 0 | T20: =VLOOKUP(G20,Παράμετροι!$D$4:$E$19,2) -> 200 | U20: =VLOOKUP(H20,Παράμετροι!$G$4:$H$7,2) -> 0 | V20: =VLOOKUP(I20,Παράμετροι!$G$4:$H$7,2) -> 0 | W20: =VLOOKUP(J20,Παράμετροι!$J$4:$K$7,2) -> 60 | X20: =VLOOKUP(K20,Παράμετροι!$M$4:$N$14,2) -> 0 | Y20: =VLOOKUP(L20,Παράμετροι!$M$4:$N$14,2) -> 0 | Z20: =VLOOKUP(M20,Παράμετροι!$P$4:$Q$1004,2) -> 274 | AA20: =VLOOKUP(N20,Παράμετροι!$S$4:$T$124,2) -> 192 | AB20: =VLOOKUP(O20,Παράμετροι!$V$4:$W$124,2) -> 532 | AC20: =VLOOKUP(P20,Παράμετροι!$Y$4:$Z$55,2) -> 0 | AD20: =VLOOKUP(Q20,Παράμετροι!$AB$4:$AC$55,2) -> 0 | AE20: =SUM(R20:AD20) -> 1258
A21: 8 | B21: 18322 | C21: ΜΠΟΥΓΑΣ | D21: ΔΗΜΗΤΡΙΟΣ | J21: 1 | M21: 12.6 | N21: 13 | O21: 120 | R21: =VLOOKUP(E21,Παράμετροι!$A$4:$B$10,2) -> 0 | S21: =VLOOKUP(F21,Παράμετροι!$D$4:$E$19,2) -> 0 | T21: =VLOOKUP(G21,Παράμετροι!$D$4:$E$19,2) -> 0 | U21: =VLOOKUP(H21,Παράμετροι!$G$4:$H$7,2) -> 0 | V21: =VLOOKUP(I21,Παράμετροι!$G$4:$H$7,2) -> 0 | W21: =VLOOKUP(J21,Παράμετροι!$J$4:$K$7,2) -> 30 | X21: =VLOOKUP(K21,Παράμετροι!$M$4:$N$14,2) -> 0 | Y21: =VLOOKUP(L21,Παράμετροι!$M$4:$N$14,2) -> 0 | Z21: =VLOOKUP(M21,Παράμετροι!$P$4:$Q$1004,2) -> 252 | AA21: =VLOOKUP(N21,Παράμετροι!$S$4:$T$124,2) -> 104 | AB21: =VLOOKUP(O21,Παράμετροι!$V$4:$W$124,2) -> 840 | AC21: =VLOOKUP(P21,Παράμετροι!$Y$4:$Z$55,2) -> 0 | AD21: =VLOOKUP(Q21,Παράμετροι!$AB$4:$AC$55,2) -> 0 | AE21: =SUM(R21:AD21) -> 1226
A22: 9 | B22: 17458 | C22: ΚΑΡΑΓΙΑΝΝΗΣ | D22: ΣΩΚΡΑΤΗΣ | E22: 3 | M22: 13.93 | N22: 43 | O22: 82 | R22: =VLOOKUP(E22,Παράμετροι!$A$4:$B$10,2) -> 0 | S22: =VLOOKUP(F22,Παράμετροι!$D$4:$E$19,2) -> 0 | T22: =VLOOKUP(G22,Παράμετροι!$D$4:$E$19,2) -> 0 | U22: =VLOOKUP(H22,Παράμετροι!$G$4:$H$7,2) -> 0 | V22: =VLOOKUP(I22,Παράμετροι!$G$4:$H$7,2) -> 0 | W22: =VLOOKUP(J22,Παράμετροι!$J$4:$K$7,2) -> 0 | X22: =VLOOKUP(K22,Παράμετροι!$M$4:$N$14,2) -> 0 | Y22: =VLOOKUP(L22,Παράμετροι!$M$4:$N$14,2) -> 0 | Z22: =VLOOKUP(M22,Παράμετροι!$P$4:$Q$1004,2) -> 278.6 | AA22: =VLOOKUP(N22,Παράμετροι!$S$4:$T$124,2) -> 344 | AB22: =VLOOKUP(O22,Παράμετροι!$V$4:$W$124,2) -> 574 | AC22: =VLOOKUP(P22,Παράμετροι!$Y$4:$Z$55,2) -> 0 | AD22: =VLOOKUP(Q22,Παράμετροι!$AB$4:$AC$55,2) -> 0 | AE22: =SUM(R22:AD22) -> 1196.6
A23: 10 | B23: 15979-17760 | C23: ΚΥΡΙΤΣΗ | D23: ΣΠΥΡΙΔΟΥΛΑ | M23: 12.8 | N23: 12 | O23: 120 | R23: =VLOOKUP(E23,Παράμετροι!$A$4:$B$10,2) -> 0 | S23: =VLOOKUP(F23,Παράμετροι!$D$4:$E$19,2) -> 0 | T23: =VLOOKUP(G23,Παράμετροι!$D$4:$E$19,2) -> 0 | U23: =VLOOKUP(H23,Παράμετροι!$G$4:$H$7,2) -> 0 | V23: =VLOOKUP(I23,Παράμετροι!$G$4:$H$7,2) -> 0 | W23: =VLOOKUP(J23,Παράμετροι!$J$4:$K$7,2) -> 0 | X23: =VLOOKUP(K23,Παράμετροι!$M$4:$N$14,2) -> 0 | Y23: =VLOOKUP(L23,Παράμετροι!$M$4:$N$14,2) -> 0 | Z23: =VLOOKUP(M23,Παράμετροι!$P$4:$Q$1004,2) -> 256 | AA23: =VLOOKUP(N23,Παράμετροι!$S$4:$T$124,2) -> 96 | AB23: =VLOOKUP(O23,Παράμετροι!$V$4:$W$124,2) -> 840 | AC23: =VLOOKUP(P23,Παράμετροι!$Y$4:$Z$55,2) -> 0 | AD23: =VLOOKUP(Q23,Παράμετροι!$AB$4:$AC$55,2) -> 0 | AE23: =SUM(R23:AD23) -> 1192
A24: 11 | B24: 18406 | C24: ΣΤΥΛΙΑΝΟΠΟΥΛΟΣ | D24: ΑΘΑΝΑΣΙΟΣ | J24: 1 | M24: 13.4 | N24: 107 | R24: =VLOOKUP(E24,Παράμετροι!$A$4:$B$10,2) -> 0 | S24: =VLOOKUP(F24,Παράμετροι!$D$4:$E$19,2) -> 0 | T24: =VLOOKUP(G24,Παράμετροι!$D$4:$E$19,2) -> 0 | U24: =VLOOKUP(H24,Παράμετροι!$G$4:$H$7,2) -> 0 | V24: =VLOOKUP(I24,Παράμετροι!$G$4:$H$7,2) -> 0 | W24: =VLOOKUP(J24,Παράμετροι!$J$4:$K$7,2) -> 30 | X24: =VLOOKUP(K24,Παράμετροι!$M$4:$N$14,2) -> 0 | Y24: =VLOOKUP(L24,Παράμετροι!$M$4:$N$14,2) -> 0 | Z24: =VLOOKUP(M24,Παράμετροι!$P$4:$Q$1004,2) -> 268 | AA24: =VLOOKUP(N24,Παράμετροι!$S$4:$T$124,2) -> 856 | AB24: =VLOOKUP(O24,Παράμετροι!$V$4:$W$124,2) -> 0 | AC24: =VLOOKUP(P24,Παράμετροι!$Y$4:$Z$55,2) -> 0 | AD24: =VLOOKUP(Q24,Παράμετροι!$AB$4:$AC$55,2) -> 0 | AE24: =SUM(R24:AD24) -> 1154
A25: 12 | B25: 18104 | C25: ΧΡΙΣΤΟΠΟΥΛΟΣ | D25: ΓΕΩΡΓΙΟΣ | M25: 14.23 | N25: 24 | O25: 96 | R25: =VLOOKUP(E25,Παράμετροι!$A$4:$B$10,2) -> 0 | S25: =VLOOKUP(F25,Παράμετροι!$D$4:$E$19,2) -> 0 | T25: =VLOOKUP(G25,Παράμετροι!$D$4:$E$19,2) -> 0 | U25: =VLOOKUP(H25,Παράμετροι!$G$4:$H$7,2) -> 0 | V25: =VLOOKUP(I25,Παράμετροι!$G$4:$H$7,2) -> 0 | W25: =VLOOKUP(J25,Παράμετροι!$J$4:$K$7,2) -> 0 | X25: =VLOOKUP(K25,Παράμετροι!$M$4:$N$14,2) -> 0 | Y25: =VLOOKUP(L25,Παράμετροι!$M$4:$N$14,2) -> 0 | Z25: =VLOOKUP(M25,Παράμετροι!$P$4:$Q$1004,2) -> 284.6 | AA25: =VLOOKUP(N25,Παράμετροι!$S$4:$T$124,2) -> 192 | AB25: =VLOOKUP(O25,Παράμετροι!$V$4:$W$124,2) -> 672 | AC25: =VLOOKUP(P25,Παράμετροι!$Y$4:$Z$55,2) -> 0 | AD25: =VLOOKUP(Q25,Παράμετροι!$AB$4:$AC$55,2) -> 0 | AE25: =SUM(R25:AD25) -> 1148.6
A26: 13 | B26: 15815 | C26: ΔΙΚΑΙΟΥ | D26: ΒΑΣΙΛΙΚΗ | M26: 16 | N26: 44 | O26: 59 | R26: =VLOOKUP(E26,Παράμετροι!$A$4:$B$10,2) -> 0 | S26: =VLOOKUP(F26,Παράμετροι!$D$4:$E$19,2) -> 0 | T26: =VLOOKUP(G26,Παράμετροι!$D$4:$E$19,2) -> 0 | U26: =VLOOKUP(H26,Παράμετροι!$G$4:$H$7,2) -> 0 | V26: =VLOOKUP(I26,Παράμετροι!$G$4:$H$7,2) -> 0 | W26: =VLOOKUP(J26,Παράμετροι!$J$4:$K$7,2) -> 0 | X26: =VLOOKUP(K26,Παράμετροι!$M$4:$N$14,2) -> 0 | Y26: =VLOOKUP(L26,Παράμετροι!$M$4:$N$14,2) -> 0 | Z26: =VLOOKUP(M26,Παράμετροι!$P$4:$Q$1004,2) -> 320 | AA26: =VLOOKUP(N26,Παράμετροι!$S$4:$T$124,2) -> 352 | AB26: =VLOOKUP(O26,Παράμετροι!$V$4:$W$124,2) -> 413 | AC26: =VLOOKUP(P26,Παράμετροι!$Y$4:$Z$55,2) -> 0 | AD26: =VLOOKUP(Q26,Παράμετροι!$AB$4:$AC$55,2) -> 0 | AE26: =SUM(R26:AD26) -> 1085
A27: 14 | B27: 16081 | C27: ΒΑΣΙΛΕΙΟΥ | D27: ΧΡΗΣΤΟΣ | M27: 14 | N27: 21 | O27: 63 | Q27: 95 | R27: =VLOOKUP(E27,Παράμετροι!$A$4:$B$10,2) -> 0 | S27: =VLOOKUP(F27,Παράμετροι!$D$4:$E$19,2) -> 0 | T27: =VLOOKUP(G27,Παράμετροι!$D$4:$E$19,2) -> 0 | U27: =VLOOKUP(H27,Παράμετροι!$G$4:$H$7,2) -> 0 | V27: =VLOOKUP(I27,Παράμετροι!$G$4:$H$7,2) -> 0 | W27: =VLOOKUP(J27,Παράμετροι!$J$4:$K$7,2) -> 0 | X27: =VLOOKUP(K27,Παράμετροι!$M$4:$N$14,2) -> 0 | Y27: =VLOOKUP(L27,Παράμετροι!$M$4:$N$14,2) -> 0 | Z27: =VLOOKUP(M27,Παράμετροι!$P$4:$Q$1004,2) -> 280 | AA27: =VLOOKUP(N27,Παράμετροι!$S$4:$T$124,2) -> 168 | AB27: =VLOOKUP(O27,Παράμετροι!$V$4:$W$124,2) -> 441 | AC27: =VLOOKUP(P27,Παράμετροι!$Y$4:$Z$55,2) -> 0 | AD27: =VLOOKUP(Q27,Παράμετροι!$AB$4:$AC$55,2) -> 190 | AE27: =SUM(R27:AD27) -> 1079
A28: 15 | B28: 15783 | C28: ΠΟΥΛΙΑΣΗΣ | D28: ΝΙΚΟΛΑΟΣ | M28: 11 | O28: 117 | R28: =VLOOKUP(E28,Παράμετροι!$A$4:$B$10,2) -> 0 | S28: =VLOOKUP(F28,Παράμετροι!$D$4:$E$19,2) -> 0 | T28: =VLOOKUP(G28,Παράμετροι!$D$4:$E$19,2) -> 0 | U28: =VLOOKUP(H28,Παράμετροι!$G$4:$H$7,2) -> 0 | V28: =VLOOKUP(I28,Παράμετροι!$G$4:$H$7,2) -> 0 | W28: =VLOOKUP(J28,Παράμετροι!$J$4:$K$7,2) -> 0 | X28: =VLOOKUP(K28,Παράμετροι!$M$4:$N$14,2) -> 0 | Y28: =VLOOKUP(L28,Παράμετροι!$M$4:$N$14,2) -> 0 | Z28: =VLOOKUP(M28,Παράμετροι!$P$4:$Q$1004,2) -> 220 | AA28: =VLOOKUP(N28,Παράμετροι!$S$4:$T$124,2) -> 0 | AB28: =VLOOKUP(O28,Παράμετροι!$V$4:$W$124,2) -> 819 | AC28: =VLOOKUP(P28,Παράμετροι!$Y$4:$Z$55,2) -> 0 | AD28: =VLOOKUP(Q28,Παράμετροι!$AB$4:$AC$55,2) -> 0 | AE28: =SUM(R28:AD28) -> 1039
A29: 16 | B29: 16919 | C29: ΤΣΟΧΑΝΤΑΡΗ | D29: ΚΛΕΟΠΑΤΡΑ | H29: 3 | J29: 2 | M29: 18.3 | N29: 36 | Q29: 85 | R29: =VLOOKUP(E29,Παράμετροι!$A$4:$B$10,2) -> 0 | S29: =VLOOKUP(F29,Παράμετροι!$D$4:$E$19,2) -> 0 | T29: =VLOOKUP(G29,Παράμετροι!$D$4:$E$19,2) -> 0 | U29: =VLOOKUP(H29,Παράμετροι!$G$4:$H$7,2) -> 120 | V29: =VLOOKUP(I29,Παράμετροι!$G$4:$H$7,2) -> 0 | W29: =VLOOKUP(J29,Παράμετροι!$J$4:$K$7,2) -> 60 | X29: =VLOOKUP(K29,Παράμετροι!$M$4:$N$14,2) -> 0 | Y29: =VLOOKUP(L29,Παράμετροι!$M$4:$N$14,2) -> 0 | Z29: =VLOOKUP(M29,Παράμετροι!$P$4:$Q$1004,2) -> 366 | AA29: =VLOOKUP(N29,Παράμετροι!$S$4:$T$124,2) -> 288 | AB29: =VLOOKUP(O29,Παράμετροι!$V$4:$W$124,2) -> 0 | AC29: =VLOOKUP(P29,Παράμετροι!$Y$4:$Z$55,2) -> 0 | AD29: =VLOOKUP(Q29,Παράμετροι!$AB$4:$AC$55,2) -> 170 | AE29: =SUM(R29:AD29) -> 1004
A30: 17 | B30: 18371 | C30: ΔΗΜΗΤΡΙΑΔΟΥ | D30: ΣΟΦΙΑ | J30: 1 | M30: 18.6 | N30: 11 | O30: 68 | R30: =VLOOKUP(E30,Παράμετροι!$A$4:$B$10,2) -> 0 | S30: =VLOOKUP(F30,Παράμετροι!$D$4:$E$19,2) -> 0 | T30: =VLOOKUP(G30,Παράμετροι!$D$4:$E$19,2) -> 0 | U30: =VLOOKUP(H30,Παράμετροι!$G$4:$H$7,2) -> 0 | V30: =VLOOKUP(I30,Παράμετροι!$G$4:$H$7,2) -> 0 | W30: =VLOOKUP(J30,Παράμετροι!$J$4:$K$7,2) -> 30 | X30: =VLOOKUP(K30,Παράμετροι!$M$4:$N$14,2) -> 0 | Y30: =VLOOKUP(L30,Παράμετροι!$M$4:$N$14,2) -> 0 | Z30: =VLOOKUP(M30,Παράμετροι!$P$4:$Q$1004,2) -> 372 | AA30: =VLOOKUP(N30,Παράμετροι!$S$4:$T$124,2) -> 88 | AB30: =VLOOKUP(O30,Παράμετροι!$V$4:$W$124,2) -> 476 | AC30: =VLOOKUP(P30,Παράμετροι!$Y$4:$Z$55,2) -> 0 | AD30: =VLOOKUP(Q30,Παράμετροι!$AB$4:$AC$55,2) -> 0 | AE30: =SUM(R30:AD30) -> 966
A31: 18 | B31: 16099 | C31: ΔΕΡΤΟΥΖΟΥ | D31: ΑΙΚΑΤΕΡΙΝΗ | E31: 1 | J31: 1 | K31: 2 | M31: 16.3 | N31: 29 | O31: 39 | R31: =VLOOKUP(E31,Παράμετροι!$A$4:$B$10,2) -> 0 | S31: =VLOOKUP(F31,Παράμετροι!$D$4:$E$19,2) -> 0 | T31: =VLOOKUP(G31,Παράμετροι!$D$4:$E$19,2) -> 0 | U31: =VLOOKUP(H31,Παράμετροι!$G$4:$H$7,2) -> 0 | V31: =VLOOKUP(I31,Παράμετροι!$G$4:$H$7,2) -> 0 | W31: =VLOOKUP(J31,Παράμετροι!$J$4:$K$7,2) -> 30 | X31: =VLOOKUP(K31,Παράμετροι!$M$4:$N$14,2) -> 100 | Y31: =VLOOKUP(L31,Παράμετροι!$M$4:$N$14,2) -> 0 | Z31: =VLOOKUP(M31,Παράμετροι!$P$4:$Q$1004,2) -> 326 | AA31: =VLOOKUP(N31,Παράμετροι!$S$4:$T$124,2) -> 232 | AB31: =VLOOKUP(O31,Παράμετροι!$V$4:$W$124,2) -> 273 | AC31: =VLOOKUP(P31,Παράμετροι!$Y$4:$Z$55,2) -> 0 | AD31: =VLOOKUP(Q31,Παράμετροι!$AB$4:$AC$55,2) -> 0 | AE31: =SUM(R31:AD31) -> 961
A32: 19 | B32: 18824 | C32: ΝΤΟΥΝΙΑΣ | D32: ΧΑΡΑΛΑΜΠΟΣ | G32: 4 | M32: 12.46 | N32: 24 | O32: 41 | R32: =VLOOKUP(E32,Παράμετροι!$A$4:$B$10,2) -> 0 | S32: =VLOOKUP(F32,Παράμετροι!$D$4:$E$19,2) -> 0 | T32: =VLOOKUP(G32,Παράμετροι!$D$4:$E$19,2) -> 200 | U32: =VLOOKUP(H32,Παράμετροι!$G$4:$H$7,2) -> 0 | V32: =VLOOKUP(I32,Παράμετροι!$G$4:$H$7,2) -> 0 | W32: =VLOOKUP(J32,Παράμετροι!$J$4:$K$7,2) -> 0 | X32: =VLOOKUP(K32,Παράμετροι!$M$4:$N$14,2) -> 0 | Y32: =VLOOKUP(L32,Παράμετροι!$M$4:$N$14,2) -> 0 | Z32: =VLOOKUP(M32,Παράμετροι!$P$4:$Q$1004,2) -> 249.2 | AA32: =VLOOKUP(N32,Παράμετροι!$S$4:$T$124,2) -> 192 | AB32: =VLOOKUP(O32,Παράμετροι!$V$4:$W$124,2) -> 287 | AC32: =VLOOKUP(P32,Παράμετροι!$Y$4:$Z$55,2) -> 0 | AD32: =VLOOKUP(Q32,Παράμετροι!$AB$4:$AC$55,2) -> 0 | AE32: =SUM(R32:AD32) -> 928.2
A33: 20 | B33: 15195 | C33: ΚΑΪΣΑΣ | D33: ΙΩΑΝΝΗΣ | M33: 16 | O33: 80 | R33: =VLOOKUP(E33,Παράμετροι!$A$4:$B$10,2) -> 0 | S33: =VLOOKUP(F33,Παράμετροι!$D$4:$E$19,2) -> 0 | T33: =VLOOKUP(G33,Παράμετροι!$D$4:$E$19,2) -> 0 | U33: =VLOOKUP(H33,Παράμετροι!$G$4:$H$7,2) -> 0 | V33: =VLOOKUP(I33,Παράμετροι!$G$4:$H$7,2) -> 0 | W33: =VLOOKUP(J33,Παράμετροι!$J$4:$K$7,2) -> 0 | X33: =VLOOKUP(K33,Παράμετροι!$M$4:$N$14,2) -> 0 | Y33: =VLOOKUP(L33,Παράμετροι!$M$4:$N$14,2) -> 0 | Z33: =VLOOKUP(M33,Παράμετροι!$P$4:$Q$1004,2) -> 320 | AA33: =VLOOKUP(N33,Παράμετροι!$S$4:$T$124,2) -> 0 | AB33: =VLOOKUP(O33,Παράμετροι!$V$4:$W$124,2) -> 560 | AC33: =VLOOKUP(P33,Παράμετροι!$Y$4:$Z$55,2) -> 0 | AD33: =VLOOKUP(Q33,Παράμετροι!$AB$4:$AC$55,2) -> 0 | AE33: =SUM(R33:AD33) -> 880
A34: 21 | B34: 18831 | C34: ΛΕΥΤΕΡΗΣ | D34: ΚΩΝΣΤΑΝΤΙΝΟΣ | H34: 3 | J34: 3 | M34: 16.45 | N34: 23 | O34: 19 | R34: =VLOOKUP(E34,Παράμετροι!$A$4:$B$10,2) -> 0 | S34: =VLOOKUP(F34,Παράμετροι!$D$4:$E$19,2) -> 0 | T34: =VLOOKUP(G34,Παράμετροι!$D$4:$E$19,2) -> 0 | U34: =VLOOKUP(H34,Παράμετροι!$G$4:$H$7,2) -> 120 | V34: =VLOOKUP(I34,Παράμετροι!$G$4:$H$7,2) -> 0 | W34: =VLOOKUP(J34,Παράμετροι!$J$4:$K$7,2) -> 110 | X34: =VLOOKUP(K34,Παράμετροι!$M$4:$N$14,2) -> 0 | Y34: =VLOOKUP(L34,Παράμετροι!$M$4:$N$14,2) -> 0 | Z34: =VLOOKUP(M34,Παράμετροι!$P$4:$Q$1004,2) -> 329 | AA34: =VLOOKUP(N34,Παράμετροι!$S$4:$T$124,2) -> 184 | AB34: =VLOOKUP(O34,Παράμετροι!$V$4:$W$124,2) -> 133 | AC34: =VLOOKUP(P34,Παράμετροι!$Y$4:$Z$55,2) -> 0 | AD34: =VLOOKUP(Q34,Παράμετροι!$AB$4:$AC$55,2) -> 0 | AE34: =SUM(R34:AD34) -> 876
A35: 22 | B35: 16040 | C35: ΤΖΙΝΑΣ | D35: ΔΗΜΗΤΡΙΟΣ | G35: 4 | M35: 17.3 | N35: 22 | Q35: 72 | R35: =VLOOKUP(E35,Παράμετροι!$A$4:$B$10,2) -> 0 | S35: =VLOOKUP(F35,Παράμετροι!$D$4:$E$19,2) -> 0 | T35: =VLOOKUP(G35,Παράμετροι!$D$4:$E$19,2) -> 200 | U35: =VLOOKUP(H35,Παράμετροι!$G$4:$H$7,2) -> 0 | V35: =VLOOKUP(I35,Παράμετροι!$G$4:$H$7,2) -> 0 | W35: =VLOOKUP(J35,Παράμετροι!$J$4:$K$7,2) -> 0 | X35: =VLOOKUP(K35,Παράμετροι!$M$4:$N$14,2) -> 0 | Y35: =VLOOKUP(L35,Παράμετροι!$M$4:$N$14,2) -> 0 | Z35: =VLOOKUP(M35,Παράμετροι!$P$4:$Q$1004,2) -> 346 | AA35: =VLOOKUP(N35,Παράμετροι!$S$4:$T$124,2) -> 176 | AB35: =VLOOKUP(O35,Παράμετροι!$V$4:$W$124,2) -> 0 | AC35: =VLOOKUP(P35,Παράμετροι!$Y$4:$Z$55,2) -> 0 | AD35: =VLOOKUP(Q35,Παράμετροι!$AB$4:$AC$55,2) -> 144 | AE35: =SUM(R35:AD35) -> 866
A36: 23 | B36: 18378 | C36: ΚΑΡΚΑΤΖΟΥΛΗ | D36: ΑΠΟΣΤΟΛΙΑ | E36: 10 | M36: 12.4 | O36: 45 | R36: =VLOOKUP(E36,Παράμετροι!$A$4:$B$10,2) -> 300 | S36: =VLOOKUP(F36,Παράμετροι!$D$4:$E$19,2) -> 0 | T36: =VLOOKUP(G36,Παράμετροι!$D$4:$E$19,2) -> 0 | U36: =VLOOKUP(H36,Παράμετροι!$G$4:$H$7,2) -> 0 | V36: =VLOOKUP(I36,Παράμετροι!$G$4:$H$7,2) -> 0 | W36: =VLOOKUP(J36,Παράμετροι!$J$4:$K$7,2) -> 0 | X36: =VLOOKUP(K36,Παράμετροι!$M$4:$N$14,2) -> 0 | Y36: =VLOOKUP(L36,Παράμετροι!$M$4:$N$14,2) -> 0 | Z36: =VLOOKUP(M36,Παράμετροι!$P$4:$Q$1004,2) -> 248 | AA36: =VLOOKUP(N36,Παράμετροι!$S$4:$T$124,2) -> 0 | AB36: =VLOOKUP(O36,Παράμετροι!$V$4:$W$124,2) -> 315 | AC36: =VLOOKUP(P36,Παράμετροι!$Y$4:$Z$55,2) -> 0 | AD36: =VLOOKUP(Q36,Παράμετροι!$AB$4:$AC$55,2) -> 0 | AE36: =SUM(R36:AD36) -> 863
A37: 24 | B37: 17920 | C37: ΚΑΛΑΠΑΝΙΔΑΣ | D37: ΔΗΜΗΤΡΙΟΣ | J37: 1 | M37: 13.15 | N37: 69 | R37: =VLOOKUP(E37,Παράμετροι!$A$4:$B$10,2) -> 0 | S37: =VLOOKUP(F37,Παράμετροι!$D$4:$E$19,2) -> 0 | T37: =VLOOKUP(G37,Παράμετροι!$D$4:$E$19,2) -> 0 | U37: =VLOOKUP(H37,Παράμετροι!$G$4:$H$7,2) -> 0 | V37: =VLOOKUP(I37,Παράμετροι!$G$4:$H$7,2) -> 0 | W37: =VLOOKUP(J37,Παράμετροι!$J$4:$K$7,2) -> 30 | X37: =VLOOKUP(K37,Παράμετροι!$M$4:$N$14,2) -> 0 | Y37: =VLOOKUP(L37,Παράμετροι!$M$4:$N$14,2) -> 0 | Z37: =VLOOKUP(M37,Παράμετροι!$P$4:$Q$1004,2) -> 263 | AA37: =VLOOKUP(N37,Παράμετροι!$S$4:$T$124,2) -> 552 | AB37: =VLOOKUP(O37,Παράμετροι!$V$4:$W$124,2) -> 0 | AC37: =VLOOKUP(P37,Παράμετροι!$Y$4:$Z$55,2) -> 0 | AD37: =VLOOKUP(Q37,Παράμετροι!$AB$4:$AC$55,2) -> 0 | AE37: =SUM(R37:AD37) -> 845
A38: 25 | B38: 17428 | C38: ΝΙΚΟΛΙΔΑΚΗΣ | D38: ΔΗΜΗΤΡΙΟΣ | E38: 4 | M38: 15.7 | N38: 32 | O38: 7 | R38: =VLOOKUP(E38,Παράμετροι!$A$4:$B$10,2) -> 200 | S38: =VLOOKUP(F38,Παράμετροι!$D$4:$E$19,2) -> 0 | T38: =VLOOKUP(G38,Παράμετροι!$D$4:$E$19,2) -> 0 | U38: =VLOOKUP(H38,Παράμετροι!$G$4:$H$7,2) -> 0 | V38: =VLOOKUP(I38,Παράμετροι!$G$4:$H$7,2) -> 0 | W38: =VLOOKUP(J38,Παράμετροι!$J$4:$K$7,2) -> 0 | X38: =VLOOKUP(K38,Παράμετροι!$M$4:$N$14,2) -> 0 | Y38: =VLOOKUP(L38,Παράμετροι!$M$4:$N$14,2) -> 0 | Z38: =VLOOKUP(M38,Παράμετροι!$P$4:$Q$1004,2) -> 314 | AA38: =VLOOKUP(N38,Παράμετροι!$S$4:$T$124,2) -> 256 | AB38: =VLOOKUP(O38,Παράμετροι!$V$4:$W$124,2) -> 49 | AC38: =VLOOKUP(P38,Παράμετροι!$Y$4:$Z$55,2) -> 0 | AD38: =VLOOKUP(Q38,Παράμετροι!$AB$4:$AC$55,2) -> 0 | AE38: =SUM(R38:AD38) -> 819
A39: 26 | B39: 15583 | C39: ΓΕΩΡΓΙΟΥ | D39: ΠΑΝΑΓΙΩΤΗΣ | E39: 5 | M39: 14.4 | O39: 40 | R39: =VLOOKUP(E39,Παράμετροι!$A$4:$B$10,2) -> 250 | S39: =VLOOKUP(F39,Παράμετροι!$D$4:$E$19,2) -> 0 | T39: =VLOOKUP(G39,Παράμετροι!$D$4:$E$19,2) -> 0 | U39: =VLOOKUP(H39,Παράμετροι!$G$4:$H$7,2) -> 0 | V39: =VLOOKUP(I39,Παράμετροι!$G$4:$H$7,2) -> 0 | W39: =VLOOKUP(J39,Παράμετροι!$J$4:$K$7,2) -> 0 | X39: =VLOOKUP(K39,Παράμετροι!$M$4:$N$14,2) -> 0 | Y39: =VLOOKUP(L39,Παράμετροι!$M$4:$N$14,2) -> 0 | Z39: =VLOOKUP(M39,Παράμετροι!$P$4:$Q$1004,2) -> 288 | AA39: =VLOOKUP(N39,Παράμετροι!$S$4:$T$124,2) -> 0 | AB39: =VLOOKUP(O39,Παράμετροι!$V$4:$W$124,2) -> 280 | AC39: =VLOOKUP(P39,Παράμετροι!$Y$4:$Z$55,2) -> 0 | AD39: =VLOOKUP(Q39,Παράμετροι!$AB$4:$AC$55,2) -> 0 | AE39: =SUM(R39:AD39) -> 818
A40: 27 | B40: 19083 | C40: ΔΑΦΝΗ | D40: ΧΑΪΔΩ-ΑΓΓΕΛΙΚΗ | E40: 49 | G40: 4 | M40: 15.54 | R40: =VLOOKUP(E40,Παράμετροι!$A$4:$B$10,2) -> 300 | S40: =VLOOKUP(F40,Παράμετροι!$D$4:$E$19,2) -> 0 | T40: =VLOOKUP(G40,Παράμετροι!$D$4:$E$19,2) -> 200 | U40: =VLOOKUP(H40,Παράμετροι!$G$4:$H$7,2) -> 0 | V40: =VLOOKUP(I40,Παράμετροι!$G$4:$H$7,2) -> 0 | W40: =VLOOKUP(J40,Παράμετροι!$J$4:$K$7,2) -> 0 | X40: =VLOOKUP(K40,Παράμετροι!$M$4:$N$14,2) -> 0 | Y40: =VLOOKUP(L40,Παράμετροι!$M$4:$N$14,2) -> 0 | Z40: =VLOOKUP(M40,Παράμετροι!$P$4:$Q$1004,2) -> 310.8 | AA40: =VLOOKUP(N40,Παράμετροι!$S$4:$T$124,2) -> 0 | AB40: =VLOOKUP(O40,Παράμετροι!$V$4:$W$124,2) -> 0 | AC40: =VLOOKUP(P40,Παράμετροι!$Y$4:$Z$55,2) -> 0 | AD40: =VLOOKUP(Q40,Παράμετροι!$AB$4:$AC$55,2) -> 0 | AE40: =SUM(R40:AD40) -> 810.8
A41: 28 | B41: 18269 | C41: ΣΑΜΙΔΗΣ | D41: ΘΕΟΔΟΣΙΟΣ | M41: 19.36 | N41: 27 | Q41: 100 | R41: =VLOOKUP(E41,Παράμετροι!$A$4:$B$10,2) -> 0 | S41: =VLOOKUP(F41,Παράμετροι!$D$4:$E$19,2) -> 0 | T41: =VLOOKUP(G41,Παράμετροι!$D$4:$E$19,2) -> 0 | U41: =VLOOKUP(H41,Παράμετροι!$G$4:$H$7,2) -> 0 | V41: =VLOOKUP(I41,Παράμετροι!$G$4:$H$7,2) -> 0 | W41: =VLOOKUP(J41,Παράμετροι!$J$4:$K$7,2) -> 0 | X41: =VLOOKUP(K41,Παράμετροι!$M$4:$N$14,2) -> 0 | Y41: =VLOOKUP(L41,Παράμετροι!$M$4:$N$14,2) -> 0 | Z41: =VLOOKUP(M41,Παράμετροι!$P$4:$Q$1004,2) -> 387.2 | AA41: =VLOOKUP(N41,Παράμετροι!$S$4:$T$124,2) -> 216 | AB41: =VLOOKUP(O41,Παράμετροι!$V$4:$W$124,2) -> 0 | AC41: =VLOOKUP(P41,Παράμετροι!$Y$4:$Z$55,2) -> 0 | AD41: =VLOOKUP(Q41,Παράμετροι!$AB$4:$AC$55,2) -> 200 | AE41: =SUM(R41:AD41) -> 803.2
A42: 29 | B42: 16571 | C42: ΣΚΡΕΚΑΣ | D42: ΝΙΚΟΛΑΟΣ | E42: 7 | M42: 14.2 | N42: 8 | Q42: 67 | R42: =VLOOKUP(E42,Παράμετροι!$A$4:$B$10,2) -> 300 | S42: =VLOOKUP(F42,Παράμετροι!$D$4:$E$19,2) -> 0 | T42: =VLOOKUP(G42,Παράμετροι!$D$4:$E$19,2) -> 0 | U42: =VLOOKUP(H42,Παράμετροι!$G$4:$H$7,2) -> 0 | V42: =VLOOKUP(I42,Παράμετροι!$G$4:$H$7,2) -> 0 | W42: =VLOOKUP(J42,Παράμετροι!$J$4:$K$7,2) -> 0 | X42: =VLOOKUP(K42,Παράμετροι!$M$4:$N$14,2) -> 0 | Y42: =VLOOKUP(L42,Παράμετροι!$M$4:$N$14,2) -> 0 | Z42: =VLOOKUP(M42,Παράμετροι!$P$4:$Q$1004,2) -> 284 | AA42: =VLOOKUP(N42,Παράμετροι!$S$4:$T$124,2) -> 64 | AB42: =VLOOKUP(O42,Παράμετροι!$V$4:$W$124,2) -> 0 | AC42: =VLOOKUP(P42,Παράμετροι!$Y$4:$Z$55,2) -> 0 | AD42: =VLOOKUP(Q42,Παράμετροι!$AB$4:$AC$55,2) -> 134 | AE42: =SUM(R42:AD42) -> 782
...

Sheet Παράμετροι
A1: 1. ΧΡΟΝΟΣ ΑΝΕΡΓΙΑΣ (200 μονάδες για 4 μήνες ανεργίας και 50 μονάδες ανά μήνα ανεργίας άνω των 4 μηνών, με ανώτατο όριο τους 6 μήνες) | D1: 2 ή 3. ΠΟΛΥΤΕΚΝΟΣ Ή ΤΕΚΝΟ ΠΟΛΥΤΕΚΝΗΣ ΟΙΚΟΓΕΝΕΙΑΣ (50 μονάδες για κάθε τέκνο) | G1: 4 ή 5. ΤΡΙΤΕΚΝΟΣ Ή ΤΕΚΝΟ ΤΡΙΤΕΚΝΗΣ ΟΙΚΟΓΕΝΕΙΑΣ (40 μονάδες για κάθε τέκνο) | J1: 6. ΑΝΗΛΙΚΑ ΤΕΚΝΑ (30 μονάδες για καθένα από τα δύο πρώτα τέκνα και 50 μονάδες για το τρίτο) | M1: 7 ή 8. ΓΟΝΕΑΣ Ή ΤΕΚΝΟ ΜΟΝΟΓΟΝΕΪΚΗΣ ΟΙΚΟΓΕΝΕΙΑΣ (50 μονάδες για κάθε τέκνο) | P1: 9. ΒΑΘΜΟΣ ΒΑΣΙΚΟΥ ΤΙΤΛΟΥ (οι μονάδες του βασικού τίτλου σπουδών με 2 δεκαδικά ψηφία για τη ΔΕ πολλαπλασιάζονται με το 20) | S1: 10α. ΕΜΠΕΙΡΙΑ ΚΤΗΘΕΙΣΑ σε κτίρια ή Υπηρεσίες του ΔΗΜΟΣΙΟΥ ΤΟΜΕΑ (8 μονάδες ανά μήνα και έως 120 μήνες) | V1: 10β. ΕΜΠΕΙΡΙΑ ΚΤΗΘΕΙΣΑ ΣΤΟΝ ΙΔΙΩΤΙΚΟ ΤΟΜΕΑ (7 μονάδες ανά μήνα και έως 12 μήνες) | Y1: 11. ΑΝΑΠΗΡΙΑ ΥΠΟΨΗΦΙΟΥ ΜΕ ΠΟΣΟΣΤΟ ΤΟΥΛΑΧΙΣΤΟΝ 50% (το ποσοστό αναπηρίας πολ/ζεται με το συντελεστη "3") | AB1: 12. ΑΝΑΠΗΡΙΑ ΓΟΝΕΑ, ΤΕΚΝΟΥ, ΑΔΕΛΦΟΥ Ή ΣΥΖΥΓΟΥ (το ποσοστό αναπηρίας πολ/ζεται με το συντελεστή "2")
A3: μήνες | B3: μονάδες | D3: αριθμός τεκνών | E3: μονάδες | G3: αριθμός τέκνων | H3: μονάδες | J3: αριθμός τέκνων | K3: μονάδες | M3: αριθμός τέκνων | N3: μονάδες | P3: κατηγορία ΔΕ | Q3: μονάδες | S3: μήνες εμπειρίας | T3: μονάδες | V3: μήνες εμπειρίας | W3: μονάδες | Y3: ποσοστό αναπηρίας | Z3: μονάδες | AB3: ποσοστό αναπηρίας | AC3: μονάδες
A4: 0 | B4: 0 | D4: 0 | E4: 0 | G4: 0 | H4: 0 | J4: 0 | K4: 0 | M4: 0 | N4: 0 | P4: 10 | Q4: 200 | S4: 0 | T4: 0 | V4: 0 | W4: 0 | Y4: 0 | Z4: 0 | AB4: 0 | AC4: 0
A5: 1 | B5: 0 | D5: 1 | E5: 0 | G5: 1 | H5: 40 | J5: 1 | K5: 30 | M5: 1 | N5: 50 | P5: 10.01 | Q5: 200.2 | S5: 1 | T5: 8 | V5: 1 | W5: 7 | Y5: 50 | Z5: 150 | AB5: 50 | AC5: 100
A6: 2 | B6: 0 | D6: 2 | E6: 0 | G6: 2 | H6: 80 | J6: 2 | K6: 60 | M6: 2 | N6: 100 | P6: 10.02 | Q6: 200.4 | S6: 2 | T6: 16 | V6: 2 | W6: 14 | Y6: 51 | Z6: 153 | AB6: 51 | AC6: 102
A7: 3 | B7: 0 | D7: 3 | E7: 150 | G7: 3 | H7: 120 | J7: 3 | K7: 110 | M7: 3 | N7: 150 | P7: 10.03 | Q7: 200.6 | S7: 3 | T7: 24 | V7: 3 | W7: 21 | Y7: 52 | Z7: 156 | AB7: 52 | AC7: 104
A8: 4 | B8: 200 | D8: 4 | E8: 200 | M8: 4 | N8: 200 | P8: 10.04 | Q8: 200.8 | S8: 4 | T8: 32 | V8: 4 | W8: 28 | Y8: 53 | Z8: 159 | AB8: 53 | AC8: 106
A9: 5 | B9: 250 | D9: 5 | E9: 250 | M9: 5 | N9: 250 | P9: 10.05 | Q9: 201 | S9: 5 | T9: 40 | V9: 5 | W9: 35 | Y9: 54 | Z9: 162 | AB9: 54 | AC9: 108
A10: 6 | B10: 300 | D10: 6 | E10: 300 | M10: 6 | N10: 300 | P10: 10.06 | Q10: 201.2 | S10: 6 | T10: 48 | V10: 6 | W10: 42 | Y10: 55 | Z10: 165 | AB10: 55 | AC10: 110
D11: 7 | E11: 350 | M11: 7 | N11: 350 | P11: 10.07 | Q11: 201.4 | S11: 7 | T11: 56 | V11: 7 | W11: 49 | Y11: 56 | Z11: 168 | AB11: 56 | AC11: 112
D12: 8 | E12: 400 | M12: 8 | N12: 400 | P12: 10.08 | Q12: 201.6 | S12: 8 | T12: 64 | V12: 8 | W12: 56 | Y12: 57 | Z12: 171 | AB12: 57 | AC12: 114
D13: 9 | E13: 450 | M13: 9 | N13: 450 | P13: 10.09 | Q13: 201.8 | S13: 9 | T13: 72 | V13: 9 | W13: 63 | Y13: 58 | Z13: 174 | AB13: 58 | AC13: 116
D14: 10 | E14: 500 | M14: 10 | N14: 500 | P14: 10.1 | Q14: 202 | S14: 10 | T14: 80 | V14: 10 | W14: 70 | Y14: 59 | Z14: 177 | AB14: 59 | AC14: 118
D15: 11 | E15: 550 | P15: 10.11 | Q15: 202.2 | S15: 11 | T15: 88 | V15: 11 | W15: 77 | Y15: 60 | Z15: 180 | AB15: 60 | AC15: 120
D16: 12 | E16: 600 | P16: 10.12 | Q16: 202.4 | S16: 12 | T16: 96 | V16: 12 | W16: 84 | Y16: 61 | Z16: 183 | AB16: 61 | AC16: 122
D17: 13 | E17: 650 | P17: 10.13 | Q17: 202.6 | S17: 13 | T17: 104 | V17: 13 | W17: 91 | Y17: 62 | Z17: 186 | AB17: 62 | AC17: 124
D18: 14 | E18: 700 | P18: 10.14 | Q18: 202.8 | S18: 14 | T18: 112 | V18: 14 | W18: 98 | Y18: 63 | Z18: 189 | AB18: 63 | AC18: 126
D19: 15 | E19: 750 | P19: 10.15 | Q19: 203 | S19: 15 | T19: 120 | V19: 15 | W19: 105 | Y19: 64 | Z19: 192 | AB19: 64 | AC19: 128
P20: 10.16 | Q20: 203.2 | S20: 16 | T20: 128 | V20: 16 | W20: 112 | Y20: 65 | Z20: 195 | AB20: 65 | AC20: 130
P21: 10.17 | Q21: 203.4 | S21: 17 | T21: 136 | V21: 17 | W21: 119 | Y21: 66 | Z21: 198 | AB21: 66 | AC21: 132
P22: 10.18 | Q22: 203.6 | S22: 18 | T22: 144 | V22: 18 | W22: 126 | Y22: 67 | Z22: 201 | AB22: 67 | AC22: 134
P23: 10.19 | Q23: 203.8 | S23: 19 | T23: 152 | V23: 19 | W23: 133 | Y23: 68 | Z23: 204 | AB23: 68 | AC23: 136
P24: 10.2 | Q24: 204 | S24: 20 | T24: 160 | V24: 20 | W24: 140 | Y24: 69 | Z24: 207 | AB24: 69 | AC24: 138
P25: 10.21 | Q25: 204.2 | S25: 21 | T25: 168 | V25: 21 | W25: 147 | Y25: 70 | Z25: 210 | AB25: 70 | AC25: 140
P26: 10.22 | Q26: 204.4 | S26: 22 | T26: 176 | V26: 22 | W26: 154 | Y26: 71 | Z26: 213 | AB26: 71 | AC26: 142
P27: 10.23 | Q27: 204.6 | S27: 23 | T27: 184 | V27: 23 | W27: 161 | Y27: 72 | Z27: 216 | AB27: 72 | AC27: 144
P28: 10.24 | Q28: 204.8 | S28: 24 | T28: 192 | V28: 24 | W28: 168 | Y28: 73 | Z28: 219 | AB28: 73 | AC28: 146
P29: 10.25 | Q29: 205 | S29: 25 | T29: 200 | V29: 25 | W29: 175 | Y29: 74 | Z29: 222 | AB29: 74 | AC29: 148
P30: 10.26 | Q30: 205.2 | S30: 26 | T30: 208 | V30: 26 | W30: 182 | Y30: 75 | Z30: 225 | AB30: 75 | AC30: 150
P31: 10.27 | Q31: 205.4 | S31: 27 | T31: 216 | V31: 27 | W31: 189 | Y31: 76 | Z31: 228 | AB31: 76 | AC31: 152
... P55: 10.51 | Q55: 210.2 | S55: 51 | T55: 408 | V55: 51 | W55: 357 | Y55: 100 | Z55: 300 | AB55: 100 | AC55: 200
P56: 10.52 | Q56: 210.4 | S56: 52 | T56: 416 | V56: 52 | W56: 364
P57: 10.53 | Q57: 210.6 | S57: 53 | T57: 424 | V57: 53 | W57: 371
P58: 10.54 | Q58: 210.8 | S58: 54 | T58: 432 | V58: 54 | W58: 378
P59: 10.55 | Q59: 211 | S59: 55 | T59: 440 | V59: 55 | W59: 385
P60: 10.56 | Q60: 211.2 | S60: 56 | T60: 448 | V60: 56 | W60: 392
P61: 10.57 | Q61: 211.4 | S61: 57 | T61: 456 | V61: 57 | W61: 399
P62: 10.58 | Q62: 211.6 | S62: 58 | T62: 464 | V62: 58 | W62: 406
P63: 10.59 | Q63: 211.8 | S63: 59 | T63: 472 | V63: 59 | W63: 413
P64: 10.6 | Q64: 212 | S64: 60 | T64: 480 | V64: 60 | W64: 420
...
