Workbook

Sheet Φύλλο1
A1: ΚΩΔ.ΘΕΣΗΣ 4 - ΤΕ ΠΛΗΡΟΦΟΡΙΚΗΣ
E2: (1) | F2: (2) | G2: (2Α) | H2: (3) | I2: (4) | J2: (5) | K2: (6)
A3: A/A | B3: ΑΡ.ΠΡΩΤ. | C3: ΕΠΩΝΥΜΟ | D3: ΟΝΟΜΑ | E3: ΧΡΟΝΟΣ ΑΝΕΡΓΙΑΣ | F3: ΠΟΛΥΤΕΚΝΟΣ Ή ΤΕΚΝΟ ΠΟΛΥΤΕΚΝΗΣ ΟΙΚΟΓΕΝΕΙΑΣ | G3: ΤΡΙΤΕΚΝΟΣ Ή ΤΕΚΝΟ ΤΡΙΤΕΚΝΗΣ | H3: ΑΝΗΛΙΚΑ ΤΕΚΝΑ | I3: ΓΟΝΕΑΣ Ή ΤΕΚΝΟ ΜΟΝΟΓΟΝΕΙΚΗΣ ΟΙΚΟΓΕΝΕΙΑΣ | J3: ΒΑΘΜΟΣ ΒΑΣΙΚΟΥ ΤΙΤΛΟΥ | K3: ΕΜΠΕΙΡΙΑ | L3: ΜΟΝΑΔΕΣ (1) | M3: ΜΟΝΑΔΕΣ (2) | N3: ΜΟΝΑΔΕΣ (2Α) | O3: ΜΟΝΑΔΕΣ (3) | P3: ΜΟΝΑΔΕΣ (4) | Q3: ΜΟΝΑΔΕΣ (5) | R3: ΜΟΝΑΔΕΣ (6)
A4: 9 | B4: 25298/15-04-2020 | C4: ΜΠΟΥΣΙΟΥΤΗ | D4: ΠΑΡΑΣΚΕΥΗ-ΧΡΙΣΤΙΝΑ | E4: 12 | F4: 0 | G4: 3 | H4: 3 | I4: 0 | J4: 6.93 | K4: 18 | L4: =VLOOKUP(E4,[1]Παράμετροι!$A$4:$B$16,2) -> 800 | M4: =VLOOKUP(F4,[1]Παράμετροι!$D$4:$E$19,2) -> 0 | N4: =VLOOKUP(G4,[1]Παράμετροι!$G$4:$H$7,2) -> 120 | O4: =VLOOKUP(H4,[1]Παράμετροι!$J$4:$K$7,2) -> 110 | P4: =VLOOKUP(I4,[1]Παράμετροι!$M$4:$N$14,2) -> 0 | Q4: 277.2 | R4: =VLOOKUP(K4,[1]Παράμετροι!$S$4:$T$64,2) -> 126 | S4: =SUM(L4:R4) -> 1433.2
A5: 5 | B5: 24358/10-4-2020 | C5: ΣΚΛΑΒΕΝΙΤΗ | D5: ΑΥΓΗ | E5: 9 | F5: 0 | G5: 0 | H5: 0 | I5: 0 | J5: 6.3 | K5: 37 | L5: =VLOOKUP(E5,[1]Παράμετροι!$A$4:$B$16,2) -> 575 | M5: =VLOOKUP(F5,[1]Παράμετροι!$D$4:$E$19,2) -> 0 | N5: =VLOOKUP(G5,[1]Παράμετροι!$G$4:$H$7,2) -> 0 | O5: =VLOOKUP(H5,[1]Παράμετροι!$J$4:$K$7,2) -> 0 | P5: =VLOOKUP(I5,[1]Παράμετροι!$M$4:$N$14,2) -> 0 | Q5: 252 | R5: =VLOOKUP(K5,[1]Παράμετροι!$S$4:$T$64,2) -> 259 | S5: =SUM(L5:R5) -> 1086
A6: 8 | B6: 25194/15-04-2020 | C6: ΚΩΣΤΟΓΙΑΝΝΗ | D6: ΠΑΝΑΓΙΩΤΑ | E6: 6 | F6: 0 | G6: 0 | H6: 0 | I6: 0 | J6: 6.56 | K6: 0 | L6: =VLOOKUP(E6,[1]Παράμετροι!$A$4:$B$16,2) -> 350 | M6: =VLOOKUP(F6,[1]Παράμετροι!$D$4:$E$19,2) -> 0 | N6: =VLOOKUP(G6,[1]Παράμετροι!$G$4:$H$7,2) -> 0 | O6: =VLOOKUP(H6,[1]Παράμετροι!$J$4:$K$7,2) -> 0 | P6: =VLOOKUP(I6,[1]Παράμετροι!$M$4:$N$14,2) -> 0 | Q6: 262.4 | R6: =VLOOKUP(K6,[1]Παράμετροι!$S$4:$T$64,2) -> 0 | S6: =SUM(L6:R6) -> 612.4
A7: 3 | B7: 24963/14-04-2020 | C7: ΣΙΑΧΟΥ | D7: ΑΘΗΝΑ | E7: 0 | F7: 0 | G7: 0 | H7: 0 | I7: 2 | J7: 6.85 | K7: 12 | L7: =VLOOKUP(E7,[1]Παράμετροι!$A$4:$B$16,2) -> 0 | M7: =VLOOKUP(F7,[1]Παράμετροι!$D$4:$E$19,2) -> 0 | N7: =VLOOKUP(G7,[1]Παράμετροι!$G$4:$H$7,2) -> 0 | O7: =VLOOKUP(H7,[1]Παράμετροι!$J$4:$K$7,2) -> 0 | P7: =VLOOKUP(I7,[1]Παράμετροι!$M$4:$N$14,2) -> 100 | Q7: 274 | R7: =VLOOKUP(K7,[1]Παράμετροι!$S$4:$T$64,2) -> 84 | S7: =SUM(L7:R7) -> 458
A8: 15 | B8: 25834/21-04-2020 | C8: ΑΡΟΓΛΟΥ | D8: ΟΛΓΑ | E8: 1 | F8: 0 | G8: 0 | H8: 0 | I8: 0 | J8: 7.17 | K8: 12 | L8: =VLOOKUP(E8,[1]Παράμετροι!$A$4:$B$16,2) -> 0 | M8: =VLOOKUP(F8,[1]Παράμετροι!$D$4:$E$19,2) -> 0 | N8: =VLOOKUP(G8,[1]Παράμετροι!$G$4:$H$7,2) -> 0 | O8: =VLOOKUP(H8,[1]Παράμετροι!$J$4:$K$7,2) -> 0 | P8: =VLOOKUP(I8,[1]Παράμετροι!$M$4:$N$14,2) -> 0 | Q8: 286.8 | R8: =VLOOKUP(K8,[1]Παράμετροι!$S$4:$T$64,2) -> 84 | S8: =SUM(L8:R8) -> 370.8
A9: 4 | B9: 24642/13-4-2020 | C9: ΣΚΑΡΤΣΟΥ | D9: ΑΝΤΙΓΟΝΗ | E9: 0 | F9: 0 | G9: 0 | H9: 0 | I9: 0 | J9: 6.73 | K9: 12 | L9: =VLOOKUP(E9,[1]Παράμετροι!$A$4:$B$16,2) -> 0 | M9: =VLOOKUP(F9,[1]Παράμετροι!$D$4:$E$19,2) -> 0 | N9: =VLOOKUP(G9,[1]Παράμετροι!$G$4:$H$7,2) -> 0 | O9: =VLOOKUP(H9,[1]Παράμετροι!$J$4:$K$7,2) -> 0 | P9: =VLOOKUP(I9,[1]Παράμετροι!$M$4:$N$14,2) -> 0 | Q9: 269.2 | R9: =VLOOKUP(K9,[1]Παράμετροι!$S$4:$T$64,2) -> 84 | S9: =SUM(L9:R9) -> 353.2
A10: 7 | B10: 25084/14-04-2020 | C10: ΚΑΣΤΑΝΑ | D10: ΑΙΚΑΤΕΡΙΝΗ | E10: 1 | F10: 0 | G10: 0 | H10: 0 | I10: 0 | J10: 6.51 | K10: 12 | L10: =VLOOKUP(E10,[1]Παράμετροι!$A$4:$B$16,2) -> 0 | M10: =VLOOKUP(F10,[1]Παράμετροι!$D$4:$E$19,2) -> 0 | N10: =VLOOKUP(G10,[1]Παράμετροι!$G$4:$H$7,2) -> 0 | O10: =VLOOKUP(H10,[1]Παράμετροι!$J$4:$K$7,2) -> 0 | P10: =VLOOKUP(I10,[1]Παράμετροι!$M$4:$N$14,2) -> 0 | Q10: 260.4 | R10: =VLOOKUP(K10,[1]Παράμετροι!$S$4:$T$64,2) -> 84 | S10: =SUM(L10:R10) -> 344.4
A11: 12 | B11: 25966/21-04-2020 | C11: ΚΟΡΟΛΗΣ | D11: ΓΕΩΡΓΙΟΣ | E11: 1 | F11: 0 | G11: 0 | H11: 0 | I11: 0 | J11: 6.08 | K11: 12 | L11: =VLOOKUP(E11,[1]Παράμετροι!$A$4:$B$16,2) -> 0 | M11: =VLOOKUP(F11,[1]Παράμετροι!$D$4:$E$19,2) -> 0 | N11: =VLOOKUP(G11,[1]Παράμετροι!$G$4:$H$7,2) -> 0 | O11: =VLOOKUP(H11,[1]Παράμετροι!$J$4:$K$7,2) -> 0 | P11: =VLOOKUP(I11,[1]Παράμετροι!$M$4:$N$14,2) -> 0 | Q11: 243.2 | R11: =VLOOKUP(K11,[1]Παράμετροι!$S$4:$T$64,2) -> 84 | S11: =SUM(L11:R11) -> 327.2
A12: 13 | B12: 25950/21-04-2020 | C12: ΜΠΕΛΕΣΙΩΤΗ | D12: ΓΕΩΡΓΙΑ | E12: 0 | F12: 0 | G12: 0 | H12: 0 | I12: 0 | J12: 7.88 | K12: 0 | L12: =VLOOKUP(E12,[1]Παράμετροι!$A$4:$B$16,2) -> 0 | M12: =VLOOKUP(F12,[1]Παράμετροι!$D$4:$E$19,2) -> 0 | N12: =VLOOKUP(G12,[1]Παράμετροι!$G$4:$H$7,2) -> 0 | O12: =VLOOKUP(H12,[1]Παράμετροι!$J$4:$K$7,2) -> 0 | P12: =VLOOKUP(I12,[1]Παράμετροι!$M$4:$N$14,2) -> 0 | Q12: 315.2 | R12: =VLOOKUP(K12,[1]Παράμετροι!$S$4:$T$64,2) -> 0 | S12: =SUM(L12:R12) -> 315.2
A13: 10 | B13: 25532/16-04-2020 | C13: ΓΑΙΤΑΝΗΣ | D13: ΚΩΝΣΤΑΝΤΙΝΟΣ | E13: 0 | F13: 0 | G13: 0 | H13: 0 | I13: 0 | J13: 6.32 | K13: 5 | L13: =VLOOKUP(E13,[1]Παράμετροι!$A$4:$B$16,2) -> 0 | M13: =VLOOKUP(F13,[1]Παράμετροι!$D$4:$E$19,2) -> 0 | N13: =VLOOKUP(G13,[1]Παράμετροι!$G$4:$H$7,2) -> 0 | O13: =VLOOKUP(H13,[1]Παράμετροι!$J$4:$K$7,2) -> 0 | P13: =VLOOKUP(I13,[1]Παράμετροι!$M$4:$N$14,2) -> 0 | Q13: 252.8 | R13: =VLOOKUP(K13,[1]Παράμετροι!$S$4:$T$64,2) -> 35 | S13: =SUM(L13:R13) -> 287.8
A14: 1 | B14: 25019/14-04-2020 | C14: ΜΠΕΛΕΣΗΣ | D14: ΙΩΑΝΝΗΣ | E14: 0 | F14: 0 | G14: 0 | H14: 0 | I14: 0 | J14: 6.11 | K14: 6 | L14: =VLOOKUP(E14,[1]Παράμετροι!$A$4:$B$16,2) -> 0 | M14: =VLOOKUP(F14,[1]Παράμετροι!$D$4:$E$19,2) -> 0 | N14: =VLOOKUP(G14,[1]Παράμετροι!$G$4:$H$7,2) -> 0 | O14: =VLOOKUP(H14,[1]Παράμετροι!$J$4:$K$7,2) -> 0 | P14: =VLOOKUP(I14,[1]Παράμετροι!$M$4:$N$14,2) -> 0 | Q14: 244.4 | R14: =VLOOKUP(K14,[1]Παράμετροι!$S$4:$T$64,2) -> 42 | S14: =SUM(L14:R14) -> 286.4
A15: 14 | B15: 25837/21-04-2020 | C15: ΠΑΠΑΣΠΥΡΟΥ | D15: ΒΑΣΙΛΕΙΟΣ | E15: 0 | F15: 0 | G15: 0 | H15: 0 | I15: 0 | J15: 6.14 | K15: 5 | L15: =VLOOKUP(E15,[1]Παράμετροι!$A$4:$B$16,2) -> 0 | M15: =VLOOKUP(F15,[1]Παράμετροι!$D$4:$E$19,2) -> 0 | N15: =VLOOKUP(G15,[1]Παράμετροι!$G$4:$H$7,2) -> 0 | O15: =VLOOKUP(H15,[1]Παράμετροι!$J$4:$K$7,2) -> 0 | P15: =VLOOKUP(I15,[1]Παράμετροι!$M$4:$N$14,2) -> 0 | Q15: 245.6 | R15: =VLOOKUP(K15,[1]Παράμετροι!$S$4:$T$64,2) -> 35 | S15: =SUM(L15:R15) -> 280.6
... A19: 2 | B19: 25033/14-04-2020 | C19: ΠΑΝΗΣ | D19: ΔΗΜΗΤΡΙΟΣ | E19: 0 | F19: 0 | G19: 0 | H19: 0 | I19: 0 | J19: 5.69 | K19: 0 | L19: =VLOOKUP(E19,[1]Παράμετροι!$A$4:$B$16,2) -> 0 | M19: =VLOOKUP(F19,[1]Παράμετροι!$D$4:$E$19,2) -> 0 | N19: =VLOOKUP(G19,[1]Παράμετροι!$G$4:$H$7,2) -> 0 | O19: =VLOOKUP(H19,[1]Παράμετροι!$J$4:$K$7,2) -> 0 | P19: =VLOOKUP(I19,[1]Παράμετροι!$M$4:$N$14,2) -> 0 | Q19: 227.6 | R19: =VLOOKUP(K19,[1]Παράμετροι!$S$4:$T$64,2) -> 0 | S19: =SUM(L19:R19) -> 227.6
