Workbook

Sheet ΠΕ 2 ΝΟ2
A1: ΚΩΔ.ΘΕΣΗΣ 2 - ΠΕ ΠΛΗΡΟΦΟΡΙΚΗΣ (ΟΡΘΗ ΕΠΑΝΑΛΗΨΗ)
E2: (1) | F2: (2) | G2: (2Α) | H2: (3) | I2: (4) | J2: (5) | K2: (6)
A3: A/A | B3: ΑΡ.ΠΡΩΤ. | C3: ΕΠΩΝΥΜΟ | D3: ΟΝΟΜΑ | E3: ΧΡΟΝΟΣ ΑΝΕΡΓΙΑΣ | F3: ΠΟΛΥΤΕΚΝΟΣ Ή ΤΕΚΝΟ ΠΟΛΥΤΕΚΝΗΣ ΟΙΚΟΓΕΝΕΙΑΣ | G3: ΤΡΙΤΕΚΝΟΣ Ή ΤΕΚΝΟ ΤΡΙΤΕΚΝΗΣ | H3: ΑΝΗΛΙΚΑ ΤΕΚΝΑ | I3: ΓΟΝΕΑΣ Ή ΤΕΚΝΟ ΜΟΝΟΓΟΝΕΙΚΗΣ ΟΙΚΟΓΕΝΕΙΑΣ | J3: ΒΑΘΜΟΣ ΒΑΣΙΚΟΥ ΤΙΤΛΟΥ | K3: ΕΜΠΕΙΡΙΑ | L3: ΜΟΝΑΔΕΣ (1) | M3: ΜΟΝΑΔΕΣ (2) | N3: ΜΟΝΑΔΕΣ (2Α) | O3: ΜΟΝΑΔΕΣ (3) | P3: ΜΟΝΑΔΕΣ (4) | Q3: ΜΟΝΑΔΕΣ (5) | R3: ΜΟΝΑΔΕΣ (6)
A4: 19 | B4: 25908/21-04-2020 | C4: ΠΑΠΠΑΣ | D4: ΔΗΜΟΣΘΕΝΗΣ | E4: 26 | F4: 0 | G4: 0 | H4: 0 | I4: 0 | J4: 7.45 | K4: 60 | L4: =VLOOKUP(E4,[1]Παράμετροι!$A$4:$B$16,2) -> 800 | M4: =VLOOKUP(F4,[1]Παράμετροι!$D$4:$E$19,2) -> 0 | N4: =VLOOKUP(G4,[1]Παράμετροι!$G$4:$H$7,2) -> 0 | O4: =VLOOKUP(H4,[1]Παράμετροι!$J$4:$K$7,2) -> 0 | P4: =VLOOKUP(I4,[1]Παράμετροι!$M$4:$N$14,2) -> 0 | Q4: =J4*40 -> 298 | R4: =VLOOKUP(K4,[1]Παράμετροι!$S$4:$T$64,2) -> 420 | S4: =SUM(L4:R4) -> 1518
A5: 4 | B5: 25717/16-04-2020 | C5: ΚΙΟΥΣΗΣ | D5: ΓΕΩΡΓΙΟΣ | E5: 12 | F5: 0 | G5: 0 | H5: 0 | I5: 0 | J5: 5 | K5: 60 | L5: =VLOOKUP(E5,[1]Παράμετροι!$A$4:$B$16,2) -> 800 | M5: =VLOOKUP(F5,[1]Παράμετροι!$D$4:$E$19,2) -> 0 | N5: =VLOOKUP(G5,[1]Παράμετροι!$G$4:$H$7,2) -> 0 | O5: =VLOOKUP(H5,[1]Παράμετροι!$J$4:$K$7,2) -> 0 | P5: =VLOOKUP(I5,[1]Παράμετροι!$M$4:$N$14,2) -> 0 | Q5: =J5*40 -> 200 | R5: =VLOOKUP(K5,[1]Παράμετροι!$S$4:$T$64,2) -> 420 | S5: =SUM(L5:R5) -> 1420
A6: 3 | B6: 25502/16-04-2020 | C6: ΓΕΩΡΓΙΑΔΗΣ | D6: ΓΕΩΡΓΙΟΣ | E6: 12 | F6: 0 | G6: 0 | H6: 0 | I6: 0 | J6: 7.18 | K6: 44 | L6: =VLOOKUP(E6,[1]Παράμετροι!$A$4:$B$16,2) -> 800 | M6: =VLOOKUP(F6,[1]Παράμετροι!$D$4:$E$19,2) -> 0 | N6: =VLOOKUP(G6,[1]Παράμετροι!$G$4:$H$7,2) -> 0 | O6: =VLOOKUP(H6,[1]Παράμετροι!$J$4:$K$7,2) -> 0 | P6: =VLOOKUP(I6,[1]Παράμετροι!$M$4:$N$14,2) -> 0 | Q6: =J6*40 -> 287.2 | R6: =VLOOKUP(K6,[1]Παράμετροι!$S$4:$T$64,2) -> 308 | S6: =SUM(L6:R6) -> 1395.2
A7: 5 | B7: 25503/16-04-2020 | C7: ΔΗΜΑΣ | D7: ΘΕΟΔΩΡΟΣ | E7: 12 | F7: 0 | G7: 0 | H7: 0 | I7: 0 | J7: 6.27 | K7: 25 | L7: =VLOOKUP(E7,[1]Παράμετροι!$A$4:$B$16,2) -> 800 | M7: =VLOOKUP(F7,[1]Παράμετροι!$D$4:$E$19,2) -> 0 | N7: =VLOOKUP(G7,[1]Παράμετροι!$G$4:$H$7,2) -> 0 | O7: =VLOOKUP(H7,[1]Παράμετροι!$J$4:$K$7,2) -> 0 | P7: =VLOOKUP(I7,[1]Παράμετροι!$M$4:$N$14,2) -> 0 | Q7: =J7*40 -> 250.8 | R7: =VLOOKUP(K7,[1]Παράμετροι!$S$4:$T$64,2) -> 175 | S7: =SUM(L7:R7) -> 1225.8
A8: 2 | B8: 25523/16-04-2020 | C8: ΛΑΠΠΑ | D8: ΑΘΑΝΑΣΙΑ | E8: 6 | F8: 0 | G8: 0 | H8: 0 | I8: 0 | J8: 5.91 | K8: 60 | L8: =VLOOKUP(E8,[1]Παράμετροι!$A$4:$B$16,2) -> 350 | M8: =VLOOKUP(F8,[1]Παράμετροι!$D$4:$E$19,2) -> 0 | N8: =VLOOKUP(G8,[1]Παράμετροι!$G$4:$H$7,2) -> 0 | O8: =VLOOKUP(H8,[1]Παράμετροι!$J$4:$K$7,2) -> 0 | P8: =VLOOKUP(I8,[1]Παράμετροι!$M$4:$N$14,2) -> 0 | Q8: =J8*40 -> 236.4 | R8: =VLOOKUP(K8,[1]Παράμετροι!$S$4:$T$64,2) -> 420 | S8: =SUM(L8:R8) -> 1006.4
A9: 10 | B9: 25397/15-04-2020 | C9: ΠΑΠΑΔΟΠΟΥΛΟΣ | D9: ΑΠΟΣΤΟΛΟΣ | E9: 5 | F9: 0 | G9: 0 | H9: 0 | I9: 0 | J9: 6.54 | K9: 20 | L9: =VLOOKUP(E9,[1]Παράμετροι!$A$4:$B$16,2) -> 275 | M9: =VLOOKUP(F9,[1]Παράμετροι!$D$4:$E$19,2) -> 0 | N9: =VLOOKUP(G9,[1]Παράμετροι!$G$4:$H$7,2) -> 0 | O9: =VLOOKUP(H9,[1]Παράμετροι!$J$4:$K$7,2) -> 0 | P9: =VLOOKUP(I9,[1]Παράμετροι!$M$4:$N$14,2) -> 0 | Q9: =J9*40 -> 261.6 | R9: =VLOOKUP(K9,[1]Παράμετροι!$S$4:$T$64,2) -> 140 | S9: =SUM(L9:R9) -> 676.6
A10: 16 | B10: 24446/13-04-2020 | C10: ΒΑΡΙΑΜΗ | D10: ΔΕΣΠΟΙΝΑ | E10: 1 | F10: 0 | G10: 0 | H10: 0 | I10: 0 | J10: 7.15 | K10: 12 | L10: =VLOOKUP(E10,[1]Παράμετροι!$A$4:$B$16,2) -> 0 | M10: =VLOOKUP(F10,[1]Παράμετροι!$D$4:$E$19,2) -> 0 | N10: =VLOOKUP(G10,[1]Παράμετροι!$G$4:$H$7,2) -> 0 | O10: =VLOOKUP(H10,[1]Παράμετροι!$J$4:$K$7,2) -> 0 | P10: =VLOOKUP(I10,[1]Παράμετροι!$M$4:$N$14,2) -> 0 | Q10: =J10*40 -> 286 | R10: =VLOOKUP(K10,[1]Παράμετροι!$S$4:$T$64,2) -> 84 | S10: =SUM(L10:R10) -> 370
A11: 7 | B11: 25071/14-04-2020 | C11: ΚΑΤΣΑΔΑΚΗ | D11: ΕΙΡΗΝΗ | E11: 0 | F11: 0 | G11: 0 | H11: 0 | I11: 0 | J11: 6.9 | K11: 12 | L11: =VLOOKUP(E11,[1]Παράμετροι!$A$4:$B$16,2) -> 0 | M11: =VLOOKUP(F11,[1]Παράμετροι!$D$4:$E$19,2) -> 0 | N11: =VLOOKUP(G11,[1]Παράμετροι!$G$4:$H$7,2) -> 0 | O11: =VLOOKUP(H11,[1]Παράμετροι!$J$4:$K$7,2) -> 0 | P11: =VLOOKUP(I11,[1]Παράμετροι!$M$4:$N$14,2) -> 0 | Q11: =J11*40 -> 276 | R11: =VLOOKUP(K11,[1]Παράμετροι!$S$4:$T$64,2) -> 84 | S11: =SUM(L11:R11) -> 360
A12: 6 | B12: 25249/15-04-2020 | C12: ΓΕΩΡΓΑΚΟΠΟΥΛΟΣ | D12: ΑΓΓΕΛΟΣ | E12: 0 | F12: 0 | G12: 0 | H12: 0 | I12: 0 | J12: 6.14 | K12: 12 | L12: =VLOOKUP(E12,[1]Παράμετροι!$A$4:$B$16,2) -> 0 | M12: =VLOOKUP(F12,[1]Παράμετροι!$D$4:$E$19,2) -> 0 | N12: =VLOOKUP(G12,[1]Παράμετροι!$G$4:$H$7,2) -> 0 | O12: =VLOOKUP(H12,[1]Παράμετροι!$J$4:$K$7,2) -> 0 | P12: =VLOOKUP(I12,[1]Παράμετροι!$M$4:$N$14,2) -> 0 | Q12: =J12*40 -> 245.6 | R12: =VLOOKUP(K12,[1]Παράμετροι!$S$4:$T$64,2) -> 84 | S12: =SUM(L12:R12) -> 329.6
A13: 1 | B13: 25668/16-04-2020 | C13: ΜΑΤΑΦΙΑΣ | D13: ΑΝΤΩΝΙΟΣ | E13: 0 | F13: 0 | G13: 0 | H13: 0 | I13: 0 | J13: 7.77 | K13: 0 | L13: =VLOOKUP(E13,[1]Παράμετροι!$A$4:$B$16,2) -> 0 | M13: =VLOOKUP(F13,[1]Παράμετροι!$D$4:$E$19,2) -> 0 | N13: =VLOOKUP(G13,[1]Παράμετροι!$G$4:$H$7,2) -> 0 | O13: =VLOOKUP(H13,[1]Παράμετροι!$J$4:$K$7,2) -> 0 | P13: =VLOOKUP(I13,[1]Παράμετροι!$M$4:$N$14,2) -> 0 | Q13: =J13*40 -> 310.8 | R13: =VLOOKUP(K13,[1]Παράμετροι!$S$4:$T$64,2) -> 0 | S13: =SUM(L13:R13) -> 310.8
A14: 9 | B14: 25326/15-04-2020 | C14: ΠΑΠΑΓΡΗΓΟΡΙΟΥ | D14: ΓΡΗΓΟΡΙΟΣ | E14: 0 | F14: 0 | G14: 0 | H14: 0 | I14: 0 | J14: 7.49 | K14: 0 | L14: =VLOOKUP(E14,[1]Παράμετροι!$A$4:$B$16,2) -> 0 | M14: =VLOOKUP(F14,[1]Παράμετροι!$D$4:$E$19,2) -> 0 | N14: =VLOOKUP(G14,[1]Παράμετροι!$G$4:$H$7,2) -> 0 | O14: =VLOOKUP(H14,[1]Παράμετροι!$J$4:$K$7,2) -> 0 | P14: =VLOOKUP(I14,[1]Παράμετροι!$M$4:$N$14,2) -> 0 | Q14: =J14*40 -> 299.6 | R14: =VLOOKUP(K14,[1]Παράμετροι!$S$4:$T$64,2) -> 0 | S14: =SUM(L14:R14) -> 299.6
A15: 15 | B15: 24870/14-04-2020 | C15: ΛΑΜΠΡΟΠΟΥΛΟΣ | D15: ΒΑΣΙΛΕΙΟΣ | E15: 0 | F15: 0 | G15: 0 | H15: 0 | I15: 0 | J15: 6.99 | K15: 2 | L15: =VLOOKUP(E15,[1]Παράμετροι!$A$4:$B$16,2) -> 0 | M15: =VLOOKUP(F15,[1]Παράμετροι!$D$4:$E$19,2) -> 0 | N15: =VLOOKUP(G15,[1]Παράμετροι!$G$4:$H$7,2) -> 0 | O15: =VLOOKUP(H15,[1]Παράμετροι!$J$4:$K$7,2) -> 0 | P15: =VLOOKUP(I15,[1]Παράμετροι!$M$4:$N$14,2) -> 0 | Q15: =J15*40 -> 279.6 | R15: =VLOOKUP(K15,[1]Παράμετροι!$S$4:$T$64,2) -> 14 | S15: =SUM(L15:R15) -> 293.6
... A18: 8 | B18: 25552/16-04-2020 | C18: ΓΑΣΤΟΥΝΙΩΤΗΣ | D18: ΔΗΜΗΤΡΙΟΣ | E18: 0 | F18: 0 | G18: 0 | H18: 0 | I18: 0 | J18: 6.62 | K18: 0 | L18: =VLOOKUP(E18,[1]Παράμετροι!$A$4:$B$16,2) -> 0 | M18: =VLOOKUP(F18,[1]Παράμετροι!$D$4:$E$19,2) -> 0 | N18: =VLOOKUP(G18,[1]Παράμετροι!$G$4:$H$7,2) -> 0 | O18: =VLOOKUP(H18,[1]Παράμετροι!$J$4:$K$7,2) -> 0 | P18: =VLOOKUP(I18,[1]Παράμετροι!$M$4:$N$14,2) -> 0 | Q18: =J18*40 -> 264.8 | R18: =VLOOKUP(K18,[1]Παράμετροι!$S$4:$T$64,2) -> 0 | S18: =SUM(L18:R18) -> 264.8
A20: 17 | L20: =VLOOKUP(E20,[1]Παράμετροι!$A$4:$B$16,2) -> 0 | M20: =VLOOKUP(F20,[1]Παράμετροι!$D$4:$E$19,2) -> 0 | N20: =VLOOKUP(G20,[1]Παράμετροι!$G$4:$H$7,2) -> 0 | O20: =VLOOKUP(H20,[1]Παράμετροι!$J$4:$K$7,2) -> 0 | P20: =VLOOKUP(I20,[1]Παράμετροι!$M$4:$N$14,2) -> 0 | Q20: =J20*40 -> 0 | R20: =VLOOKUP(K20,[1]Παράμετροι!$S$4:$T$64,2) -> 0 | S20: =SUM(L20:R20) -> 0
A21: 18 | L21: =VLOOKUP(E21,[1]Παράμετροι!$A$4:$B$16,2) -> 0 | M21: =VLOOKUP(F21,[1]Παράμετροι!$D$4:$E$19,2) -> 0 | N21: =VLOOKUP(G21,[1]Παράμετροι!$G$4:$H$7,2) -> 0 | O21: =VLOOKUP(H21,[1]Παράμετροι!$J$4:$K$7,2) -> 0 | P21: =VLOOKUP(I21,[1]Παράμετροι!$M$4:$N$14,2) -> 0 | Q21: =VLOOKUP(J21,[1]Παράμετροι!$P$4:$Q$1005,2) -> 0 | R21: =VLOOKUP(K21,[1]Παράμετροι!$S$4:$T$64,2) -> 0 | S21: =SUM(L21:R21) -> 0
A22: 19 | L22: =VLOOKUP(E22,[1]Παράμετροι!$A$4:$B$16,2) -> 0 | M22: =VLOOKUP(F22,[1]Παράμετροι!$D$4:$E$19,2) -> 0 | N22: =VLOOKUP(G22,[1]Παράμετροι!$G$4:$H$7,2) -> 0 | O22: =VLOOKUP(H22,[1]Παράμετροι!$J$4:$K$7,2) -> 0 | P22: =VLOOKUP(I22,[1]Παράμετροι!$M$4:$N$14,2) -> 0 | Q22: =VLOOKUP(J22,[1]Παράμετροι!$P$4:$Q$1005,2) -> 0 | R22: =VLOOKUP(K22,[1]Παράμετροι!$S$4:$T$64,2) -> 0 | S22: =SUM(L22:R22) -> 0
A23: 20 | L23: =VLOOKUP(E23,[1]Παράμετροι!$A$4:$B$16,2) -> 0 | M23: =VLOOKUP(F23,[1]Παράμετροι!$D$4:$E$19,2) -> 0 | N23: =VLOOKUP(G23,[1]Παράμετροι!$G$4:$H$7,2) -> 0 | O23: =VLOOKUP(H23,[1]Παράμετροι!$J$4:$K$7,2) -> 0 | P23: =VLOOKUP(I23,[1]Παράμετροι!$M$4:$N$14,2) -> 0 | Q23: =VLOOKUP(J23,[1]Παράμετροι!$P$4:$Q$1005,2) -> 0 | R23: =VLOOKUP(K23,[1]Παράμετροι!$S$4:$T$64,2) -> 0 | S23: =SUM(L23:R23) -> 0
A24: 21 | L24: =VLOOKUP(E24,[1]Παράμετροι!$A$4:$B$16,2) -> 0 | M24: =VLOOKUP(F24,[1]Παράμετροι!$D$4:$E$19,2) -> 0 | N24: =VLOOKUP(G24,[1]Παράμετροι!$G$4:$H$7,2) -> 0 | O24: =VLOOKUP(H24,[1]Παράμετροι!$J$4:$K$7,2) -> 0 | P24: =VLOOKUP(I24,[1]Παράμετροι!$M$4:$N$14,2) -> 0 | Q24: =VLOOKUP(J24,[1]Παράμετροι!$P$4:$Q$1005,2) -> 0 | R24: =VLOOKUP(K24,[1]Παράμετροι!$S$4:$T$64,2) -> 0 | S24: =SUM(L24:R24) -> 0
A25: 22 | L25: =VLOOKUP(E25,[1]Παράμετροι!$A$4:$B$16,2) -> 0 | M25: =VLOOKUP(F25,[1]Παράμετροι!$D$4:$E$19,2) -> 0 | N25: =VLOOKUP(G25,[1]Παράμετροι!$G$4:$H$7,2) -> 0 | O25: =VLOOKUP(H25,[1]Παράμετροι!$J$4:$K$7,2) -> 0 | P25: =VLOOKUP(I25,[1]Παράμετροι!$M$4:$N$14,2) -> 0 | Q25: =VLOOKUP(J25,[1]Παράμετροι!$P$4:$Q$1005,2) -> 0 | R25: =VLOOKUP(K25,[1]Παράμετροι!$S$4:$T$64,2) -> 0 | S25: =SUM(L25:R25) -> 0
A26: 23 | L26: =VLOOKUP(E26,[1]Παράμετροι!$A$4:$B$16,2) -> 0 | M26: =VLOOKUP(F26,[1]Παράμετροι!$D$4:$E$19,2) -> 0 | N26: =VLOOKUP(G26,[1]Παράμετροι!$G$4:$H$7,2) -> 0 | O26: =VLOOKUP(H26,[1]Παράμετροι!$J$4:$K$7,2) -> 0 | P26: =VLOOKUP(I26,[1]Παράμετροι!$M$4:$N$14,2) -> 0 | Q26: =VLOOKUP(J26,[1]Παράμετροι!$P$4:$Q$1005,2) -> 0 | R26: =VLOOKUP(K26,[1]Παράμετροι!$S$4:$T$64,2) -> 0 | S26: =SUM(L26:R26) -> 0
A27: 24 | L27: =VLOOKUP(E27,[1]Παράμετροι!$A$4:$B$16,2) -> 0 | M27: =VLOOKUP(F27,[1]Παράμετροι!$D$4:$E$19,2) -> 0 | N27: =VLOOKUP(G27,[1]Παράμετροι!$G$4:$H$7,2) -> 0 | O27: =VLOOKUP(H27,[1]Παράμετροι!$J$4:$K$7,2) -> 0 | P27: =VLOOKUP(I27,[1]Παράμετροι!$M$4:$N$14,2) -> 0 | Q27: =VLOOKUP(J27,[1]Παράμετροι!$P$4:$Q$1005,2) -> 0 | R27: =VLOOKUP(K27,[1]Παράμετροι!$S$4:$T$64,2) -> 0 | S27: =SUM(L27:R27) -> 0
A28: 26 | L28: =VLOOKUP(E28,[1]Παράμετροι!$A$4:$B$16,2) -> 0 | M28: =VLOOKUP(F28,[1]Παράμετροι!$D$4:$E$19,2) -> 0 | N28: =VLOOKUP(G28,[1]Παράμετροι!$G$4:$H$7,2) -> 0 | O28: =VLOOKUP(H28,[1]Παράμετροι!$J$4:$K$7,2) -> 0 | P28: =VLOOKUP(I28,[1]Παράμετροι!$M$4:$N$14,2) -> 0 | Q28: =VLOOKUP(J28,[1]Παράμετροι!$P$4:$Q$1005,2) -> 0 | R28: =VLOOKUP(K28,[1]Παράμετροι!$S$4:$T$64,2) -> 0 | S28: =SUM(L28:R28) -> 0
A29: 27 | L29: =VLOOKUP(E29,[1]Παράμετροι!$A$4:$B$16,2) -> 0 | M29: =VLOOKUP(F29,[1]Παράμετροι!$D$4:$E$19,2) -> 0 | N29: =VLOOKUP(G29,[1]Παράμετροι!$G$4:$H$7,2) -> 0 | O29: =VLOOKUP(H29,[1]Παράμετροι!$J$4:$K$7,2) -> 0 | P29: =VLOOKUP(I29,[1]Παράμετροι!$M$4:$N$14,2) -> 0 | Q29: =VLOOKUP(J29,[1]Παράμετροι!$P$4:$Q$1005,2) -> 0 | R29: =VLOOKUP(K29,[1]Παράμετροι!$S$4:$T$64,2) -> 0 | S29: =SUM(L29:R29) -> 0
A30: 28 | L30: =VLOOKUP(E30,[1]Παράμετροι!$A$4:$B$16,2) -> 0 | M30: =VLOOKUP(F30,[1]Παράμετροι!$D$4:$E$19,2) -> 0 | N30: =VLOOKUP(G30,[1]Παράμετροι!$G$4:$H$7,2) -> 0 | O30: =VLOOKUP(H30,[1]Παράμετροι!$J$4:$K$7,2) -> 0 | P30: =VLOOKUP(I30,[1]Παράμετροι!$M$4:$N$14,2) -> 0 | Q30: =VLOOKUP(J30,[1]Παράμετροι!$P$4:$Q$1005,2) -> 0 | R30: =VLOOKUP(K30,[1]Παράμετροι!$S$4:$T$64,2) -> 0 | S30: =SUM(L30:R30) -> 0
A31: 29 | L31: =VLOOKUP(E31,[1]Παράμετροι!$A$4:$B$16,2) -> 0 | M31: =VLOOKUP(F31,[1]Παράμετροι!$D$4:$E$19,2) -> 0 | N31: =VLOOKUP(G31,[1]Παράμετροι!$G$4:$H$7,2) -> 0 | O31: =VLOOKUP(H31,[1]Παράμετροι!$J$4:$K$7,2) -> 0 | P31: =VLOOKUP(I31,[1]Παράμετροι!$M$4:$N$14,2) -> 0 | Q31: =VLOOKUP(J31,[1]Παράμετροι!$P$4:$Q$1005,2) -> 0 | R31: =VLOOKUP(K31,[1]Παράμετροι!$S$4:$T$64,2) -> 0 | S31: =SUM(L31:R31) -> 0
A32: 30 | L32: =VLOOKUP(E32,[1]Παράμετροι!$A$4:$B$16,2) -> 0 | M32: =VLOOKUP(F32,[1]Παράμετροι!$D$4:$E$19,2) -> 0 | N32: =VLOOKUP(G32,[1]Παράμετροι!$G$4:$H$7,2) -> 0 | O32: =VLOOKUP(H32,[1]Παράμετροι!$J$4:$K$7,2) -> 0 | P32: =VLOOKUP(I32,[1]Παράμετροι!$M$4:$N$14,2) -> 0 | Q32: =VLOOKUP(J32,[1]Παράμετροι!$P$4:$Q$1005,2) -> 0 | R32: =VLOOKUP(K32,[1]Παράμετροι!$S$4:$T$64,2) -> 0 | S32: =SUM(L32:R32) -> 0
... A102: 100 | L102: =VLOOKUP(E102,[1]Παράμετροι!$A$4:$B$16,2) -> 0 | M102: =VLOOKUP(F102,[1]Παράμετροι!$D$4:$E$19,2) -> 0 | N102: =VLOOKUP(G102,[1]Παράμετροι!$G$4:$H$7,2) -> 0 | O102: =VLOOKUP(H102,[1]Παράμετροι!$J$4:$K$7,2) -> 0 | P102: =VLOOKUP(I102,[1]Παράμετροι!$M$4:$N$14,2) -> 0 | Q102: =VLOOKUP(J102,[1]Παράμετροι!$P$4:$Q$1005,2) -> 0 | R102: =VLOOKUP(K102,[1]Παράμετροι!$S$4:$T$64,2) -> 0 | S102: =SUM(L102:R102) -> 0
